{"text_format":"3","workbook":"xlsx","n_sheets":15,"sheets":["Final Delta","Pre Delta","Post Delta","From Labview","Sheet1","FR - Smoothed DUTL Left","FR - Smoothed DUTL Right","FR - Smoothed DUTL Mic1","FR - Smoothed DUTL Mic2","FR - Smoothed DUTL Mic3","FR - Smoothed DUTL Mic4","FR - Smoothed Self DUTL Mic1","FR - Smoothed Self DUTL Mic2","FR - Smoothed Self DUTL Mic3","FR - Smoothed Self DUTL Mic4"],"not_rendered":{"charts":1,"external_links":1},"read":"whole","date_system":"1900"}

{"sheet":"Final Delta","index":0,"n_rows":109,"n_cols":23,"rows_kept":109,"merged":[[0,0,0,10],[0,12,0,22]]}
["From Json",{"$nulls":11},"From Labview"]
[{"$f":"'Pre Delta'!A1","v":"Frequecy"},{"$f":"'Pre Delta'!B1","v":"DTUL L"},{"$f":"'Pre Delta'!C1","v":"DTUL R"},{"$f":"'Pre Delta'!D1","v":"Mic1"},{"$f":"'Pre Delta'!E1","v":"Mic2"},{"$f":"'Pre Delta'!F1","v":"Mic3"},{"$f":"'Pre Delta'!G1","v":"Mic4"},{"$f":"'Pre Delta'!H1","v":"Self Mic1"},{"$f":"'Pre Delta'!I1","v":"Self Mic2"},{"$f":"'Pre Delta'!J1","v":"Self Mic3"},{"$f":"'Pre Delta'!K1","v":"Self Mic4"},null,{"$f":"'From Labview'!AG1","v":"Frequency"},{"$f":"'From Labview'!D1","v":"FR - Smoothed DUTL Left(Post - Pre)"},{"$f":"'From Labview'!H1","v":"FR - Smoothed DUTL Right(Post - Pre)"},{"$f":"'From Labview'!L1","v":"FR - Smoothed DUTL Mic1(Post - Pre)"},{"$f":"'From Labview'!P1","v":"FR - Smoothed DUTL Mic2(Post - Pre)"},{"$f":"'From Labview'!S1","v":"FR - Smoothed DUTL Mic3(Post-Delta)"},{"$f":"'From Labview'!X1","v":"FR - Smoothed DUTL Mic4(Post - Pre)"},{"$f":"'From Labview'!AB1","v":"FR - Smoothed Self DUTL Mic1(Post - Pre)"},{"$f":"'From Labview'!AF1","v":"FR - Smoothed Self DUTL Mic2(Post - Pre)"},{"$f":"'From Labview'!AJ1","v":"FR - Smoothed Self DUTL Mic3(Post - Pre)"},{"$f":"'From Labview'!AN1","v":"FR - Smoothed Self DUTL Mic4(Post - Pre)"}]
[{"$f":"'Pre Delta'!A2","v":50},{"$f":"'Post Delta'!B2-'Pre Delta'!B2","v":-0.16259999999999764},{"$f":"'Post Delta'!C2-'Pre Delta'!C2","v":0.04749999999999943},{"$f":"'Post Delta'!D2-'Pre Delta'!D2","v":0.11910000000000309},{"$f":"'Post Delta'!E2-'Pre Delta'!E2","v":0.12940000000000396},{"$f":"'Post Delta'!F2-'Pre Delta'!F2","v":0.11549999999999727},{"$f":"'Post Delta'!G2-'Pre Delta'!G2","v":0.12779999999999347},{"$f":"'Post Delta'!H2-'Pre Delta'!H2","v":0.22620000000001994},{"$f":"'Post Delta'!I2-'Pre Delta'!I2","v":0.26379999999998915},{"$f":"'Post Delta'!J2-'Pre Delta'!J2","v":0.28079999999997085},{"$f":"'Post Delta'!K2-'Pre Delta'!K2","v":0.25770000000001403},null,{"$f":"'From Labview'!AG2","v":50},{"$f":"'From Labview'!D2","v":-0.163},{"$f":"'From Labview'!H2","v":0.047},{"$f":"'From Labview'!L2","v":0.119},{"$f":"'From Labview'!P2","v":0.129},{"$f":"'From Labview'!S2","v":-0.103},{"$f":"'From Labview'!X2","v":0.128},{"$f":"'From Labview'!AB2","v":0.226},{"$f":"'From Labview'!AF2","v":0.264},{"$f":"'From Labview'!AJ2","v":0.281},{"$f":"'From Labview'!AN2","v":0.258}]
[{"$f":"'Pre Delta'!A3","v":53},{"$f":"'Post Delta'!B3-'Pre Delta'!B3","v":0.1886999999999972},{"$f":"'Post Delta'!C3-'Pre Delta'!C3","v":0.20309999999999206},{"$f":"'Post Delta'!D3-'Pre Delta'!D3","v":0.09720000000001505},{"$f":"'Post Delta'!E3-'Pre Delta'!E3","v":0.1145999999999816},{"$f":"'Post Delta'!F3-'Pre Delta'!F3","v":0.10119999999999152},{"$f":"'Post Delta'!G3-'Pre Delta'!G3","v":0.11420000000001096},{"$f":"'Post Delta'!H3-'Pre Delta'!H3","v":0.2762000000000171},{"$f":"'Post Delta'!I3-'Pre Delta'!I3","v":0.34429999999998984},{"$f":"'Post Delta'!J3-'Pre Delta'!J3","v":0.29000000000000625},{"$f":"'Post Delta'!K3-'Pre Delta'!K3","v":0.3263999999999925},null,{"$f":"'From Labview'!AG3","v":53},{"$f":"'From Labview'!D3","v":0.189},{"$f":"'From Labview'!H3","v":0.203},{"$f":"'From Labview'!L3","v":0.097},{"$f":"'From Labview'!P3","v":0.115},{"$f":"'From Labview'!S3","v":-0.118},{"$f":"'From Labview'!X3","v":0.114},{"$f":"'From Labview'!AB3","v":0.276},{"$f":"'From Labview'!AF3","v":0.344},{"$f":"'From Labview'!AJ3","v":0.29},{"$f":"'From Labview'!AN3","v":0.326}]
[{"$f":"'Pre Delta'!A4","v":56},{"$f":"'Post Delta'!B4-'Pre Delta'!B4","v":0.23939999999998918},{"$f":"'Post Delta'!C4-'Pre Delta'!C4","v":0.23090000000000543},{"$f":"'Post Delta'!D4-'Pre Delta'!D4","v":0.06979999999998654},{"$f":"'Post Delta'!E4-'Pre Delta'!E4","v":0.10200000000000387},{"$f":"'Post Delta'!F4-'Pre Delta'!F4","v":0.09019999999998163},{"$f":"'Post Delta'!G4-'Pre Delta'!G4","v":0.10140000000001237},{"$f":"'Post Delta'!H4-'Pre Delta'!H4","v":0.3036999999999921},{"$f":"'Post Delta'!I4-'Pre Delta'!I4","v":0.39160000000001105},{"$f":"'Post Delta'!J4-'Pre Delta'!J4","v":0.3013999999999868},{"$f":"'Post Delta'!K4-'Pre Delta'!K4","v":0.3667999999999978},null,{"$f":"'From Labview'!AG4","v":56},{"$f":"'From Labview'!D4","v":0.239},{"$f":"'From Labview'!H4","v":0.231},{"$f":"'From Labview'!L4","v":0.07},{"$f":"'From Labview'!P4","v":0.102},{"$f":"'From Labview'!S4","v":-0.127},{"$f":"'From Labview'!X4","v":0.101},{"$f":"'From Labview'!AB4","v":0.304},{"$f":"'From Labview'!AF4","v":0.392},{"$f":"'From Labview'!AJ4","v":0.301},{"$f":"'From Labview'!AN4","v":0.367}]
[{"$f":"'Pre Delta'!A5","v":60},{"$f":"'Post Delta'!B5-'Pre Delta'!B5","v":0.2616999999999905},{"$f":"'Post Delta'!C5-'Pre Delta'!C5","v":0.23730000000000473},{"$f":"'Post Delta'!D5-'Pre Delta'!D5","v":0.012500000000002842},{"$f":"'Post Delta'!E5-'Pre Delta'!E5","v":0.08329999999999416},{"$f":"'Post Delta'!F5-'Pre Delta'!F5","v":0.06979999999998654},{"$f":"'Post Delta'!G5-'Pre Delta'!G5","v":0.0800000000000125},{"$f":"'Post Delta'!H5-'Pre Delta'!H5","v":0.3246999999999787},{"$f":"'Post Delta'!I5-'Pre Delta'!I5","v":0.43370000000001596},{"$f":"'Post Delta'!J5-'Pre Delta'!J5","v":0.31569999999999254},{"$f":"'Post Delta'!K5-'Pre Delta'!K5","v":0.40209999999999013},null,{"$f":"'From Labview'!AG5","v":60},{"$f":"'From Labview'!D5","v":0.262},{"$f":"'From Labview'!H5","v":0.237},{"$f":"'From Labview'!L5","v":0.013},{"$f":"'From Labview'!P5","v":0.083},{"$f":"'From Labview'!S5","v":-0.142},{"$f":"'From Labview'!X5","v":0.08},{"$f":"'From Labview'!AB5","v":0.325},{"$f":"'From Labview'!AF5","v":0.434},{"$f":"'From Labview'!AJ5","v":0.316},{"$f":"'From Labview'!AN5","v":0.402}]
[{"$f":"'Pre Delta'!A6","v":63},{"$f":"'Post Delta'!B6-'Pre Delta'!B6","v":0.24119999999997788},{"$f":"'Post Delta'!C6-'Pre Delta'!C6","v":0.22169999999999845},{"$f":"'Post Delta'!D6-'Pre Delta'!D6","v":-0.039900000000017144},{"$f":"'Post Delta'!E6-'Pre Delta'!E6","v":0.06910000000000593},{"$f":"'Post Delta'!F6-'Pre Delta'!F6","v":0.052700000000015734},{"$f":"'Post Delta'!G6-'Pre Delta'!G6","v":0.06239999999999668},{"$f":"'Post Delta'!H6-'Pre Delta'!H6","v":0.27530000000000143},{"$f":"'Post Delta'!I6-'Pre Delta'!I6","v":0.4053000000000111},{"$f":"'Post Delta'!J6-'Pre Delta'!J6","v":0.26719999999998834},{"$f":"'Post Delta'!K6-'Pre Delta'!K6","v":0.3662000000000063},null,{"$f":"'From Labview'!AG6","v":63},{"$f":"'From Labview'!D6","v":0.241},{"$f":"'From Labview'!H6","v":0.222},{"$f":"'From Labview'!L6","v":-0.04},{"$f":"'From Labview'!P6","v":0.069},{"$f":"'From Labview'!S6","v":-0.148},{"$f":"'From Labview'!X6","v":0.062},{"$f":"'From Labview'!AB6","v":0.275},{"$f":"'From Labview'!AF6","v":0.405},{"$f":"'From Labview'!AJ6","v":0.267},{"$f":"'From Labview'!AN6","v":0.366}]
[{"$f":"'Pre Delta'!A7","v":67},{"$f":"'Post Delta'!B7-'Pre Delta'!B7","v":0.2056999999999647},{"$f":"'Post Delta'!C7-'Pre Delta'!C7","v":0.1969999999999743},{"$f":"'Post Delta'!D7-'Pre Delta'!D7","v":-0.06359999999997967},{"$f":"'Post Delta'!E7-'Pre Delta'!E7","v":0.06590000000001339},{"$f":"'Post Delta'!F7-'Pre Delta'!F7","v":0.0455999999999932},{"$f":"'Post Delta'!G7-'Pre Delta'!G7","v":0.055900000000008276},{"$f":"'Post Delta'!H7-'Pre Delta'!H7","v":0.16839999999999122},{"$f":"'Post Delta'!I7-'Pre Delta'!I7","v":0.2892000000000081},{"$f":"'Post Delta'!J7-'Pre Delta'!J7","v":0.16610000000000014},{"$f":"'Post Delta'!K7-'Pre Delta'!K7","v":0.254099999999994},null,{"$f":"'From Labview'!AG7","v":67},{"$f":"'From Labview'!D7","v":0.206},{"$f":"'From Labview'!H7","v":0.197},{"$f":"'From Labview'!L7","v":-0.064},{"$f":"'From Labview'!P7","v":0.066},{"$f":"'From Labview'!S7","v":-0.141},{"$f":"'From Labview'!X7","v":0.056},{"$f":"'From Labview'!AB7","v":0.168},{"$f":"'From Labview'!AF7","v":0.289},{"$f":"'From Labview'!AJ7","v":0.166},{"$f":"'From Labview'!AN7","v":0.254}]
[{"$f":"'Pre Delta'!A8","v":71},{"$f":"'Post Delta'!B8-'Pre Delta'!B8","v":0.166499999999985},{"$f":"'Post Delta'!C8-'Pre Delta'!C8","v":0.16660000000001673},{"$f":"'Post Delta'!D8-'Pre Delta'!D8","v":-0.045199999999994134},{"$f":"'Post Delta'!E8-'Pre Delta'!E8","v":0.0589999999999975},{"$f":"'Post Delta'!F8-'Pre Delta'!F8","v":0.039299999999983015},{"$f":"'Post Delta'!G8-'Pre Delta'!G8","v":0.048900000000003274},{"$f":"'Post Delta'!H8-'Pre Delta'!H8","v":0.07529999999998438},{"$f":"'Post Delta'!I8-'Pre Delta'!I8","v":0.16729999999999734},{"$f":"'Post Delta'!J8-'Pre Delta'!J8","v":0.07890000000000441},{"$f":"'Post Delta'!K8-'Pre Delta'!K8","v":0.13979999999999393},null,{"$f":"'From Labview'!AG8","v":71},{"$f":"'From Labview'!D8","v":0.166},{"$f":"'From Labview'!H8","v":0.167},{"$f":"'From Labview'!L8","v":-0.045},{"$f":"'From Labview'!P8","v":0.059},{"$f":"'From Labview'!S8","v":-0.134},{"$f":"'From Labview'!X8","v":0.049},{"$f":"'From Labview'!AB8","v":0.075},{"$f":"'From Labview'!AF8","v":0.167},{"$f":"'From Labview'!AJ8","v":0.079},{"$f":"'From Labview'!AN8","v":0.14}]
[{"$f":"'Pre Delta'!A9","v":75},{"$f":"'Post Delta'!B9-'Pre Delta'!B9","v":0.1256999999999806},{"$f":"'Post Delta'!C9-'Pre Delta'!C9","v":0.14419999999999789},{"$f":"'Post Delta'!D9-'Pre Delta'!D9","v":-0.024499999999989086},{"$f":"'Post Delta'!E9-'Pre Delta'!E9","v":0.039900000000017144},{"$f":"'Post Delta'!F9-'Pre Delta'!F9","v":0.024199999999993338},{"$f":"'Post Delta'!G9-'Pre Delta'!G9","v":0.030399999999985994},{"$f":"'Post Delta'!H9-'Pre Delta'!H9","v":0.022700000000000387},{"$f":"'Post Delta'!I9-'Pre Delta'!I9","v":0.0864999999999867},{"$f":"'Post Delta'!J9-'Pre Delta'!J9","v":0.028800000000003934},{"$f":"'Post Delta'!K9-'Pre Delta'!K9","v":0.06459999999998445},null,{"$f":"'From Labview'!AG9","v":75},{"$f":"'From Labview'!D9","v":0.126},{"$f":"'From Labview'!H9","v":0.144},{"$f":"'From Labview'!L9","v":-0.024},{"$f":"'From Labview'!P9","v":0.04},{"$f":"'From Labview'!S9","v":-0.143},{"$f":"'From Labview'!X9","v":0.03},{"$f":"'From Labview'!AB9","v":0.023},{"$f":"'From Labview'!AF9","v":0.086},{"$f":"'From Labview'!AJ9","v":0.029},{"$f":"'From Labview'!AN9","v":0.065}]
[{"$f":"'Pre Delta'!A10","v":80},{"$f":"'Post Delta'!B10-'Pre Delta'!B10","v":0.10479999999996892},{"$f":"'Post Delta'!C10-'Pre Delta'!C10","v":0.12569999999999482},{"$f":"'Post Delta'!D10-'Pre Delta'!D10","v":-0.021399999999999864},{"$f":"'Post Delta'!E10-'Pre Delta'!E10","v":0.0186000000000206},{"$f":"'Post Delta'!F10-'Pre Delta'!F10","v":0.00760000000002492},{"$f":"'Post Delta'!G10-'Pre Delta'!G10","v":0.012000000000014666},{"$f":"'Post Delta'!H10-'Pre Delta'!H10","v":9.99999999891088e-05},{"$f":"'Post Delta'!I10-'Pre Delta'!I10","v":0.04009999999999536},{"$f":"'Post Delta'!J10-'Pre Delta'!J10","v":0.005200000000016303},{"$f":"'Post Delta'!K10-'Pre Delta'!K10","v":0.023100000000027876},null,{"$f":"'From Labview'!AG10","v":80},{"$f":"'From Labview'!D10","v":0.105},{"$f":"'From Labview'!H10","v":0.126},{"$f":"'From Labview'!L10","v":-0.021},{"$f":"'From Labview'!P10","v":0.019},{"$f":"'From Labview'!S10","v":-0.166},{"$f":"'From Labview'!X10","v":0.012},{"$f":"'From Labview'!AB10","v":0},{"$f":"'From Labview'!AF10","v":0.04},{"$f":"'From Labview'!AJ10","v":0.005},{"$f":"'From Labview'!AN10","v":0.023}]
[{"$f":"'Pre Delta'!A11","v":85},{"$f":"'Post Delta'!B11-'Pre Delta'!B11","v":0.09189999999998122},{"$f":"'Post Delta'!C11-'Pre Delta'!C11","v":0.10029999999999006},{"$f":"'Post Delta'!D11-'Pre Delta'!D11","v":-0.011899999999997135},{"$f":"'Post Delta'!E11-'Pre Delta'!E11","v":0.008299999999991314},{"$f":"'Post Delta'!F11-'Pre Delta'!F11","v":-3.9999999999906777E-4},{"$f":"'Post Delta'!G11-'Pre Delta'!G11","v":0.002200000000001978},{"$f":"'Post Delta'!H11-'Pre Delta'!H11","v":-0.014100000000013324},{"$f":"'Post Delta'!I11-'Pre Delta'!I11","v":0.013300000000000978},{"$f":"'Post Delta'!J11-'Pre Delta'!J11","v":-0.013100000000036971},{"$f":"'Post Delta'!K11-'Pre Delta'!K11","v":-0.005899999999996908},null,{"$f":"'From Labview'!AG11","v":85},{"$f":"'From Labview'!D11","v":0.092},{"$f":"'From Labview'!H11","v":0.1},{"$f":"'From Labview'!L11","v":-0.012},{"$f":"'From Labview'!P11","v":0.008},{"$f":"'From Labview'!S11","v":-0.178},{"$f":"'From Labview'!X11","v":2E-3},{"$f":"'From Labview'!AB11","v":-0.014},{"$f":"'From Labview'!AF11","v":0.013},{"$f":"'From Labview'!AJ11","v":-0.013},{"$f":"'From Labview'!AN11","v":-0.006}]
[{"$f":"'Pre Delta'!A12","v":90},{"$f":"'Post Delta'!B12-'Pre Delta'!B12","v":0.06550000000000011},{"$f":"'Post Delta'!C12-'Pre Delta'!C12","v":0.058000000000006935},{"$f":"'Post Delta'!D12-'Pre Delta'!D12","v":-3.3999999999991815E-3},{"$f":"'Post Delta'!E12-'Pre Delta'!E12","v":0.017600000000015825},{"$f":"'Post Delta'!F12-'Pre Delta'!F12","v":0.010000000000005116},{"$f":"'Post Delta'!G12-'Pre Delta'!G12","v":0.01279999999999859},{"$f":"'Post Delta'!H12-'Pre Delta'!H12","v":-0.02559999999999718},{"$f":"'Post Delta'!I12-'Pre Delta'!I12","v":-0.01120000000001653},{"$f":"'Post Delta'!J12-'Pre Delta'!J12","v":-0.03159999999999741},{"$f":"'Post Delta'!K12-'Pre Delta'!K12","v":-0.03609999999999047},null,{"$f":"'From Labview'!AG12","v":90},{"$f":"'From Labview'!D12","v":0.065},{"$f":"'From Labview'!H12","v":0.058},{"$f":"'From Labview'!L12","v":-0.003},{"$f":"'From Labview'!P12","v":0.018},{"$f":"'From Labview'!S12","v":-0.163},{"$f":"'From Labview'!X12","v":0.013},{"$f":"'From Labview'!AB12","v":-0.026},{"$f":"'From Labview'!AF12","v":-0.011},{"$f":"'From Labview'!AJ12","v":-0.032},{"$f":"'From Labview'!AN12","v":-0.036}]
[{"$f":"'Pre Delta'!A13","v":95},{"$f":"'Post Delta'!B13-'Pre Delta'!B13","v":0.045200000000008345},{"$f":"'Post Delta'!C13-'Pre Delta'!C13","v":0.023200000000002774},{"$f":"'Post Delta'!D13-'Pre Delta'!D13","v":0.015600000000006276},{"$f":"'Post Delta'!E13-'Pre Delta'!E13","v":0.04470000000000596},{"$f":"'Post Delta'!F13-'Pre Delta'!F13","v":0.03750000000003695},{"$f":"'Post Delta'!G13-'Pre Delta'!G13","v":0.04290000000000305},{"$f":"'Post Delta'!H13-'Pre Delta'!H13","v":-0.022699999999986176},{"$f":"'Post Delta'!I13-'Pre Delta'!I13","v":-0.013300000000000978},{"$f":"'Post Delta'!J13-'Pre Delta'!J13","v":-0.03530000000000655},{"$f":"'Post Delta'!K13-'Pre Delta'!K13","v":-0.047300000000021214},null,{"$f":"'From Labview'!AG13","v":95},{"$f":"'From Labview'!D13","v":0.045},{"$f":"'From Labview'!H13","v":0.023},{"$f":"'From Labview'!L13","v":0.016},{"$f":"'From Labview'!P13","v":0.045},{"$f":"'From Labview'!S13","v":-0.141},{"$f":"'From Labview'!X13","v":0.043},{"$f":"'From Labview'!AB13","v":-0.023},{"$f":"'From Labview'!AF13","v":-0.013},{"$f":"'From Labview'!AJ13","v":-0.035},{"$f":"'From Labview'!AN13","v":-0.047}]
[{"$f":"'Pre Delta'!A14","v":100},{"$f":"'Post Delta'!B14-'Pre Delta'!B14","v":0.03909999999999059},{"$f":"'Post Delta'!C14-'Pre Delta'!C14","v":0.017900000000025784},{"$f":"'Post Delta'!D14-'Pre Delta'!D14","v":0.06410000000001048},{"$f":"'Post Delta'!E14-'Pre Delta'!E14","v":0.09029999999999916},{"$f":"'Post Delta'!F14-'Pre Delta'!F14","v":0.07929999999998927},{"$f":"'Post Delta'!G14-'Pre Delta'!G14","v":0.09170000000001721},{"$f":"'Post Delta'!H14-'Pre Delta'!H14","v":0.023099999999999454},{"$f":"'Post Delta'!I14-'Pre Delta'!I14","v":0.04830000000002599},{"$f":"'Post Delta'!J14-'Pre Delta'!J14","v":0.006899999999987472},{"$f":"'Post Delta'!K14-'Pre Delta'!K14","v":0.002900000000011005},null,{"$f":"'From Labview'!AG14","v":100},{"$f":"'From Labview'!D14","v":0.039},{"$f":"'From Labview'!H14","v":0.018},{"$f":"'From Labview'!L14","v":0.064},{"$f":"'From Labview'!P14","v":0.09},{"$f":"'From Labview'!S14","v":-0.119},{"$f":"'From Labview'!X14","v":0.092},{"$f":"'From Labview'!AB14","v":0.023},{"$f":"'From Labview'!AF14","v":0.048},{"$f":"'From Labview'!AJ14","v":0.007},{"$f":"'From Labview'!AN14","v":0.003}]
[{"$f":"'Pre Delta'!A15","v":106},{"$f":"'Post Delta'!B15-'Pre Delta'!B15","v":0.03180000000000405},{"$f":"'Post Delta'!C15-'Pre Delta'!C15","v":0.04219999999999402},{"$f":"'Post Delta'!D15-'Pre Delta'!D15","v":0.10720000000000596},{"$f":"'Post Delta'!E15-'Pre Delta'!E15","v":0.12120000000000175},{"$f":"'Post Delta'!F15-'Pre Delta'!F15","v":0.10140000000001237},{"$f":"'Post Delta'!G15-'Pre Delta'!G15","v":0.11979999999999791},{"$f":"'Post Delta'!H15-'Pre Delta'!H15","v":0.0969000000000193},{"$f":"'Post Delta'!I15-'Pre Delta'!I15","v":0.17300000000001603},{"$f":"'Post Delta'!J15-'Pre Delta'!J15","v":0.07860000000000866},{"$f":"'Post Delta'!K15-'Pre Delta'!K15","v":0.11969999999999459},null,{"$f":"'From Labview'!AG15","v":106},{"$f":"'From Labview'!D15","v":0.032},{"$f":"'From Labview'!H15","v":0.042},{"$f":"'From Labview'!L15","v":0.107},{"$f":"'From Labview'!P15","v":0.121},{"$f":"'From Labview'!S15","v":-0.11},{"$f":"'From Labview'!X15","v":0.12},{"$f":"'From Labview'!AB15","v":0.097},{"$f":"'From Labview'!AF15","v":0.173},{"$f":"'From Labview'!AJ15","v":0.079},{"$f":"'From Labview'!AN15","v":0.12}]
[{"$f":"'Pre Delta'!A16","v":112},{"$f":"'Post Delta'!B16-'Pre Delta'!B16","v":0.03390000000003113},{"$f":"'Post Delta'!C16-'Pre Delta'!C16","v":0.09449999999999648},{"$f":"'Post Delta'!D16-'Pre Delta'!D16","v":0.0858000000000203},{"$f":"'Post Delta'!E16-'Pre Delta'!E16","v":0.08959999999999013},{"$f":"'Post Delta'!F16-'Pre Delta'!F16","v":0.06399999999999295},{"$f":"'Post Delta'!G16-'Pre Delta'!G16","v":0.0840000000000316},{"$f":"'Post Delta'!H16-'Pre Delta'!H16","v":0.13589999999997815},{"$f":"'Post Delta'!I16-'Pre Delta'!I16","v":0.267099999999985},{"$f":"'Post Delta'!J16-'Pre Delta'!J16","v":0.12199999999999989},{"$f":"'Post Delta'!K16-'Pre Delta'!K16","v":0.21079999999999188},null,{"$f":"'From Labview'!AG16","v":112},{"$f":"'From Labview'!D16","v":0.034},{"$f":"'From Labview'!H16","v":0.095},{"$f":"'From Labview'!L16","v":0.086},{"$f":"'From Labview'!P16","v":0.09},{"$f":"'From Labview'!S16","v":-0.128},{"$f":"'From Labview'!X16","v":0.084},{"$f":"'From Labview'!AB16","v":0.136},{"$f":"'From Labview'!AF16","v":0.267},{"$f":"'From Labview'!AJ16","v":0.122},{"$f":"'From Labview'!AN16","v":0.211}]
[{"$f":"'Pre Delta'!A17","v":118},{"$f":"'Post Delta'!B17-'Pre Delta'!B17","v":0.05190000000000339},{"$f":"'Post Delta'!C17-'Pre Delta'!C17","v":0.1536999999999864},{"$f":"'Post Delta'!D17-'Pre Delta'!D17","v":0.01449999999996976},{"$f":"'Post Delta'!E17-'Pre Delta'!E17","v":0.005000000000009663},{"$f":"'Post Delta'!F17-'Pre Delta'!F17","v":-0.012099999999989564},{"$f":"'Post Delta'!G17-'Pre Delta'!G17","v":3.7999999999982492E-3},{"$f":"'Post Delta'!H17-'Pre Delta'!H17","v":0.1308999999999969},{"$f":"'Post Delta'!I17-'Pre Delta'!I17","v":0.271499999999989},{"$f":"'Post Delta'!J17-'Pre Delta'!J17","v":0.1203999999999894},{"$f":"'Post Delta'!K17-'Pre Delta'!K17","v":0.22039999999998372},null,{"$f":"'From Labview'!AG17","v":118},{"$f":"'From Labview'!D17","v":0.052},{"$f":"'From Labview'!H17","v":0.154},{"$f":"'From Labview'!L17","v":0.014},{"$f":"'From Labview'!P17","v":0.005},{"$f":"'From Labview'!S17","v":-0.161},{"$f":"'From Labview'!X17","v":0.004},{"$f":"'From Labview'!AB17","v":0.131},{"$f":"'From Labview'!AF17","v":0.271},{"$f":"'From Labview'!AJ17","v":0.12},{"$f":"'From Labview'!AN17","v":0.22}]
[{"$f":"'Pre Delta'!A18","v":125},{"$f":"'Post Delta'!B18-'Pre Delta'!B18","v":0.09300000000000352},{"$f":"'Post Delta'!C18-'Pre Delta'!C18","v":0.18329999999997426},{"$f":"'Post Delta'!D18-'Pre Delta'!D18","v":-0.044899999999984175},{"$f":"'Post Delta'!E18-'Pre Delta'!E18","v":-0.05519999999999925},{"$f":"'Post Delta'!F18-'Pre Delta'!F18","v":-0.048599999999993315},{"$f":"'Post Delta'!G18-'Pre Delta'!G18","v":-0.04440000000001021},{"$f":"'Post Delta'!H18-'Pre Delta'!H18","v":0.12369999999999948},{"$f":"'Post Delta'!I18-'Pre Delta'!I18","v":0.26659999999999684},{"$f":"'Post Delta'!J18-'Pre Delta'!J18","v":0.11140000000001749},{"$f":"'Post Delta'!K18-'Pre Delta'!K18","v":0.21450000000001523},null,{"$f":"'From Labview'!AG18","v":125},{"$f":"'From Labview'!D18","v":0.093},{"$f":"'From Labview'!H18","v":0.183},{"$f":"'From Labview'!L18","v":-0.045},{"$f":"'From Labview'!P18","v":-0.055},{"$f":"'From Labview'!S18","v":-0.17},{"$f":"'From Labview'!X18","v":-0.044},{"$f":"'From Labview'!AB18","v":0.124},{"$f":"'From Labview'!AF18","v":0.267},{"$f":"'From Labview'!AJ18","v":0.111},{"$f":"'From Labview'!AN18","v":0.215}]
[{"$f":"'Pre Delta'!A19","v":132},{"$f":"'Post Delta'!B19-'Pre Delta'!B19","v":0.18389999999997997},{"$f":"'Post Delta'!C19-'Pre Delta'!C19","v":0.20429999999998927},{"$f":"'Post Delta'!D19-'Pre Delta'!D19","v":-0.027099999999990132},{"$f":"'Post Delta'!E19-'Pre Delta'!E19","v":-0.023000000000024556},{"$f":"'Post Delta'!F19-'Pre Delta'!F19","v":-2.7000000000043656E-3},{"$f":"'Post Delta'!G19-'Pre Delta'!G19","v":-0.004199999999983106},{"$f":"'Post Delta'!H19-'Pre Delta'!H19","v":0.13150000000000261},{"$f":"'Post Delta'!I19-'Pre Delta'!I19","v":0.29710000000000036},{"$f":"'Post Delta'!J19-'Pre Delta'!J19","v":0.11300000000001376},{"$f":"'Post Delta'!K19-'Pre Delta'!K19","v":0.23740000000002226},null,{"$f":"'From Labview'!AG19","v":132},{"$f":"'From Labview'!D19","v":0.184},{"$f":"'From Labview'!H19","v":0.204},{"$f":"'From Labview'!L19","v":-0.027},{"$f":"'From Labview'!P19","v":-0.023},{"$f":"'From Labview'!S19","v":-0.138},{"$f":"'From Labview'!X19","v":-0.004},{"$f":"'From Labview'!AB19","v":0.131},{"$f":"'From Labview'!AF19","v":0.297},{"$f":"'From Labview'!AJ19","v":0.113},{"$f":"'From Labview'!AN19","v":0.237}]
[{"$f":"'Pre Delta'!A20","v":140},{"$f":"'Post Delta'!B20-'Pre Delta'!B20","v":0.29999999999998295},{"$f":"'Post Delta'!C20-'Pre Delta'!C20","v":0.2575999999999965},{"$f":"'Post Delta'!D20-'Pre Delta'!D20","v":0.04640000000000555},{"$f":"'Post Delta'!E20-'Pre Delta'!E20","v":0.06569999999999254},{"$f":"'Post Delta'!F20-'Pre Delta'!F20","v":0.07230000000001269},{"$f":"'Post Delta'!G20-'Pre Delta'!G20","v":0.07460000000001799},{"$f":"'Post Delta'!H20-'Pre Delta'!H20","v":0.14390000000000214},{"$f":"'Post Delta'!I20-'Pre Delta'!I20","v":0.30409999999999116},{"$f":"'Post Delta'!J20-'Pre Delta'!J20","v":0.14279999999999404},{"$f":"'Post Delta'!K20-'Pre Delta'!K20","v":0.2669999999999959},null,{"$f":"'From Labview'!AG20","v":140},{"$f":"'From Labview'!D20","v":0.3},{"$f":"'From Labview'!H20","v":0.258},{"$f":"'From Labview'!L20","v":0.046},{"$f":"'From Labview'!P20","v":0.066},{"$f":"'From Labview'!S20","v":-0.104},{"$f":"'From Labview'!X20","v":0.075},{"$f":"'From Labview'!AB20","v":0.144},{"$f":"'From Labview'!AF20","v":0.304},{"$f":"'From Labview'!AJ20","v":0.143},{"$f":"'From Labview'!AN20","v":0.267}]
[{"$f":"'Pre Delta'!A21","v":150},{"$f":"'Post Delta'!B21-'Pre Delta'!B21","v":0.3552999999999571},{"$f":"'Post Delta'!C21-'Pre Delta'!C21","v":0.3078000000000145},{"$f":"'Post Delta'!D21-'Pre Delta'!D21","v":0.08790000000000475},{"$f":"'Post Delta'!E21-'Pre Delta'!E21","v":0.1092000000000155},{"$f":"'Post Delta'!F21-'Pre Delta'!F21","v":0.09829999999998051},{"$f":"'Post Delta'!G21-'Pre Delta'!G21","v":0.10550000000000637},{"$f":"'Post Delta'!H21-'Pre Delta'!H21","v":0.16259999999999764},{"$f":"'Post Delta'!I21-'Pre Delta'!I21","v":0.23099999999999454},{"$f":"'Post Delta'!J21-'Pre Delta'!J21","v":0.2336999999999847},{"$f":"'Post Delta'!K21-'Pre Delta'!K21","v":0.29599999999999227},null,{"$f":"'From Labview'!AG21","v":150},{"$f":"'From Labview'!D21","v":0.355},{"$f":"'From Labview'!H21","v":0.308},{"$f":"'From Labview'!L21","v":0.088},{"$f":"'From Labview'!P21","v":0.109},{"$f":"'From Labview'!S21","v":-0.107},{"$f":"'From Labview'!X21","v":0.106},{"$f":"'From Labview'!AB21","v":0.163},{"$f":"'From Labview'!AF21","v":0.231},{"$f":"'From Labview'!AJ21","v":0.234},{"$f":"'From Labview'!AN21","v":0.296}]
[{"$f":"'Pre Delta'!A22","v":160},{"$f":"'Post Delta'!B22-'Pre Delta'!B22","v":0.2530000000000001},{"$f":"'Post Delta'!C22-'Pre Delta'!C22","v":0.29999999999998295},{"$f":"'Post Delta'!D22-'Pre Delta'!D22","v":0.06780000000000541},{"$f":"'Post Delta'!E22-'Pre Delta'!E22","v":0.08610000000000184},{"$f":"'Post Delta'!F22-'Pre Delta'!F22","v":0.07089999999999463},{"$f":"'Post Delta'!G22-'Pre Delta'!G22","v":0.07939999999997838},{"$f":"'Post Delta'!H22-'Pre Delta'!H22","v":0.1846000000000032},{"$f":"'Post Delta'!I22-'Pre Delta'!I22","v":0.11800000000000921},{"$f":"'Post Delta'!J22-'Pre Delta'!J22","v":0.3550999999999931},{"$f":"'Post Delta'!K22-'Pre Delta'!K22","v":0.328400000000002},null,{"$f":"'From Labview'!AG22","v":160},{"$f":"'From Labview'!D22","v":0.253},{"$f":"'From Labview'!H22","v":0.3},{"$f":"'From Labview'!L22","v":0.068},{"$f":"'From Labview'!P22","v":0.086},{"$f":"'From Labview'!S22","v":-0.135},{"$f":"'From Labview'!X22","v":0.079},{"$f":"'From Labview'!AB22","v":0.185},{"$f":"'From Labview'!AF22","v":0.118},{"$f":"'From Labview'!AJ22","v":0.355},{"$f":"'From Labview'!AN22","v":0.328}]
[{"$f":"'Pre Delta'!A23","v":170},{"$f":"'Post Delta'!B23-'Pre Delta'!B23","v":0.07990000000000919},{"$f":"'Post Delta'!C23-'Pre Delta'!C23","v":0.2527000000000186},{"$f":"'Post Delta'!D23-'Pre Delta'!D23","v":0.03319999999999368},{"$f":"'Post Delta'!E23-'Pre Delta'!E23","v":0.054600000000021964},{"$f":"'Post Delta'!F23-'Pre Delta'!F23","v":0.044900000000012597},{"$f":"'Post Delta'!G23-'Pre Delta'!G23","v":0.05150000000000432},{"$f":"'Post Delta'!H23-'Pre Delta'!H23","v":0.19830000000000325},{"$f":"'Post Delta'!I23-'Pre Delta'!I23","v":0.04410000000000025},{"$f":"'Post Delta'!J23-'Pre Delta'!J23","v":0.39860000000000184},{"$f":"'Post Delta'!K23-'Pre Delta'!K23","v":0.29940000000000566},null,{"$f":"'From Labview'!AG23","v":170},{"$f":"'From Labview'!D23","v":0.08},{"$f":"'From Labview'!H23","v":0.253},{"$f":"'From Labview'!L23","v":0.033},{"$f":"'From Labview'!P23","v":0.055},{"$f":"'From Labview'!S23","v":-0.152},{"$f":"'From Labview'!X23","v":0.051},{"$f":"'From Labview'!AB23","v":0.198},{"$f":"'From Labview'!AF23","v":0.044},{"$f":"'From Labview'!AJ23","v":0.399},{"$f":"'From Labview'!AN23","v":0.299}]
[{"$f":"'Pre Delta'!A24","v":180},{"$f":"'Post Delta'!B24-'Pre Delta'!B24","v":0.024999999999991473},{"$f":"'Post Delta'!C24-'Pre Delta'!C24","v":0.17019999999997992},{"$f":"'Post Delta'!D24-'Pre Delta'!D24","v":0.035799999999994725},{"$f":"'Post Delta'!E24-'Pre Delta'!E24","v":0.06340000000000146},{"$f":"'Post Delta'!F24-'Pre Delta'!F24","v":0.05679999999999552},{"$f":"'Post Delta'!G24-'Pre Delta'!G24","v":0.06039999999998713},{"$f":"'Post Delta'!H24-'Pre Delta'!H24","v":0.20870000000000744},{"$f":"'Post Delta'!I24-'Pre Delta'!I24","v":0.02909999999998547},{"$f":"'Post Delta'!J24-'Pre Delta'!J24","v":0.32039999999999225},{"$f":"'Post Delta'!K24-'Pre Delta'!K24","v":0.16890000000000782},null,{"$f":"'From Labview'!AG24","v":180},{"$f":"'From Labview'!D24","v":0.025},{"$f":"'From Labview'!H24","v":0.17},{"$f":"'From Labview'!L24","v":0.036},{"$f":"'From Labview'!P24","v":0.063},{"$f":"'From Labview'!S24","v":-0.137},{"$f":"'From Labview'!X24","v":0.06},{"$f":"'From Labview'!AB24","v":0.209},{"$f":"'From Labview'!AF24","v":0.029},{"$f":"'From Labview'!AJ24","v":0.32},{"$f":"'From Labview'!AN24","v":0.169}]
[{"$f":"'Pre Delta'!A25","v":190},{"$f":"'Post Delta'!B25-'Pre Delta'!B25","v":0.07730000000002235},{"$f":"'Post Delta'!C25-'Pre Delta'!C25","v":0.09500000000002728},{"$f":"'Post Delta'!D25-'Pre Delta'!D25","v":0.05370000000002051},{"$f":"'Post Delta'!E25-'Pre Delta'!E25","v":0.07890000000000441},{"$f":"'Post Delta'!F25-'Pre Delta'!F25","v":0.07330000000000325},{"$f":"'Post Delta'!G25-'Pre Delta'!G25","v":0.07359999999998479},{"$f":"'Post Delta'!H25-'Pre Delta'!H25","v":0.24859999999996774},{"$f":"'Post Delta'!I25-'Pre Delta'!I25","v":0.07099999999998374},{"$f":"'Post Delta'!J25-'Pre Delta'!J25","v":0.23870000000000857},{"$f":"'Post Delta'!K25-'Pre Delta'!K25","v":0.04729999999999279},null,{"$f":"'From Labview'!AG25","v":190},{"$f":"'From Labview'!D25","v":0.077},{"$f":"'From Labview'!H25","v":0.095},{"$f":"'From Labview'!L25","v":0.054},{"$f":"'From Labview'!P25","v":0.079},{"$f":"'From Labview'!S25","v":-0.119},{"$f":"'From Labview'!X25","v":0.074},{"$f":"'From Labview'!AB25","v":0.249},{"$f":"'From Labview'!AF25","v":0.071},{"$f":"'From Labview'!AJ25","v":0.239},{"$f":"'From Labview'!AN25","v":0.047}]
[{"$f":"'Pre Delta'!A26","v":200},{"$f":"'Post Delta'!B26-'Pre Delta'!B26","v":0.143100000000004},{"$f":"'Post Delta'!C26-'Pre Delta'!C26","v":0.11830000000000496},{"$f":"'Post Delta'!D26-'Pre Delta'!D26","v":0.05010000000000048},{"$f":"'Post Delta'!E26-'Pre Delta'!E26","v":0.07039999999999225},{"$f":"'Post Delta'!F26-'Pre Delta'!F26","v":0.06550000000000011},{"$f":"'Post Delta'!G26-'Pre Delta'!G26","v":0.06749999999999545},{"$f":"'Post Delta'!H26-'Pre Delta'!H26","v":0.3066999999999922},{"$f":"'Post Delta'!I26-'Pre Delta'!I26","v":0.1280000000000001},{"$f":"'Post Delta'!J26-'Pre Delta'!J26","v":0.22750000000000625},{"$f":"'Post Delta'!K26-'Pre Delta'!K26","v":0.015599999999992065},null,{"$f":"'From Labview'!AG26","v":200},{"$f":"'From Labview'!D26","v":0.143},{"$f":"'From Labview'!H26","v":0.118},{"$f":"'From Labview'!L26","v":0.05},{"$f":"'From Labview'!P26","v":0.07},{"$f":"'From Labview'!S26","v":-0.126},{"$f":"'From Labview'!X26","v":0.067},{"$f":"'From Labview'!AB26","v":0.307},{"$f":"'From Labview'!AF26","v":0.128},{"$f":"'From Labview'!AJ26","v":0.228},{"$f":"'From Labview'!AN26","v":0.016}]
[{"$f":"'Pre Delta'!A27","v":212},{"$f":"'Post Delta'!B27-'Pre Delta'!B27","v":0.2061999999999955},{"$f":"'Post Delta'!C27-'Pre Delta'!C27","v":0.2009999999999934},{"$f":"'Post Delta'!D27-'Pre Delta'!D27","v":0.03979999999999961},{"$f":"'Post Delta'!E27-'Pre Delta'!E27","v":0.06430000000000291},{"$f":"'Post Delta'!F27-'Pre Delta'!F27","v":0.048500000000004206},{"$f":"'Post Delta'!G27-'Pre Delta'!G27","v":0.06570000000002096},{"$f":"'Post Delta'!H27-'Pre Delta'!H27","v":0.3458999999999861},{"$f":"'Post Delta'!I27-'Pre Delta'!I27","v":0.15430000000000632},{"$f":"'Post Delta'!J27-'Pre Delta'!J27","v":0.2615999999999872},{"$f":"'Post Delta'!K27-'Pre Delta'!K27","v":0.03890000000001237},null,{"$f":"'From Labview'!AG27","v":212},{"$f":"'From Labview'!D27","v":0.206},{"$f":"'From Labview'!H27","v":0.201},{"$f":"'From Labview'!L27","v":0.04},{"$f":"'From Labview'!P27","v":0.064},{"$f":"'From Labview'!S27","v":-0.143},{"$f":"'From Labview'!X27","v":0.066},{"$f":"'From Labview'!AB27","v":0.346},{"$f":"'From Labview'!AF27","v":0.154},{"$f":"'From Labview'!AJ27","v":0.262},{"$f":"'From Labview'!AN27","v":0.039}]
[{"$f":"'Pre Delta'!A28","v":224},{"$f":"'Post Delta'!B28-'Pre Delta'!B28","v":0.26130000000000564},{"$f":"'Post Delta'!C28-'Pre Delta'!C28","v":0.2705999999999875},{"$f":"'Post Delta'!D28-'Pre Delta'!D28","v":0.04599999999997806},{"$f":"'Post Delta'!E28-'Pre Delta'!E28","v":0.07690000000000907},{"$f":"'Post Delta'!F28-'Pre Delta'!F28","v":0.054200000000022897},{"$f":"'Post Delta'!G28-'Pre Delta'!G28","v":0.07819999999999538},{"$f":"'Post Delta'!H28-'Pre Delta'!H28","v":0.36719999999998265},{"$f":"'Post Delta'!I28-'Pre Delta'!I28","v":0.18070000000003006},{"$f":"'Post Delta'!J28-'Pre Delta'!J28","v":0.3113999999999777},{"$f":"'Post Delta'!K28-'Pre Delta'!K28","v":0.09960000000000946},null,{"$f":"'From Labview'!AG28","v":224},{"$f":"'From Labview'!D28","v":0.261},{"$f":"'From Labview'!H28","v":0.271},{"$f":"'From Labview'!L28","v":0.046},{"$f":"'From Labview'!P28","v":0.077},{"$f":"'From Labview'!S28","v":-0.137},{"$f":"'From Labview'!X28","v":0.078},{"$f":"'From Labview'!AB28","v":0.367},{"$f":"'From Labview'!AF28","v":0.181},{"$f":"'From Labview'!AJ28","v":0.311},{"$f":"'From Labview'!AN28","v":0.1}]
[{"$f":"'Pre Delta'!A29","v":236},{"$f":"'Post Delta'!B29-'Pre Delta'!B29","v":0.3301000000000016},{"$f":"'Post Delta'!C29-'Pre Delta'!C29","v":0.3353000000000037},{"$f":"'Post Delta'!D29-'Pre Delta'!D29","v":0.061500000000009436},{"$f":"'Post Delta'!E29-'Pre Delta'!E29","v":0.0981000000000023},{"$f":"'Post Delta'!F29-'Pre Delta'!F29","v":0.07849999999999113},{"$f":"'Post Delta'!G29-'Pre Delta'!G29","v":0.09679999999998756},{"$f":"'Post Delta'!H29-'Pre Delta'!H29","v":0.40109999999999957},{"$f":"'Post Delta'!I29-'Pre Delta'!I29","v":0.2623999999999711},{"$f":"'Post Delta'!J29-'Pre Delta'!J29","v":0.3704000000000178},{"$f":"'Post Delta'!K29-'Pre Delta'!K29","v":0.20679999999997278},null,{"$f":"'From Labview'!AG29","v":236},{"$f":"'From Labview'!D29","v":0.33},{"$f":"'From Labview'!H29","v":0.335},{"$f":"'From Labview'!L29","v":0.062},{"$f":"'From Labview'!P29","v":0.098},{"$f":"'From Labview'!S29","v":-0.112},{"$f":"'From Labview'!X29","v":0.097},{"$f":"'From Labview'!AB29","v":0.401},{"$f":"'From Labview'!AF29","v":0.262},{"$f":"'From Labview'!AJ29","v":0.37},{"$f":"'From Labview'!AN29","v":0.207}]
[{"$f":"'Pre Delta'!A30","v":250},{"$f":"'Post Delta'!B30-'Pre Delta'!B30","v":0.4148999999999887},{"$f":"'Post Delta'!C30-'Pre Delta'!C30","v":0.40440000000000964},{"$f":"'Post Delta'!D30-'Pre Delta'!D30","v":0.06589999999999918},{"$f":"'Post Delta'!E30-'Pre Delta'!E30","v":0.10470000000000823},{"$f":"'Post Delta'!F30-'Pre Delta'!F30","v":0.08859999999998536},{"$f":"'Post Delta'!G30-'Pre Delta'!G30","v":0.10060000000000002},{"$f":"'Post Delta'!H30-'Pre Delta'!H30","v":0.4539000000000044},{"$f":"'Post Delta'!I30-'Pre Delta'!I30","v":0.38400000000001455},{"$f":"'Post Delta'!J30-'Pre Delta'!J30","v":0.42900000000001626},{"$f":"'Post Delta'!K30-'Pre Delta'!K30","v":0.33229999999997517},null,{"$f":"'From Labview'!AG30","v":250},{"$f":"'From Labview'!D30","v":0.415},{"$f":"'From Labview'!H30","v":0.404},{"$f":"'From Labview'!L30","v":0.066},{"$f":"'From Labview'!P30","v":0.105},{"$f":"'From Labview'!S30","v":-0.101},{"$f":"'From Labview'!X30","v":0.101},{"$f":"'From Labview'!AB30","v":0.454},{"$f":"'From Labview'!AF30","v":0.384},{"$f":"'From Labview'!AJ30","v":0.429},{"$f":"'From Labview'!AN30","v":0.332}]
[{"$f":"'Pre Delta'!A31","v":265},{"$f":"'Post Delta'!B31-'Pre Delta'!B31","v":0.4847999999999928},{"$f":"'Post Delta'!C31-'Pre Delta'!C31","v":0.45860000000003254},{"$f":"'Post Delta'!D31-'Pre Delta'!D31","v":0.06089999999998952},{"$f":"'Post Delta'!E31-'Pre Delta'!E31","v":0.09420000000001494},{"$f":"'Post Delta'!F31-'Pre Delta'!F31","v":0.07809999999999206},{"$f":"'Post Delta'!G31-'Pre Delta'!G31","v":0.08810000000001139},{"$f":"'Post Delta'!H31-'Pre Delta'!H31","v":0.4999999999999858},{"$f":"'Post Delta'!I31-'Pre Delta'!I31","v":0.4852999999999952},{"$f":"'Post Delta'!J31-'Pre Delta'!J31","v":0.47100000000000364},{"$f":"'Post Delta'!K31-'Pre Delta'!K31","v":0.4269999999999925},null,{"$f":"'From Labview'!AG31","v":265},{"$f":"'From Labview'!D31","v":0.485},{"$f":"'From Labview'!H31","v":0.459},{"$f":"'From Labview'!L31","v":0.061},{"$f":"'From Labview'!P31","v":0.094},{"$f":"'From Labview'!S31","v":-0.111},{"$f":"'From Labview'!X31","v":0.088},{"$f":"'From Labview'!AB31","v":0.5},{"$f":"'From Labview'!AF31","v":0.485},{"$f":"'From Labview'!AJ31","v":0.471},{"$f":"'From Labview'!AN31","v":0.427}]
[{"$f":"'Pre Delta'!A32","v":280},{"$f":"'Post Delta'!B32-'Pre Delta'!B32","v":0.5165999999999826},{"$f":"'Post Delta'!C32-'Pre Delta'!C32","v":0.48699999999998056},{"$f":"'Post Delta'!D32-'Pre Delta'!D32","v":0.053899999999984516},{"$f":"'Post Delta'!E32-'Pre Delta'!E32","v":0.07469999999999288},{"$f":"'Post Delta'!F32-'Pre Delta'!F32","v":0.058200000000013574},{"$f":"'Post Delta'!G32-'Pre Delta'!G32","v":0.06780000000000541},{"$f":"'Post Delta'!H32-'Pre Delta'!H32","v":0.5287999999999897},{"$f":"'Post Delta'!I32-'Pre Delta'!I32","v":0.5404000000000053},{"$f":"'Post Delta'!J32-'Pre Delta'!J32","v":0.49090000000003897},{"$f":"'Post Delta'!K32-'Pre Delta'!K32","v":0.4742999999999995},null,{"$f":"'From Labview'!AG32","v":280},{"$f":"'From Labview'!D32","v":0.517},{"$f":"'From Labview'!H32","v":0.487},{"$f":"'From Labview'!L32","v":0.054},{"$f":"'From Labview'!P32","v":0.075},{"$f":"'From Labview'!S32","v":-0.129},{"$f":"'From Labview'!X32","v":0.068},{"$f":"'From Labview'!AB32","v":0.529},{"$f":"'From Labview'!AF32","v":0.54},{"$f":"'From Labview'!AJ32","v":0.491},{"$f":"'From Labview'!AN32","v":0.474}]
[{"$f":"'Pre Delta'!A33","v":300},{"$f":"'Post Delta'!B33-'Pre Delta'!B33","v":0.5169999999999959},{"$f":"'Post Delta'!C33-'Pre Delta'!C33","v":0.5087000000000188},{"$f":"'Post Delta'!D33-'Pre Delta'!D33","v":0.04800000000000182},{"$f":"'Post Delta'!E33-'Pre Delta'!E33","v":0.059600000000003206},{"$f":"'Post Delta'!F33-'Pre Delta'!F33","v":0.04599999999999227},{"$f":"'Post Delta'!G33-'Pre Delta'!G33","v":0.05550000000000921},{"$f":"'Post Delta'!H33-'Pre Delta'!H33","v":0.5417000000000058},{"$f":"'Post Delta'!I33-'Pre Delta'!I33","v":0.5614000000000061},{"$f":"'Post Delta'!J33-'Pre Delta'!J33","v":0.4994000000000085},{"$f":"'Post Delta'!K33-'Pre Delta'!K33","v":0.4896999999999849},null,{"$f":"'From Labview'!AG33","v":300},{"$f":"'From Labview'!D33","v":0.517},{"$f":"'From Labview'!H33","v":0.509},{"$f":"'From Labview'!L33","v":0.048},{"$f":"'From Labview'!P33","v":0.06},{"$f":"'From Labview'!S33","v":-0.138},{"$f":"'From Labview'!X33","v":0.056},{"$f":"'From Labview'!AB33","v":0.542},{"$f":"'From Labview'!AF33","v":0.561},{"$f":"'From Labview'!AJ33","v":0.499},{"$f":"'From Labview'!AN33","v":0.49}]
[{"$f":"'Pre Delta'!A34","v":315},{"$f":"'Post Delta'!B34-'Pre Delta'!B34","v":0.4928999999999917},{"$f":"'Post Delta'!C34-'Pre Delta'!C34","v":0.5122999999999962},{"$f":"'Post Delta'!D34-'Pre Delta'!D34","v":0.04099999999999682},{"$f":"'Post Delta'!E34-'Pre Delta'!E34","v":0.05539999999999168},{"$f":"'Post Delta'!F34-'Pre Delta'!F34","v":0.043100000000009686},{"$f":"'Post Delta'!G34-'Pre Delta'!G34","v":0.05210000000001003},{"$f":"'Post Delta'!H34-'Pre Delta'!H34","v":0.5393000000000114},{"$f":"'Post Delta'!I34-'Pre Delta'!I34","v":0.5620999999999867},{"$f":"'Post Delta'!J34-'Pre Delta'!J34","v":0.4946999999999946},{"$f":"'Post Delta'!K34-'Pre Delta'!K34","v":0.48689999999999145},null,{"$f":"'From Labview'!AG34","v":315},{"$f":"'From Labview'!D34","v":0.493},{"$f":"'From Labview'!H34","v":0.512},{"$f":"'From Labview'!L34","v":0.041},{"$f":"'From Labview'!P34","v":0.055},{"$f":"'From Labview'!S34","v":-0.136},{"$f":"'From Labview'!X34","v":0.052},{"$f":"'From Labview'!AB34","v":0.539},{"$f":"'From Labview'!AF34","v":0.562},{"$f":"'From Labview'!AJ34","v":0.495},{"$f":"'From Labview'!AN34","v":0.487}]
[{"$f":"'Pre Delta'!A35","v":335},{"$f":"'Post Delta'!B35-'Pre Delta'!B35","v":0.4493999999999829},{"$f":"'Post Delta'!C35-'Pre Delta'!C35","v":0.47239999999999327},{"$f":"'Post Delta'!D35-'Pre Delta'!D35","v":0.03299999999998704},{"$f":"'Post Delta'!E35-'Pre Delta'!E35","v":0.04889999999998906},{"$f":"'Post Delta'!F35-'Pre Delta'!F35","v":0.035700000000005616},{"$f":"'Post Delta'!G35-'Pre Delta'!G35","v":0.04609999999999559},{"$f":"'Post Delta'!H35-'Pre Delta'!H35","v":0.5105999999999966},{"$f":"'Post Delta'!I35-'Pre Delta'!I35","v":0.5356000000000023},{"$f":"'Post Delta'!J35-'Pre Delta'!J35","v":0.46750000000000114},{"$f":"'Post Delta'!K35-'Pre Delta'!K35","v":0.45839999999998327},null,{"$f":"'From Labview'!AG35","v":335},{"$f":"'From Labview'!D35","v":0.449},{"$f":"'From Labview'!H35","v":0.472},{"$f":"'From Labview'!L35","v":0.033},{"$f":"'From Labview'!P35","v":0.049},{"$f":"'From Labview'!S35","v":-0.134},{"$f":"'From Labview'!X35","v":0.046},{"$f":"'From Labview'!AB35","v":0.511},{"$f":"'From Labview'!AF35","v":0.536},{"$f":"'From Labview'!AJ35","v":0.468},{"$f":"'From Labview'!AN35","v":0.458}]
[{"$f":"'Pre Delta'!A36","v":355},{"$f":"'Post Delta'!B36-'Pre Delta'!B36","v":0.39639999999999986},{"$f":"'Post Delta'!C36-'Pre Delta'!C36","v":0.4010000000000389},{"$f":"'Post Delta'!D36-'Pre Delta'!D36","v":0.028500000000008185},{"$f":"'Post Delta'!E36-'Pre Delta'!E36","v":0.03889999999999816},{"$f":"'Post Delta'!F36-'Pre Delta'!F36","v":0.02379999999999427},{"$f":"'Post Delta'!G36-'Pre Delta'!G36","v":0.03499999999998238},{"$f":"'Post Delta'!H36-'Pre Delta'!H36","v":0.4613999999999976},{"$f":"'Post Delta'!I36-'Pre Delta'!I36","v":0.49680000000000746},{"$f":"'Post Delta'!J36-'Pre Delta'!J36","v":0.42320000000000846},{"$f":"'Post Delta'!K36-'Pre Delta'!K36","v":0.4262999999999977},null,{"$f":"'From Labview'!AG36","v":355},{"$f":"'From Labview'!D36","v":0.396},{"$f":"'From Labview'!H36","v":0.401},{"$f":"'From Labview'!L36","v":0.028},{"$f":"'From Labview'!P36","v":0.039},{"$f":"'From Labview'!S36","v":-0.135},{"$f":"'From Labview'!X36","v":0.035},{"$f":"'From Labview'!AB36","v":0.461},{"$f":"'From Labview'!AF36","v":0.497},{"$f":"'From Labview'!AJ36","v":0.423},{"$f":"'From Labview'!AN36","v":0.426}]
[{"$f":"'Pre Delta'!A37","v":375},{"$f":"'Post Delta'!B37-'Pre Delta'!B37","v":0.34090000000000487},{"$f":"'Post Delta'!C37-'Pre Delta'!C37","v":0.3181000000000296},{"$f":"'Post Delta'!D37-'Pre Delta'!D37","v":0.03140000000000498},{"$f":"'Post Delta'!E37-'Pre Delta'!E37","v":0.038100000000014234},{"$f":"'Post Delta'!F37-'Pre Delta'!F37","v":0.019599999999996953},{"$f":"'Post Delta'!G37-'Pre Delta'!G37","v":0.033900000000002706},{"$f":"'Post Delta'!H37-'Pre Delta'!H37","v":0.3984999999999985},{"$f":"'Post Delta'!I37-'Pre Delta'!I37","v":0.45909999999996387},{"$f":"'Post Delta'!J37-'Pre Delta'!J37","v":0.367999999999995},{"$f":"'Post Delta'!K37-'Pre Delta'!K37","v":0.4014000000000095},null,{"$f":"'From Labview'!AG37","v":375},{"$f":"'From Labview'!D37","v":0.341},{"$f":"'From Labview'!H37","v":0.318},{"$f":"'From Labview'!L37","v":0.031},{"$f":"'From Labview'!P37","v":0.038},{"$f":"'From Labview'!S37","v":-0.137},{"$f":"'From Labview'!X37","v":0.034},{"$f":"'From Labview'!AB37","v":0.399},{"$f":"'From Labview'!AF37","v":0.459},{"$f":"'From Labview'!AJ37","v":0.368},{"$f":"'From Labview'!AN37","v":0.401}]
[{"$f":"'Pre Delta'!A38","v":400},{"$f":"'Post Delta'!B38-'Pre Delta'!B38","v":0.2895000000000181},{"$f":"'Post Delta'!C38-'Pre Delta'!C38","v":0.2476000000000056},{"$f":"'Post Delta'!D38-'Pre Delta'!D38","v":0.03540000000000987},{"$f":"'Post Delta'!E38-'Pre Delta'!E38","v":0.0478999999999985},{"$f":"'Post Delta'!F38-'Pre Delta'!F38","v":0.030300000000011096},{"$f":"'Post Delta'!G38-'Pre Delta'!G38","v":0.04389999999999361},{"$f":"'Post Delta'!H38-'Pre Delta'!H38","v":0.3009000000000128},{"$f":"'Post Delta'!I38-'Pre Delta'!I38","v":0.39979999999999905},{"$f":"'Post Delta'!J38-'Pre Delta'!J38","v":0.27770000000001005},{"$f":"'Post Delta'!K38-'Pre Delta'!K38","v":0.34739999999999327},null,{"$f":"'From Labview'!AG38","v":400},{"$f":"'From Labview'!D38","v":0.29},{"$f":"'From Labview'!H38","v":0.248},{"$f":"'From Labview'!L38","v":0.035},{"$f":"'From Labview'!P38","v":0.048},{"$f":"'From Labview'!S38","v":-0.137},{"$f":"'From Labview'!X38","v":0.044},{"$f":"'From Labview'!AB38","v":0.301},{"$f":"'From Labview'!AF38","v":0.4},{"$f":"'From Labview'!AJ38","v":0.278},{"$f":"'From Labview'!AN38","v":0.347}]
[{"$f":"'Pre Delta'!A39","v":425},{"$f":"'Post Delta'!B39-'Pre Delta'!B39","v":0.23949999999997829},{"$f":"'Post Delta'!C39-'Pre Delta'!C39","v":0.20199999999999818},{"$f":"'Post Delta'!D39-'Pre Delta'!D39","v":0.03300000000000125},{"$f":"'Post Delta'!E39-'Pre Delta'!E39","v":0.05649999999997135},{"$f":"'Post Delta'!F39-'Pre Delta'!F39","v":0.04100000000001103},{"$f":"'Post Delta'!G39-'Pre Delta'!G39","v":0.054000000000002046},{"$f":"'Post Delta'!H39-'Pre Delta'!H39","v":0.16809999999999548},{"$f":"'Post Delta'!I39-'Pre Delta'!I39","v":0.2926999999999964},{"$f":"'Post Delta'!J39-'Pre Delta'!J39","v":0.15840000000000032},{"$f":"'Post Delta'!K39-'Pre Delta'!K39","v":0.24740000000002738},null,{"$f":"'From Labview'!AG39","v":425},{"$f":"'From Labview'!D39","v":0.239},{"$f":"'From Labview'!H39","v":0.202},{"$f":"'From Labview'!L39","v":0.033},{"$f":"'From Labview'!P39","v":0.056},{"$f":"'From Labview'!S39","v":-0.144},{"$f":"'From Labview'!X39","v":0.054},{"$f":"'From Labview'!AB39","v":0.168},{"$f":"'From Labview'!AF39","v":0.293},{"$f":"'From Labview'!AJ39","v":0.158},{"$f":"'From Labview'!AN39","v":0.247}]
[{"$f":"'Pre Delta'!A40","v":450},{"$f":"'Post Delta'!B40-'Pre Delta'!B40","v":0.19149999999999068},{"$f":"'Post Delta'!C40-'Pre Delta'!C40","v":0.16450000000000387},{"$f":"'Post Delta'!D40-'Pre Delta'!D40","v":0.01820000000000732},{"$f":"'Post Delta'!E40-'Pre Delta'!E40","v":0.04760000000000275},{"$f":"'Post Delta'!F40-'Pre Delta'!F40","v":0.036000000000015575},{"$f":"'Post Delta'!G40-'Pre Delta'!G40","v":0.046599999999969555},{"$f":"'Post Delta'!H40-'Pre Delta'!H40","v":0.045100000000019236},{"$f":"'Post Delta'!I40-'Pre Delta'!I40","v":0.172499999999971},{"$f":"'Post Delta'!J40-'Pre Delta'!J40","v":0.054199999999994475},{"$f":"'Post Delta'!K40-'Pre Delta'!K40","v":0.1406000000000205},null,{"$f":"'From Labview'!AG40","v":450},{"$f":"'From Labview'!D40","v":0.192},{"$f":"'From Labview'!H40","v":0.165},{"$f":"'From Labview'!L40","v":0.018},{"$f":"'From Labview'!P40","v":0.048},{"$f":"'From Labview'!S40","v":-0.159},{"$f":"'From Labview'!X40","v":0.047},{"$f":"'From Labview'!AB40","v":0.045},{"$f":"'From Labview'!AF40","v":0.172},{"$f":"'From Labview'!AJ40","v":0.054},{"$f":"'From Labview'!AN40","v":0.141}]
[{"$f":"'Pre Delta'!A41","v":475},{"$f":"'Post Delta'!B41-'Pre Delta'!B41","v":0.1648999999999745},{"$f":"'Post Delta'!C41-'Pre Delta'!C41","v":0.15789999999999793},{"$f":"'Post Delta'!D41-'Pre Delta'!D41","v":0.003199999999992542},{"$f":"'Post Delta'!E41-'Pre Delta'!E41","v":0.028600000000011505},{"$f":"'Post Delta'!F41-'Pre Delta'!F41","v":0.03260000000000218},{"$f":"'Post Delta'!G41-'Pre Delta'!G41","v":0.039099999999976376},{"$f":"'Post Delta'!H41-'Pre Delta'!H41","v":-0.06500000000001194},{"$f":"'Post Delta'!I41-'Pre Delta'!I41","v":0.048699999999996635},{"$f":"'Post Delta'!J41-'Pre Delta'!J41","v":-0.03639999999998622},{"$f":"'Post Delta'!K41-'Pre Delta'!K41","v":0.03820000000001755},null,{"$f":"'From Labview'!AG41","v":475},{"$f":"'From Labview'!D41","v":0.165},{"$f":"'From Labview'!H41","v":0.158},{"$f":"'From Labview'!L41","v":0.003},{"$f":"'From Labview'!P41","v":0.029},{"$f":"'From Labview'!S41","v":-0.159},{"$f":"'From Labview'!X41","v":0.039},{"$f":"'From Labview'!AB41","v":-0.065},{"$f":"'From Labview'!AF41","v":0.049},{"$f":"'From Labview'!AJ41","v":-0.036},{"$f":"'From Labview'!AN41","v":0.038}]
[{"$f":"'Pre Delta'!A42","v":500},{"$f":"'Post Delta'!B42-'Pre Delta'!B42","v":0.19830000000001746},{"$f":"'Post Delta'!C42-'Pre Delta'!C42","v":0.20239999999999725},{"$f":"'Post Delta'!D42-'Pre Delta'!D42","v":0.04980000000000473},{"$f":"'Post Delta'!E42-'Pre Delta'!E42","v":0.057599999999993656},{"$f":"'Post Delta'!F42-'Pre Delta'!F42","v":0.077699999999993},{"$f":"'Post Delta'!G42-'Pre Delta'!G42","v":0.07800000000000296},{"$f":"'Post Delta'!H42-'Pre Delta'!H42","v":-0.18540000000000134},{"$f":"'Post Delta'!I42-'Pre Delta'!I42","v":-0.11820000000000164},{"$f":"'Post Delta'!J42-'Pre Delta'!J42","v":-0.14040000000001385},{"$f":"'Post Delta'!K42-'Pre Delta'!K42","v":-0.11280000000000712},null,{"$f":"'From Labview'!AG42","v":500},{"$f":"'From Labview'!D42","v":0.198},{"$f":"'From Labview'!H42","v":0.202},{"$f":"'From Labview'!L42","v":0.05},{"$f":"'From Labview'!P42","v":0.058},{"$f":"'From Labview'!S42","v":-0.118},{"$f":"'From Labview'!X42","v":0.078},{"$f":"'From Labview'!AB42","v":-0.185},{"$f":"'From Labview'!AF42","v":-0.118},{"$f":"'From Labview'!AJ42","v":-0.14},{"$f":"'From Labview'!AN42","v":-0.113}]
[{"$f":"'Pre Delta'!A43","v":530},{"$f":"'Post Delta'!B43-'Pre Delta'!B43","v":0.2658000000000129},{"$f":"'Post Delta'!C43-'Pre Delta'!C43","v":0.23740000000000805},{"$f":"'Post Delta'!D43-'Pre Delta'!D43","v":0.10680000000000689},{"$f":"'Post Delta'!E43-'Pre Delta'!E43","v":0.10909999999998377},{"$f":"'Post Delta'!F43-'Pre Delta'!F43","v":0.09610000000000696},{"$f":"'Post Delta'!G43-'Pre Delta'!G43","v":0.10369999999997503},{"$f":"'Post Delta'!H43-'Pre Delta'!H43","v":-0.27300000000001035},{"$f":"'Post Delta'!I43-'Pre Delta'!I43","v":-0.32260000000000844},{"$f":"'Post Delta'!J43-'Pre Delta'!J43","v":-0.21590000000000487},{"$f":"'Post Delta'!K43-'Pre Delta'!K43","v":-0.30279999999999063},null,{"$f":"'From Labview'!AG43","v":530},{"$f":"'From Labview'!D43","v":0.266},{"$f":"'From Labview'!H43","v":0.237},{"$f":"'From Labview'!L43","v":0.107},{"$f":"'From Labview'!P43","v":0.109},{"$f":"'From Labview'!S43","v":-0.101},{"$f":"'From Labview'!X43","v":0.104},{"$f":"'From Labview'!AB43","v":-0.273},{"$f":"'From Labview'!AF43","v":-0.323},{"$f":"'From Labview'!AJ43","v":-0.216},{"$f":"'From Labview'!AN43","v":-0.303}]
[{"$f":"'Pre Delta'!A44","v":560},{"$f":"'Post Delta'!B44-'Pre Delta'!B44","v":0.29800000000001603},{"$f":"'Post Delta'!C44-'Pre Delta'!C44","v":0.24079999999999302},{"$f":"'Post Delta'!D44-'Pre Delta'!D44","v":0.09550000000001546},{"$f":"'Post Delta'!E44-'Pre Delta'!E44","v":0.11010000000000275},{"$f":"'Post Delta'!F44-'Pre Delta'!F44","v":0.08599999999999852},{"$f":"'Post Delta'!G44-'Pre Delta'!G44","v":0.09709999999999752},{"$f":"'Post Delta'!H44-'Pre Delta'!H44","v":-0.19149999999999068},{"$f":"'Post Delta'!I44-'Pre Delta'!I44","v":-0.4380999999999773},{"$f":"'Post Delta'!J44-'Pre Delta'!J44","v":-0.10500000000001819},{"$f":"'Post Delta'!K44-'Pre Delta'!K44","v":-0.3848999999999876},null,{"$f":"'From Labview'!AG44","v":560},{"$f":"'From Labview'!D44","v":0.298},{"$f":"'From Labview'!H44","v":0.241},{"$f":"'From Labview'!L44","v":0.096},{"$f":"'From Labview'!P44","v":0.11},{"$f":"'From Labview'!S44","v":-0.104},{"$f":"'From Labview'!X44","v":0.097},{"$f":"'From Labview'!AB44","v":-0.191},{"$f":"'From Labview'!AF44","v":-0.438},{"$f":"'From Labview'!AJ44","v":-0.105},{"$f":"'From Labview'!AN44","v":-0.385}]
[{"$f":"'Pre Delta'!A45","v":600},{"$f":"'Post Delta'!B45-'Pre Delta'!B45","v":0.2885000000000133},{"$f":"'Post Delta'!C45-'Pre Delta'!C45","v":0.21800000000001774},{"$f":"'Post Delta'!D45-'Pre Delta'!D45","v":0.07450000000000045},{"$f":"'Post Delta'!E45-'Pre Delta'!E45","v":0.09799999999999898},{"$f":"'Post Delta'!F45-'Pre Delta'!F45","v":0.07229999999997005},{"$f":"'Post Delta'!G45-'Pre Delta'!G45","v":0.08680000000001087},{"$f":"'Post Delta'!H45-'Pre Delta'!H45","v":0.14840000000002362},{"$f":"'Post Delta'!I45-'Pre Delta'!I45","v":-0.3067000000000064},{"$f":"'Post Delta'!J45-'Pre Delta'!J45","v":0.247099999999989},{"$f":"'Post Delta'!K45-'Pre Delta'!K45","v":-0.19200000000000728},null,{"$f":"'From Labview'!AG45","v":600},{"$f":"'From Labview'!D45","v":0.289},{"$f":"'From Labview'!H45","v":0.218},{"$f":"'From Labview'!L45","v":0.075},{"$f":"'From Labview'!P45","v":0.098},{"$f":"'From Labview'!S45","v":-0.11},{"$f":"'From Labview'!X45","v":0.087},{"$f":"'From Labview'!AB45","v":0.148},{"$f":"'From Labview'!AF45","v":-0.307},{"$f":"'From Labview'!AJ45","v":0.247},{"$f":"'From Labview'!AN45","v":-0.192}]
[{"$f":"'Pre Delta'!A46","v":630},{"$f":"'Post Delta'!B46-'Pre Delta'!B46","v":0.22180000000001598},{"$f":"'Post Delta'!C46-'Pre Delta'!C46","v":0.16379999999999484},{"$f":"'Post Delta'!D46-'Pre Delta'!D46","v":0.059799999999995634},{"$f":"'Post Delta'!E46-'Pre Delta'!E46","v":0.0852999999999895},{"$f":"'Post Delta'!F46-'Pre Delta'!F46","v":0.06159999999997012},{"$f":"'Post Delta'!G46-'Pre Delta'!G46","v":0.07770000000000721},{"$f":"'Post Delta'!H46-'Pre Delta'!H46","v":0.4709999999999752},{"$f":"'Post Delta'!I46-'Pre Delta'!I46","v":0.032200000000017326},{"$f":"'Post Delta'!J46-'Pre Delta'!J46","v":0.5206999999999908},{"$f":"'Post Delta'!K46-'Pre Delta'!K46","v":0.16440000000000055},null,{"$f":"'From Labview'!AG46","v":630},{"$f":"'From Labview'!D46","v":0.222},{"$f":"'From Labview'!H46","v":0.164},{"$f":"'From Labview'!L46","v":0.06},{"$f":"'From Labview'!P46","v":0.085},{"$f":"'From Labview'!S46","v":-0.116},{"$f":"'From Labview'!X46","v":0.078},{"$f":"'From Labview'!AB46","v":0.471},{"$f":"'From Labview'!AF46","v":0.032},{"$f":"'From Labview'!AJ46","v":0.521},{"$f":"'From Labview'!AN46","v":0.164}]
[{"$f":"'Pre Delta'!A47","v":670},{"$f":"'Post Delta'!B47-'Pre Delta'!B47","v":0.12530000000000996},{"$f":"'Post Delta'!C47-'Pre Delta'!C47","v":0.12260000000003402},{"$f":"'Post Delta'!D47-'Pre Delta'!D47","v":0.05130000000001189},{"$f":"'Post Delta'!E47-'Pre Delta'!E47","v":0.07550000000000523},{"$f":"'Post Delta'!F47-'Pre Delta'!F47","v":0.055499999999995},{"$f":"'Post Delta'!G47-'Pre Delta'!G47","v":0.07129999999997949},{"$f":"'Post Delta'!H47-'Pre Delta'!H47","v":0.48620000000001085},{"$f":"'Post Delta'!I47-'Pre Delta'!I47","v":0.2688999999999879},{"$f":"'Post Delta'!J47-'Pre Delta'!J47","v":0.48559999999999093},{"$f":"'Post Delta'!K47-'Pre Delta'!K47","v":0.32749999999998636},null,{"$f":"'From Labview'!AG47","v":670},{"$f":"'From Labview'!D47","v":0.125},{"$f":"'From Labview'!H47","v":0.123},{"$f":"'From Labview'!L47","v":0.051},{"$f":"'From Labview'!P47","v":0.076},{"$f":"'From Labview'!S47","v":-0.119},{"$f":"'From Labview'!X47","v":0.071},{"$f":"'From Labview'!AB47","v":0.486},{"$f":"'From Labview'!AF47","v":0.269},{"$f":"'From Labview'!AJ47","v":0.486},{"$f":"'From Labview'!AN47","v":0.327}]
[{"$f":"'Pre Delta'!A48","v":710},{"$f":"'Post Delta'!B48-'Pre Delta'!B48","v":0.06839999999999691},{"$f":"'Post Delta'!C48-'Pre Delta'!C48","v":0.11910000000000309},{"$f":"'Post Delta'!D48-'Pre Delta'!D48","v":0.04709999999997194},{"$f":"'Post Delta'!E48-'Pre Delta'!E48","v":0.07040000000000646},{"$f":"'Post Delta'!F48-'Pre Delta'!F48","v":0.05139999999997258},{"$f":"'Post Delta'!G48-'Pre Delta'!G48","v":0.06879999999998176},{"$f":"'Post Delta'!H48-'Pre Delta'!H48","v":0.3138999999999612},{"$f":"'Post Delta'!I48-'Pre Delta'!I48","v":0.3008000000000095},{"$f":"'Post Delta'!J48-'Pre Delta'!J48","v":0.2826000000000164},{"$f":"'Post Delta'!K48-'Pre Delta'!K48","v":0.256800000000041},null,{"$f":"'From Labview'!AG48","v":710},{"$f":"'From Labview'!D48","v":0.068},{"$f":"'From Labview'!H48","v":0.119},{"$f":"'From Labview'!L48","v":0.047},{"$f":"'From Labview'!P48","v":0.07},{"$f":"'From Labview'!S48","v":-0.119},{"$f":"'From Labview'!X48","v":0.069},{"$f":"'From Labview'!AB48","v":0.314},{"$f":"'From Labview'!AF48","v":0.301},{"$f":"'From Labview'!AJ48","v":0.283},{"$f":"'From Labview'!AN48","v":0.257}]
[{"$f":"'Pre Delta'!A49","v":750},{"$f":"'Post Delta'!B49-'Pre Delta'!B49","v":0.03130000000000166},{"$f":"'Post Delta'!C49-'Pre Delta'!C49","v":0.13410000000000366},{"$f":"'Post Delta'!D49-'Pre Delta'!D49","v":0.043300000000002115},{"$f":"'Post Delta'!E49-'Pre Delta'!E49","v":0.06850000000001444},{"$f":"'Post Delta'!F49-'Pre Delta'!F49","v":0.04619999999999891},{"$f":"'Post Delta'!G49-'Pre Delta'!G49","v":0.06989999999998986},{"$f":"'Post Delta'!H49-'Pre Delta'!H49","v":0.11870000000000402},{"$f":"'Post Delta'!I49-'Pre Delta'!I49","v":0.2856000000000023},{"$f":"'Post Delta'!J49-'Pre Delta'!J49","v":0.0806999999999789},{"$f":"'Post Delta'!K49-'Pre Delta'!K49","v":0.17300000000001603},null,{"$f":"'From Labview'!AG49","v":750},{"$f":"'From Labview'!D49","v":0.031},{"$f":"'From Labview'!H49","v":0.134},{"$f":"'From Labview'!L49","v":0.043},{"$f":"'From Labview'!P49","v":0.069},{"$f":"'From Labview'!S49","v":-0.118},{"$f":"'From Labview'!X49","v":0.07},{"$f":"'From Labview'!AB49","v":0.119},{"$f":"'From Labview'!AF49","v":0.286},{"$f":"'From Labview'!AJ49","v":0.081},{"$f":"'From Labview'!AN49","v":0.173}]
[{"$f":"'Pre Delta'!A50","v":800},{"$f":"'Post Delta'!B50-'Pre Delta'!B50","v":0.035899999999998045},{"$f":"'Post Delta'!C50-'Pre Delta'!C50","v":0.1641999999999939},{"$f":"'Post Delta'!D50-'Pre Delta'!D50","v":0.03650000000000375},{"$f":"'Post Delta'!E50-'Pre Delta'!E50","v":0.0689999999999884},{"$f":"'Post Delta'!F50-'Pre Delta'!F50","v":0.03799999999998249},{"$f":"'Post Delta'!G50-'Pre Delta'!G50","v":0.0719999999999743},{"$f":"'Post Delta'!H50-'Pre Delta'!H50","v":0.0198999999999927},{"$f":"'Post Delta'!I50-'Pre Delta'!I50","v":0.29179999999999495},{"$f":"'Post Delta'!J50-'Pre Delta'!J50","v":-0.007900000000006457},{"$f":"'Post Delta'!K50-'Pre Delta'!K50","v":0.18789999999999907},null,{"$f":"'From Labview'!AG50","v":800},{"$f":"'From Labview'!D50","v":0.036},{"$f":"'From Labview'!H50","v":0.164},{"$f":"'From Labview'!L50","v":0.037},{"$f":"'From Labview'!P50","v":0.069},{"$f":"'From Labview'!S50","v":-0.116},{"$f":"'From Labview'!X50","v":0.072},{"$f":"'From Labview'!AB50","v":0.02},{"$f":"'From Labview'!AF50","v":0.292},{"$f":"'From Labview'!AJ50","v":-0.008},{"$f":"'From Labview'!AN50","v":0.188}]
[{"$f":"'Pre Delta'!A51","v":850},{"$f":"'Post Delta'!B51-'Pre Delta'!B51","v":0.15989999999997906},{"$f":"'Post Delta'!C51-'Pre Delta'!C51","v":0.21949999999999648},{"$f":"'Post Delta'!D51-'Pre Delta'!D51","v":0.021399999999999864},{"$f":"'Post Delta'!E51-'Pre Delta'!E51","v":0.06359999999999388},{"$f":"'Post Delta'!F51-'Pre Delta'!F51","v":0.02580000000000382},{"$f":"'Post Delta'!G51-'Pre Delta'!G51","v":0.06939999999998747},{"$f":"'Post Delta'!H51-'Pre Delta'!H51","v":0.10049999999998249},{"$f":"'Post Delta'!I51-'Pre Delta'!I51","v":0.32500000000000284},{"$f":"'Post Delta'!J51-'Pre Delta'!J51","v":0.09129999999997551},{"$f":"'Post Delta'!K51-'Pre Delta'!K51","v":0.28050000000001774},null,{"$f":"'From Labview'!AG51","v":850},{"$f":"'From Labview'!D51","v":0.16},{"$f":"'From Labview'!H51","v":0.219},{"$f":"'From Labview'!L51","v":0.021},{"$f":"'From Labview'!P51","v":0.064},{"$f":"'From Labview'!S51","v":-0.114},{"$f":"'From Labview'!X51","v":0.069},{"$f":"'From Labview'!AB51","v":0.1},{"$f":"'From Labview'!AF51","v":0.325},{"$f":"'From Labview'!AJ51","v":0.091},{"$f":"'From Labview'!AN51","v":0.281}]
[{"$f":"'Pre Delta'!A52","v":900},{"$f":"'Post Delta'!B52-'Pre Delta'!B52","v":0.23339999999998895},{"$f":"'Post Delta'!C52-'Pre Delta'!C52","v":0.280200000000022},{"$f":"'Post Delta'!D52-'Pre Delta'!D52","v":-2.4000000000086175E-3},{"$f":"'Post Delta'!E52-'Pre Delta'!E52","v":0.04079999999999018},{"$f":"'Post Delta'!F52-'Pre Delta'!F52","v":0.010699999999985721},{"$f":"'Post Delta'!G52-'Pre Delta'!G52","v":0.046399999999977126},{"$f":"'Post Delta'!H52-'Pre Delta'!H52","v":0.2493000000000194},{"$f":"'Post Delta'!I52-'Pre Delta'!I52","v":0.36659999999999116},{"$f":"'Post Delta'!J52-'Pre Delta'!J52","v":0.24020000000000152},{"$f":"'Post Delta'!K52-'Pre Delta'!K52","v":0.3544000000000125},null,{"$f":"'From Labview'!AG52","v":900},{"$f":"'From Labview'!D52","v":0.233},{"$f":"'From Labview'!H52","v":0.28},{"$f":"'From Labview'!L52","v":-2E-3},{"$f":"'From Labview'!P52","v":0.041},{"$f":"'From Labview'!S52","v":-0.119},{"$f":"'From Labview'!X52","v":0.046},{"$f":"'From Labview'!AB52","v":0.249},{"$f":"'From Labview'!AF52","v":0.367},{"$f":"'From Labview'!AJ52","v":0.24},{"$f":"'From Labview'!AN52","v":0.354}]
[{"$f":"'Pre Delta'!A53","v":950},{"$f":"'Post Delta'!B53-'Pre Delta'!B53","v":0.2565000000000026},{"$f":"'Post Delta'!C53-'Pre Delta'!C53","v":0.36209999999996967},{"$f":"'Post Delta'!D53-'Pre Delta'!D53","v":-0.012999999999991019},{"$f":"'Post Delta'!E53-'Pre Delta'!E53","v":7.9999999998392468E-4},{"$f":"'Post Delta'!F53-'Pre Delta'!F53","v":0.005799999999993588},{"$f":"'Post Delta'!G53-'Pre Delta'!G53","v":0.007499999999993179},{"$f":"'Post Delta'!H53-'Pre Delta'!H53","v":0.3130000000000024},{"$f":"'Post Delta'!I53-'Pre Delta'!I53","v":0.38339999999999463},{"$f":"'Post Delta'!J53-'Pre Delta'!J53","v":0.2860999999999905},{"$f":"'Post Delta'!K53-'Pre Delta'!K53","v":0.355700000000013},null,{"$f":"'From Labview'!AG53","v":950},{"$f":"'From Labview'!D53","v":0.256},{"$f":"'From Labview'!H53","v":0.362},{"$f":"'From Labview'!L53","v":-0.013},{"$f":"'From Labview'!P53","v":1E-3},{"$f":"'From Labview'!S53","v":-0.145},{"$f":"'From Labview'!X53","v":0.008},{"$f":"'From Labview'!AB53","v":0.313},{"$f":"'From Labview'!AF53","v":0.383},{"$f":"'From Labview'!AJ53","v":0.286},{"$f":"'From Labview'!AN53","v":0.356}]
[{"$f":"'Pre Delta'!A54","v":1000},{"$f":"'Post Delta'!B54-'Pre Delta'!B54","v":0.31460000000001287},{"$f":"'Post Delta'!C54-'Pre Delta'!C54","v":0.44319999999999027},{"$f":"'Post Delta'!D54-'Pre Delta'!D54","v":0.05299999999999727},{"$f":"'Post Delta'!E54-'Pre Delta'!E54","v":-0.024299999999996658},{"$f":"'Post Delta'!F54-'Pre Delta'!F54","v":0.04210000000001912},{"$f":"'Post Delta'!G54-'Pre Delta'!G54","v":-0.017299999999991655},{"$f":"'Post Delta'!H54-'Pre Delta'!H54","v":0.3429999999999893},{"$f":"'Post Delta'!I54-'Pre Delta'!I54","v":0.3996000000000066},{"$f":"'Post Delta'!J54-'Pre Delta'!J54","v":0.3050000000000068},{"$f":"'Post Delta'!K54-'Pre Delta'!K54","v":0.35530000000001394},null,{"$f":"'From Labview'!AG54","v":1000},{"$f":"'From Labview'!D54","v":0.315},{"$f":"'From Labview'!H54","v":0.443},{"$f":"'From Labview'!L54","v":0.053},{"$f":"'From Labview'!P54","v":-0.024},{"$f":"'From Labview'!S54","v":-0.174},{"$f":"'From Labview'!X54","v":-0.017},{"$f":"'From Labview'!AB54","v":0.343},{"$f":"'From Labview'!AF54","v":0.4},{"$f":"'From Labview'!AJ54","v":0.305},{"$f":"'From Labview'!AN54","v":0.355}]
[{"$f":"'Pre Delta'!A55","v":1060},{"$f":"'Post Delta'!B55-'Pre Delta'!B55","v":0.3890999999999991},{"$f":"'Post Delta'!C55-'Pre Delta'!C55","v":0.5032000000000068},{"$f":"'Post Delta'!D55-'Pre Delta'!D55","v":0.13299999999999557},{"$f":"'Post Delta'!E55-'Pre Delta'!E55","v":0.060000000000002274},{"$f":"'Post Delta'!F55-'Pre Delta'!F55","v":0.10470000000000823},{"$f":"'Post Delta'!G55-'Pre Delta'!G55","v":0.03740000000000521},{"$f":"'Post Delta'!H55-'Pre Delta'!H55","v":0.39649999999997476},{"$f":"'Post Delta'!I55-'Pre Delta'!I55","v":0.446700000000007},{"$f":"'Post Delta'!J55-'Pre Delta'!J55","v":0.36250000000001137},{"$f":"'Post Delta'!K55-'Pre Delta'!K55","v":0.3994999999999891},null,{"$f":"'From Labview'!AG55","v":1060},{"$f":"'From Labview'!D55","v":0.389},{"$f":"'From Labview'!H55","v":0.503},{"$f":"'From Labview'!L55","v":0.133},{"$f":"'From Labview'!P55","v":0.06},{"$f":"'From Labview'!S55","v":-0.179},{"$f":"'From Labview'!X55","v":0.037},{"$f":"'From Labview'!AB55","v":0.396},{"$f":"'From Labview'!AF55","v":0.447},{"$f":"'From Labview'!AJ55","v":0.363},{"$f":"'From Labview'!AN55","v":0.399}]
[{"$f":"'Pre Delta'!A56","v":1120},{"$f":"'Post Delta'!B56-'Pre Delta'!B56","v":0.46410000000000196},{"$f":"'Post Delta'!C56-'Pre Delta'!C56","v":0.5827000000000027},{"$f":"'Post Delta'!D56-'Pre Delta'!D56","v":0.16150000000000375},{"$f":"'Post Delta'!E56-'Pre Delta'!E56","v":0.18489999999998474},{"$f":"'Post Delta'!F56-'Pre Delta'!F56","v":0.13990000000001146},{"$f":"'Post Delta'!G56-'Pre Delta'!G56","v":0.15029999999998722},{"$f":"'Post Delta'!H56-'Pre Delta'!H56","v":0.4748000000000161},{"$f":"'Post Delta'!I56-'Pre Delta'!I56","v":0.5193999999999903},{"$f":"'Post Delta'!J56-'Pre Delta'!J56","v":0.4590000000000316},{"$f":"'Post Delta'!K56-'Pre Delta'!K56","v":0.478999999999985},null,{"$f":"'From Labview'!AG56","v":1120},{"$f":"'From Labview'!D56","v":0.464},{"$f":"'From Labview'!H56","v":0.583},{"$f":"'From Labview'!L56","v":0.161},{"$f":"'From Labview'!P56","v":0.185},{"$f":"'From Labview'!S56","v":-0.167},{"$f":"'From Labview'!X56","v":0.15},{"$f":"'From Labview'!AB56","v":0.475},{"$f":"'From Labview'!AF56","v":0.519},{"$f":"'From Labview'!AJ56","v":0.459},{"$f":"'From Labview'!AN56","v":0.479}]
[{"$f":"'Pre Delta'!A57","v":1180},{"$f":"'Post Delta'!B57-'Pre Delta'!B57","v":0.5703000000000031},{"$f":"'Post Delta'!C57-'Pre Delta'!C57","v":0.6476999999999862},{"$f":"'Post Delta'!D57-'Pre Delta'!D57","v":0.168200000000013},{"$f":"'Post Delta'!E57-'Pre Delta'!E57","v":0.20659999999999457},{"$f":"'Post Delta'!F57-'Pre Delta'!F57","v":0.14459999999999695},{"$f":"'Post Delta'!G57-'Pre Delta'!G57","v":0.1711000000000098},{"$f":"'Post Delta'!H57-'Pre Delta'!H57","v":0.5630999999999915},{"$f":"'Post Delta'!I57-'Pre Delta'!I57","v":0.5857999999999777},{"$f":"'Post Delta'!J57-'Pre Delta'!J57","v":0.5635999999999939},{"$f":"'Post Delta'!K57-'Pre Delta'!K57","v":0.5822000000000145},null,{"$f":"'From Labview'!AG57","v":1180},{"$f":"'From Labview'!D57","v":0.57},{"$f":"'From Labview'!H57","v":0.648},{"$f":"'From Labview'!L57","v":0.168},{"$f":"'From Labview'!P57","v":0.207},{"$f":"'From Labview'!S57","v":-0.149},{"$f":"'From Labview'!X57","v":0.171},{"$f":"'From Labview'!AB57","v":0.563},{"$f":"'From Labview'!AF57","v":0.586},{"$f":"'From Labview'!AJ57","v":0.564},{"$f":"'From Labview'!AN57","v":0.582}]
[{"$f":"'Pre Delta'!A58","v":1250},{"$f":"'Post Delta'!B58-'Pre Delta'!B58","v":0.6216000000000008},{"$f":"'Post Delta'!C58-'Pre Delta'!C58","v":0.7520999999999987},{"$f":"'Post Delta'!D58-'Pre Delta'!D58","v":0.16340000000000998},{"$f":"'Post Delta'!E58-'Pre Delta'!E58","v":0.18499999999998806},{"$f":"'Post Delta'!F58-'Pre Delta'!F58","v":0.1395000000000124},{"$f":"'Post Delta'!G58-'Pre Delta'!G58","v":0.15289999999998827},{"$f":"'Post Delta'!H58-'Pre Delta'!H58","v":0.6741000000000241},{"$f":"'Post Delta'!I58-'Pre Delta'!I58","v":0.589500000000001},{"$f":"'Post Delta'!J58-'Pre Delta'!J58","v":0.6585999999999927},{"$f":"'Post Delta'!K58-'Pre Delta'!K58","v":0.7109999999999985},null,{"$f":"'From Labview'!AG58","v":1250},{"$f":"'From Labview'!D58","v":0.622},{"$f":"'From Labview'!H58","v":0.752},{"$f":"'From Labview'!L58","v":0.163},{"$f":"'From Labview'!P58","v":0.185},{"$f":"'From Labview'!S58","v":-0.126},{"$f":"'From Labview'!X58","v":0.153},{"$f":"'From Labview'!AB58","v":0.674},{"$f":"'From Labview'!AF58","v":0.59},{"$f":"'From Labview'!AJ58","v":0.659},{"$f":"'From Labview'!AN58","v":0.711}]
[{"$f":"'Pre Delta'!A59","v":1320},{"$f":"'Post Delta'!B59-'Pre Delta'!B59","v":0.7303999999999888},{"$f":"'Post Delta'!C59-'Pre Delta'!C59","v":0.9217999999999762},{"$f":"'Post Delta'!D59-'Pre Delta'!D59","v":0.14599999999998658},{"$f":"'Post Delta'!E59-'Pre Delta'!E59","v":0.15000000000000568},{"$f":"'Post Delta'!F59-'Pre Delta'!F59","v":0.12489999999999668},{"$f":"'Post Delta'!G59-'Pre Delta'!G59","v":0.1285000000000025},{"$f":"'Post Delta'!H59-'Pre Delta'!H59","v":0.8454000000000264},{"$f":"'Post Delta'!I59-'Pre Delta'!I59","v":0.5245999999999924},{"$f":"'Post Delta'!J59-'Pre Delta'!J59","v":0.8161999999999949},{"$f":"'Post Delta'!K59-'Pre Delta'!K59","v":0.9717000000000127},null,{"$f":"'From Labview'!AG59","v":1320},{"$f":"'From Labview'!D59","v":0.73},{"$f":"'From Labview'!H59","v":0.922},{"$f":"'From Labview'!L59","v":0.146},{"$f":"'From Labview'!P59","v":0.15},{"$f":"'From Labview'!S59","v":-0.107},{"$f":"'From Labview'!X59","v":0.129},{"$f":"'From Labview'!AB59","v":0.845},{"$f":"'From Labview'!AF59","v":0.525},{"$f":"'From Labview'!AJ59","v":0.816},{"$f":"'From Labview'!AN59","v":0.972}]
[{"$f":"'Pre Delta'!A60","v":1400},{"$f":"'Post Delta'!B60-'Pre Delta'!B60","v":0.9195999999999884},{"$f":"'Post Delta'!C60-'Pre Delta'!C60","v":1.0076999999999998},{"$f":"'Post Delta'!D60-'Pre Delta'!D60","v":0.10830000000001405},{"$f":"'Post Delta'!E60-'Pre Delta'!E60","v":0.1021999999999963},{"$f":"'Post Delta'!F60-'Pre Delta'!F60","v":0.09740000000000748},{"$f":"'Post Delta'!G60-'Pre Delta'!G60","v":0.09490000000000975},{"$f":"'Post Delta'!H60-'Pre Delta'!H60","v":0.9893000000000001},{"$f":"'Post Delta'!I60-'Pre Delta'!I60","v":0.4520000000000266},{"$f":"'Post Delta'!J60-'Pre Delta'!J60","v":0.9876000000000147},{"$f":"'Post Delta'!K60-'Pre Delta'!K60","v":1.438299999999984},null,{"$f":"'From Labview'!AG60","v":1400},{"$f":"'From Labview'!D60","v":0.92},{"$f":"'From Labview'!H60","v":1.008},{"$f":"'From Labview'!L60","v":0.108},{"$f":"'From Labview'!P60","v":0.102},{"$f":"'From Labview'!S60","v":-0.103},{"$f":"'From Labview'!X60","v":0.095},{"$f":"'From Labview'!AB60","v":0.989},{"$f":"'From Labview'!AF60","v":0.452},{"$f":"'From Labview'!AJ60","v":0.988},{"$f":"'From Labview'!AN60","v":1.438}]
[{"$f":"'Pre Delta'!A61","v":1500},{"$f":"'Post Delta'!B61-'Pre Delta'!B61","v":1.0523000000000025},{"$f":"'Post Delta'!C61-'Pre Delta'!C61","v":1.0215999999999923},{"$f":"'Post Delta'!D61-'Pre Delta'!D61","v":0.054400000000015325},{"$f":"'Post Delta'!E61-'Pre Delta'!E61","v":0.05200000000002092},{"$f":"'Post Delta'!F61-'Pre Delta'!F61","v":0.06310000000000571},{"$f":"'Post Delta'!G61-'Pre Delta'!G61","v":0.059899999999998954},{"$f":"'Post Delta'!H61-'Pre Delta'!H61","v":0.9461000000000013},{"$f":"'Post Delta'!I61-'Pre Delta'!I61","v":0.5559999999999832},{"$f":"'Post Delta'!J61-'Pre Delta'!J61","v":1.0497000000000014},{"$f":"'Post Delta'!K61-'Pre Delta'!K61","v":1.5527999999999906},null,{"$f":"'From Labview'!AG61","v":1500},{"$f":"'From Labview'!D61","v":1.052},{"$f":"'From Labview'!H61","v":1.022},{"$f":"'From Labview'!L61","v":0.054},{"$f":"'From Labview'!P61","v":0.052},{"$f":"'From Labview'!S61","v":-0.127},{"$f":"'From Labview'!X61","v":0.06},{"$f":"'From Labview'!AB61","v":0.946},{"$f":"'From Labview'!AF61","v":0.556},{"$f":"'From Labview'!AJ61","v":1.05},{"$f":"'From Labview'!AN61","v":1.553}]
[{"$f":"'Pre Delta'!A62","v":1600},{"$f":"'Post Delta'!B62-'Pre Delta'!B62","v":1.1591999999999985},{"$f":"'Post Delta'!C62-'Pre Delta'!C62","v":1.0066000000000201},{"$f":"'Post Delta'!D62-'Pre Delta'!D62","v":0.038000000000010914},{"$f":"'Post Delta'!E62-'Pre Delta'!E62","v":0.03819999999998913},{"$f":"'Post Delta'!F62-'Pre Delta'!F62","v":0.052400000000005775},{"$f":"'Post Delta'!G62-'Pre Delta'!G62","v":0.04529999999998324},{"$f":"'Post Delta'!H62-'Pre Delta'!H62","v":0.8231999999999999},{"$f":"'Post Delta'!I62-'Pre Delta'!I62","v":0.8225000000000051},{"$f":"'Post Delta'!J62-'Pre Delta'!J62","v":1.0063999999999993},{"$f":"'Post Delta'!K62-'Pre Delta'!K62","v":1.2976999999999919},null,{"$f":"'From Labview'!AG62","v":1600},{"$f":"'From Labview'!D62","v":1.159},{"$f":"'From Labview'!H62","v":1.007},{"$f":"'From Labview'!L62","v":0.038},{"$f":"'From Labview'!P62","v":0.038},{"$f":"'From Labview'!S62","v":-0.149},{"$f":"'From Labview'!X62","v":0.045},{"$f":"'From Labview'!AB62","v":0.823},{"$f":"'From Labview'!AF62","v":0.823},{"$f":"'From Labview'!AJ62","v":1.006},{"$f":"'From Labview'!AN62","v":1.298}]
[{"$f":"'Pre Delta'!A63","v":1700},{"$f":"'Post Delta'!B63-'Pre Delta'!B63","v":1.1436000000000206},{"$f":"'Post Delta'!C63-'Pre Delta'!C63","v":0.9679000000000144},{"$f":"'Post Delta'!D63-'Pre Delta'!D63","v":0.04540000000000077},{"$f":"'Post Delta'!E63-'Pre Delta'!E63","v":0.06099999999999284},{"$f":"'Post Delta'!F63-'Pre Delta'!F63","v":0.04569999999999652},{"$f":"'Post Delta'!G63-'Pre Delta'!G63","v":0.04920000000001323},{"$f":"'Post Delta'!H63-'Pre Delta'!H63","v":0.6961000000000013},{"$f":"'Post Delta'!I63-'Pre Delta'!I63","v":0.9073000000000064},{"$f":"'Post Delta'!J63-'Pre Delta'!J63","v":0.819500000000005},{"$f":"'Post Delta'!K63-'Pre Delta'!K63","v":0.9815000000000111},null,{"$f":"'From Labview'!AG63","v":1700},{"$f":"'From Labview'!D63","v":1.144},{"$f":"'From Labview'!H63","v":0.968},{"$f":"'From Labview'!L63","v":0.045},{"$f":"'From Labview'!P63","v":0.061},{"$f":"'From Labview'!S63","v":-0.149},{"$f":"'From Labview'!X63","v":0.049},{"$f":"'From Labview'!AB63","v":0.696},{"$f":"'From Labview'!AF63","v":0.907},{"$f":"'From Labview'!AJ63","v":0.82},{"$f":"'From Labview'!AN63","v":0.982}]
[{"$f":"'Pre Delta'!A64","v":1800},{"$f":"'Post Delta'!B64-'Pre Delta'!B64","v":0.9878000000000213},{"$f":"'Post Delta'!C64-'Pre Delta'!C64","v":0.9011999999999887},{"$f":"'Post Delta'!D64-'Pre Delta'!D64","v":0.02729999999999677},{"$f":"'Post Delta'!E64-'Pre Delta'!E64","v":0.07280000000001507},{"$f":"'Post Delta'!F64-'Pre Delta'!F64","v":0.014899999999983038},{"$f":"'Post Delta'!G64-'Pre Delta'!G64","v":0.049100000000009913},{"$f":"'Post Delta'!H64-'Pre Delta'!H64","v":0.588099999999983},{"$f":"'Post Delta'!I64-'Pre Delta'!I64","v":0.8195000000000192},{"$f":"'Post Delta'!J64-'Pre Delta'!J64","v":0.601100000000045},{"$f":"'Post Delta'!K64-'Pre Delta'!K64","v":0.7211999999999961},null,{"$f":"'From Labview'!AG64","v":1800},{"$f":"'From Labview'!D64","v":0.988},{"$f":"'From Labview'!H64","v":0.901},{"$f":"'From Labview'!L64","v":0.027},{"$f":"'From Labview'!P64","v":0.073},{"$f":"'From Labview'!S64","v":-0.149},{"$f":"'From Labview'!X64","v":0.049},{"$f":"'From Labview'!AB64","v":0.588},{"$f":"'From Labview'!AF64","v":0.82},{"$f":"'From Labview'!AJ64","v":0.601},{"$f":"'From Labview'!AN64","v":0.721}]
[{"$f":"'Pre Delta'!A65","v":1900},{"$f":"'Post Delta'!B65-'Pre Delta'!B65","v":0.8884999999999934},{"$f":"'Post Delta'!C65-'Pre Delta'!C65","v":0.8514000000000124},{"$f":"'Post Delta'!D65-'Pre Delta'!D65","v":-0.003199999999992542},{"$f":"'Post Delta'!E65-'Pre Delta'!E65","v":0.06120000000001369},{"$f":"'Post Delta'!F65-'Pre Delta'!F65","v":-0.021499999999988972},{"$f":"'Post Delta'!G65-'Pre Delta'!G65","v":0.03609999999999047},{"$f":"'Post Delta'!H65-'Pre Delta'!H65","v":0.5705999999999989},{"$f":"'Post Delta'!I65-'Pre Delta'!I65","v":0.7157000000000266},{"$f":"'Post Delta'!J65-'Pre Delta'!J65","v":0.5825999999999993},{"$f":"'Post Delta'!K65-'Pre Delta'!K65","v":0.5998000000000019},null,{"$f":"'From Labview'!AG65","v":1900},{"$f":"'From Labview'!D65","v":0.888},{"$f":"'From Labview'!H65","v":0.851},{"$f":"'From Labview'!L65","v":-0.003},{"$f":"'From Labview'!P65","v":0.061},{"$f":"'From Labview'!S65","v":-0.151},{"$f":"'From Labview'!X65","v":0.036},{"$f":"'From Labview'!AB65","v":0.571},{"$f":"'From Labview'!AF65","v":0.716},{"$f":"'From Labview'!AJ65","v":0.583},{"$f":"'From Labview'!AN65","v":0.6}]
[{"$f":"'Pre Delta'!A66","v":2000},{"$f":"'Post Delta'!B66-'Pre Delta'!B66","v":0.8311000000000206},{"$f":"'Post Delta'!C66-'Pre Delta'!C66","v":0.8641000000000076},{"$f":"'Post Delta'!D66-'Pre Delta'!D66","v":-0.01789999999998315},{"$f":"'Post Delta'!E66-'Pre Delta'!E66","v":0.03390000000001692},{"$f":"'Post Delta'!F66-'Pre Delta'!F66","v":-0.03269999999999129},{"$f":"'Post Delta'!G66-'Pre Delta'!G66","v":0.013399999999990087},{"$f":"'Post Delta'!H66-'Pre Delta'!H66","v":0.6457000000000193},{"$f":"'Post Delta'!I66-'Pre Delta'!I66","v":0.6320999999999799},{"$f":"'Post Delta'!J66-'Pre Delta'!J66","v":0.6911000000000342},{"$f":"'Post Delta'!K66-'Pre Delta'!K66","v":0.5656999999999925},null,{"$f":"'From Labview'!AG66","v":2000},{"$f":"'From Labview'!D66","v":0.831},{"$f":"'From Labview'!H66","v":0.864},{"$f":"'From Labview'!L66","v":-0.018},{"$f":"'From Labview'!P66","v":0.034},{"$f":"'From Labview'!S66","v":-0.154},{"$f":"'From Labview'!X66","v":0.013},{"$f":"'From Labview'!AB66","v":0.646},{"$f":"'From Labview'!AF66","v":0.632},{"$f":"'From Labview'!AJ66","v":0.691},{"$f":"'From Labview'!AN66","v":0.566}]
[{"$f":"'Pre Delta'!A67","v":2120},{"$f":"'Post Delta'!B67-'Pre Delta'!B67","v":0.8075999999999937},{"$f":"'Post Delta'!C67-'Pre Delta'!C67","v":0.895300000000006},{"$f":"'Post Delta'!D67-'Pre Delta'!D67","v":-2.4999999999977263E-3},{"$f":"'Post Delta'!E67-'Pre Delta'!E67","v":0.007600000000010709},{"$f":"'Post Delta'!F67-'Pre Delta'!F67","v":1.7000000000138016E-3},{"$f":"'Post Delta'!G67-'Pre Delta'!G67","v":0.010400000000004184},{"$f":"'Post Delta'!H67-'Pre Delta'!H67","v":0.7283000000000186},{"$f":"'Post Delta'!I67-'Pre Delta'!I67","v":0.5945000000000107},{"$f":"'Post Delta'!J67-'Pre Delta'!J67","v":0.7638999999999783},{"$f":"'Post Delta'!K67-'Pre Delta'!K67","v":0.623500000000007},null,{"$f":"'From Labview'!AG67","v":2120},{"$f":"'From Labview'!D67","v":0.808},{"$f":"'From Labview'!H67","v":0.895},{"$f":"'From Labview'!L67","v":-2E-3},{"$f":"'From Labview'!P67","v":0.008},{"$f":"'From Labview'!S67","v":-0.156},{"$f":"'From Labview'!X67","v":0.01},{"$f":"'From Labview'!AB67","v":0.728},{"$f":"'From Labview'!AF67","v":0.594},{"$f":"'From Labview'!AJ67","v":0.764},{"$f":"'From Labview'!AN67","v":0.623}]
[{"$f":"'Pre Delta'!A68","v":2240},{"$f":"'Post Delta'!B68-'Pre Delta'!B68","v":0.8120000000000118},{"$f":"'Post Delta'!C68-'Pre Delta'!C68","v":0.9135999999999882},{"$f":"'Post Delta'!D68-'Pre Delta'!D68","v":0.028500000000008185},{"$f":"'Post Delta'!E68-'Pre Delta'!E68","v":1.999999999782176E-4},{"$f":"'Post Delta'!F68-'Pre Delta'!F68","v":0.05750000000000455},{"$f":"'Post Delta'!G68-'Pre Delta'!G68","v":0.04420000000000357},{"$f":"'Post Delta'!H68-'Pre Delta'!H68","v":0.7623000000000104},{"$f":"'Post Delta'!I68-'Pre Delta'!I68","v":0.6519999999999868},{"$f":"'Post Delta'!J68-'Pre Delta'!J68","v":0.738599999999991},{"$f":"'Post Delta'!K68-'Pre Delta'!K68","v":0.8050999999999817},null,{"$f":"'From Labview'!AG68","v":2240},{"$f":"'From Labview'!D68","v":0.812},{"$f":"'From Labview'!H68","v":0.914},{"$f":"'From Labview'!L68","v":0.029},{"$f":"'From Labview'!P68","v":0},{"$f":"'From Labview'!S68","v":-0.157},{"$f":"'From Labview'!X68","v":0.044},{"$f":"'From Labview'!AB68","v":0.762},{"$f":"'From Labview'!AF68","v":0.652},{"$f":"'From Labview'!AJ68","v":0.739},{"$f":"'From Labview'!AN68","v":0.805}]
[{"$f":"'Pre Delta'!A69","v":2360},{"$f":"'Post Delta'!B69-'Pre Delta'!B69","v":0.7601999999999975},{"$f":"'Post Delta'!C69-'Pre Delta'!C69","v":0.9123000000000161},{"$f":"'Post Delta'!D69-'Pre Delta'!D69","v":0.05180000000001428},{"$f":"'Post Delta'!E69-'Pre Delta'!E69","v":0.012200000000007094},{"$f":"'Post Delta'!F69-'Pre Delta'!F69","v":0.08750000000000568},{"$f":"'Post Delta'!G69-'Pre Delta'!G69","v":0.08730000000001326},{"$f":"'Post Delta'!H69-'Pre Delta'!H69","v":0.7715000000000174},{"$f":"'Post Delta'!I69-'Pre Delta'!I69","v":0.751000000000019},{"$f":"'Post Delta'!J69-'Pre Delta'!J69","v":0.6530000000000058},{"$f":"'Post Delta'!K69-'Pre Delta'!K69","v":1.0405999999999977},null,{"$f":"'From Labview'!AG69","v":2360},{"$f":"'From Labview'!D69","v":0.76},{"$f":"'From Labview'!H69","v":0.912},{"$f":"'From Labview'!L69","v":0.052},{"$f":"'From Labview'!P69","v":0.012},{"$f":"'From Labview'!S69","v":-0.16},{"$f":"'From Labview'!X69","v":0.087},{"$f":"'From Labview'!AB69","v":0.772},{"$f":"'From Labview'!AF69","v":0.751},{"$f":"'From Labview'!AJ69","v":0.653},{"$f":"'From Labview'!AN69","v":1.041}]
[{"$f":"'Pre Delta'!A70","v":2500},{"$f":"'Post Delta'!B70-'Pre Delta'!B70","v":0.09910000000000707},{"$f":"'Post Delta'!C70-'Pre Delta'!C70","v":0.6770999999999816},{"$f":"'Post Delta'!D70-'Pre Delta'!D70","v":0.08510000000001128},{"$f":"'Post Delta'!E70-'Pre Delta'!E70","v":0.03650000000000375},{"$f":"'Post Delta'!F70-'Pre Delta'!F70","v":0.0847999999999729},{"$f":"'Post Delta'!G70-'Pre Delta'!G70","v":0.11240000000000805},{"$f":"'Post Delta'!H70-'Pre Delta'!H70","v":0.8466000000000093},{"$f":"'Post Delta'!I70-'Pre Delta'!I70","v":0.6831999999999994},{"$f":"'Post Delta'!J70-'Pre Delta'!J70","v":0.7125000000000057},{"$f":"'Post Delta'!K70-'Pre Delta'!K70","v":1.0483999999999867},null,{"$f":"'From Labview'!AG70","v":2500},{"$f":"'From Labview'!D70","v":0.099},{"$f":"'From Labview'!H70","v":0.677},{"$f":"'From Labview'!L70","v":0.085},{"$f":"'From Labview'!P70","v":0.036},{"$f":"'From Labview'!S70","v":-0.162},{"$f":"'From Labview'!X70","v":0.112},{"$f":"'From Labview'!AB70","v":0.847},{"$f":"'From Labview'!AF70","v":0.683},{"$f":"'From Labview'!AJ70","v":0.712},{"$f":"'From Labview'!AN70","v":1.048}]
[{"$f":"'Pre Delta'!A71","v":2650},{"$f":"'Post Delta'!B71-'Pre Delta'!B71","v":-0.785899999999998},{"$f":"'Post Delta'!C71-'Pre Delta'!C71","v":0.2908000000000186},{"$f":"'Post Delta'!D71-'Pre Delta'!D71","v":0.1507999999999896},{"$f":"'Post Delta'!E71-'Pre Delta'!E71","v":0.06029999999999802},{"$f":"'Post Delta'!F71-'Pre Delta'!F71","v":0.0794999999999817},{"$f":"'Post Delta'!G71-'Pre Delta'!G71","v":0.10410000000000252},{"$f":"'Post Delta'!H71-'Pre Delta'!H71","v":1.0119999999999933},{"$f":"'Post Delta'!I71-'Pre Delta'!I71","v":0.501899999999992},{"$f":"'Post Delta'!J71-'Pre Delta'!J71","v":0.8790000000000049},{"$f":"'Post Delta'!K71-'Pre Delta'!K71","v":0.8000999999999721},null,{"$f":"'From Labview'!AG71","v":2650},{"$f":"'From Labview'!D71","v":-0.786},{"$f":"'From Labview'!H71","v":0.291},{"$f":"'From Labview'!L71","v":0.151},{"$f":"'From Labview'!P71","v":0.06},{"$f":"'From Labview'!S71","v":-0.146},{"$f":"'From Labview'!X71","v":0.104},{"$f":"'From Labview'!AB71","v":1.012},{"$f":"'From Labview'!AF71","v":0.502},{"$f":"'From Labview'!AJ71","v":0.879},{"$f":"'From Labview'!AN71","v":0.8}]
[{"$f":"'Pre Delta'!A72","v":2800},{"$f":"'Post Delta'!B72-'Pre Delta'!B72","v":-0.9211999999999989},{"$f":"'Post Delta'!C72-'Pre Delta'!C72","v":0.20360000000000866},{"$f":"'Post Delta'!D72-'Pre Delta'!D72","v":0.14709999999999468},{"$f":"'Post Delta'!E72-'Pre Delta'!E72","v":0.06650000000000489},{"$f":"'Post Delta'!F72-'Pre Delta'!F72","v":0.06329999999999814},{"$f":"'Post Delta'!G72-'Pre Delta'!G72","v":0.07999999999998408},{"$f":"'Post Delta'!H72-'Pre Delta'!H72","v":0.7720999999999876},{"$f":"'Post Delta'!I72-'Pre Delta'!I72","v":0.396499999999989},{"$f":"'Post Delta'!J72-'Pre Delta'!J72","v":0.6990000000000123},{"$f":"'Post Delta'!K72-'Pre Delta'!K72","v":0.6576999999999771},null,{"$f":"'From Labview'!AG72","v":2800},{"$f":"'From Labview'!D72","v":-0.921},{"$f":"'From Labview'!H72","v":0.204},{"$f":"'From Labview'!L72","v":0.147},{"$f":"'From Labview'!P72","v":0.067},{"$f":"'From Labview'!S72","v":-0.135},{"$f":"'From Labview'!X72","v":0.08},{"$f":"'From Labview'!AB72","v":0.772},{"$f":"'From Labview'!AF72","v":0.396},{"$f":"'From Labview'!AJ72","v":0.699},{"$f":"'From Labview'!AN72","v":0.658}]
[{"$f":"'Pre Delta'!A73","v":3000},{"$f":"'Post Delta'!B73-'Pre Delta'!B73","v":-0.6697999999999951},{"$f":"'Post Delta'!C73-'Pre Delta'!C73","v":0.2892000000000081},{"$f":"'Post Delta'!D73-'Pre Delta'!D73","v":0.09830000000000894},{"$f":"'Post Delta'!E73-'Pre Delta'!E73","v":0.08149999999997704},{"$f":"'Post Delta'!F73-'Pre Delta'!F73","v":0.04560000000000741},{"$f":"'Post Delta'!G73-'Pre Delta'!G73","v":0.057599999999979445},{"$f":"'Post Delta'!H73-'Pre Delta'!H73","v":0.5835000000000079},{"$f":"'Post Delta'!I73-'Pre Delta'!I73","v":0.3234999999999957},{"$f":"'Post Delta'!J73-'Pre Delta'!J73","v":0.572400000000016},{"$f":"'Post Delta'!K73-'Pre Delta'!K73","v":0.6902999999999935},null,{"$f":"'From Labview'!AG73","v":3000},{"$f":"'From Labview'!D73","v":-0.67},{"$f":"'From Labview'!H73","v":0.289},{"$f":"'From Labview'!L73","v":0.098},{"$f":"'From Labview'!P73","v":0.081},{"$f":"'From Labview'!S73","v":-0.132},{"$f":"'From Labview'!X73","v":0.058},{"$f":"'From Labview'!AB73","v":0.584},{"$f":"'From Labview'!AF73","v":0.324},{"$f":"'From Labview'!AJ73","v":0.572},{"$f":"'From Labview'!AN73","v":0.69}]
[{"$f":"'Pre Delta'!A74","v":3150},{"$f":"'Post Delta'!B74-'Pre Delta'!B74","v":-0.16099999999998715},{"$f":"'Post Delta'!C74-'Pre Delta'!C74","v":0.35480000000001155},{"$f":"'Post Delta'!D74-'Pre Delta'!D74","v":0.06870000000000687},{"$f":"'Post Delta'!E74-'Pre Delta'!E74","v":0.11079999999999757},{"$f":"'Post Delta'!F74-'Pre Delta'!F74","v":0.04630000000000223},{"$f":"'Post Delta'!G74-'Pre Delta'!G74","v":0.07650000000001},{"$f":"'Post Delta'!H74-'Pre Delta'!H74","v":0.8094999999999999},{"$f":"'Post Delta'!I74-'Pre Delta'!I74","v":0.16790000000000305},{"$f":"'Post Delta'!J74-'Pre Delta'!J74","v":0.6083999999999747},{"$f":"'Post Delta'!K74-'Pre Delta'!K74","v":0.8829999999999814},null,{"$f":"'From Labview'!AG74","v":3150},{"$f":"'From Labview'!D74","v":-0.161},{"$f":"'From Labview'!H74","v":0.355},{"$f":"'From Labview'!L74","v":0.069},{"$f":"'From Labview'!P74","v":0.111},{"$f":"'From Labview'!S74","v":-0.127},{"$f":"'From Labview'!X74","v":0.077},{"$f":"'From Labview'!AB74","v":0.809},{"$f":"'From Labview'!AF74","v":0.168},{"$f":"'From Labview'!AJ74","v":0.608},{"$f":"'From Labview'!AN74","v":0.883}]
[{"$f":"'Pre Delta'!A75","v":3350},{"$f":"'Post Delta'!B75-'Pre Delta'!B75","v":0.1939999999999884},{"$f":"'Post Delta'!C75-'Pre Delta'!C75","v":0.41799999999999216},{"$f":"'Post Delta'!D75-'Pre Delta'!D75","v":0.06769999999998788},{"$f":"'Post Delta'!E75-'Pre Delta'!E75","v":0.1559000000000026},{"$f":"'Post Delta'!F75-'Pre Delta'!F75","v":0.06249999999998579},{"$f":"'Post Delta'!G75-'Pre Delta'!G75","v":0.12100000000000932},{"$f":"'Post Delta'!H75-'Pre Delta'!H75","v":0.6854999999999905},{"$f":"'Post Delta'!I75-'Pre Delta'!I75","v":0.22090000000001453},{"$f":"'Post Delta'!J75-'Pre Delta'!J75","v":0.6784999999999997},{"$f":"'Post Delta'!K75-'Pre Delta'!K75","v":0.8643000000000001},null,{"$f":"'From Labview'!AG75","v":3350},{"$f":"'From Labview'!D75","v":0.194},{"$f":"'From Labview'!H75","v":0.418},{"$f":"'From Labview'!L75","v":0.068},{"$f":"'From Labview'!P75","v":0.156},{"$f":"'From Labview'!S75","v":-0.115},{"$f":"'From Labview'!X75","v":0.121},{"$f":"'From Labview'!AB75","v":0.685},{"$f":"'From Labview'!AF75","v":0.221},{"$f":"'From Labview'!AJ75","v":0.678},{"$f":"'From Labview'!AN75","v":0.864}]
[{"$f":"'Pre Delta'!A76","v":3550},{"$f":"'Post Delta'!B76-'Pre Delta'!B76","v":0.30290000000000816},{"$f":"'Post Delta'!C76-'Pre Delta'!C76","v":0.4123000000000161},{"$f":"'Post Delta'!D76-'Pre Delta'!D76","v":0.06279999999999575},{"$f":"'Post Delta'!E76-'Pre Delta'!E76","v":0.16329999999999245},{"$f":"'Post Delta'!F76-'Pre Delta'!F76","v":0.0835999999999757},{"$f":"'Post Delta'!G76-'Pre Delta'!G76","v":0.16389999999999816},{"$f":"'Post Delta'!H76-'Pre Delta'!H76","v":0.5335999999999927},{"$f":"'Post Delta'!I76-'Pre Delta'!I76","v":0.646899999999988},{"$f":"'Post Delta'!J76-'Pre Delta'!J76","v":0.8096000000000032},{"$f":"'Post Delta'!K76-'Pre Delta'!K76","v":0.5182999999999822},null,{"$f":"'From Labview'!AG76","v":3550},{"$f":"'From Labview'!D76","v":0.303},{"$f":"'From Labview'!H76","v":0.412},{"$f":"'From Labview'!L76","v":0.063},{"$f":"'From Labview'!P76","v":0.163},{"$f":"'From Labview'!S76","v":-0.094},{"$f":"'From Labview'!X76","v":0.164},{"$f":"'From Labview'!AB76","v":0.534},{"$f":"'From Labview'!AF76","v":0.647},{"$f":"'From Labview'!AJ76","v":0.81},{"$f":"'From Labview'!AN76","v":0.518}]
[{"$f":"'Pre Delta'!A77","v":3750},{"$f":"'Post Delta'!B77-'Pre Delta'!B77","v":0.5177000000000049},{"$f":"'Post Delta'!C77-'Pre Delta'!C77","v":0.38920000000000243},{"$f":"'Post Delta'!D77-'Pre Delta'!D77","v":0.03649999999998954},{"$f":"'Post Delta'!E77-'Pre Delta'!E77","v":0.12109999999998422},{"$f":"'Post Delta'!F77-'Pre Delta'!F77","v":0.10110000000001662},{"$f":"'Post Delta'!G77-'Pre Delta'!G77","v":0.17320000000000846},{"$f":"'Post Delta'!H77-'Pre Delta'!H77","v":0.5773000000000081},{"$f":"'Post Delta'!I77-'Pre Delta'!I77","v":1.0150000000000077},{"$f":"'Post Delta'!J77-'Pre Delta'!J77","v":1.0222000000000264},{"$f":"'Post Delta'!K77-'Pre Delta'!K77","v":0.2879999999999825},null,{"$f":"'From Labview'!AG77","v":3750},{"$f":"'From Labview'!D77","v":0.518},{"$f":"'From Labview'!H77","v":0.389},{"$f":"'From Labview'!L77","v":0.036},{"$f":"'From Labview'!P77","v":0.121},{"$f":"'From Labview'!S77","v":-0.072},{"$f":"'From Labview'!X77","v":0.173},{"$f":"'From Labview'!AB77","v":0.577},{"$f":"'From Labview'!AF77","v":1.015},{"$f":"'From Labview'!AJ77","v":1.022},{"$f":"'From Labview'!AN77","v":0.288}]
[{"$f":"'Pre Delta'!A78","v":4000},{"$f":"'Post Delta'!B78-'Pre Delta'!B78","v":0.7029000000000565},{"$f":"'Post Delta'!C78-'Pre Delta'!C78","v":0.41199999999999193},{"$f":"'Post Delta'!D78-'Pre Delta'!D78","v":-0.016999999999995907},{"$f":"'Post Delta'!E78-'Pre Delta'!E78","v":0.048399999999986676},{"$f":"'Post Delta'!F78-'Pre Delta'!F78","v":0.11160000000000991},{"$f":"'Post Delta'!G78-'Pre Delta'!G78","v":0.1366000000000014},{"$f":"'Post Delta'!H78-'Pre Delta'!H78","v":0.6636999999999915},{"$f":"'Post Delta'!I78-'Pre Delta'!I78","v":1.1710999999999956},{"$f":"'Post Delta'!J78-'Pre Delta'!J78","v":0.9229000000000127},{"$f":"'Post Delta'!K78-'Pre Delta'!K78","v":0.3289000000000044},null,{"$f":"'From Labview'!AG78","v":4000},{"$f":"'From Labview'!D78","v":0.703},{"$f":"'From Labview'!H78","v":0.412},{"$f":"'From Labview'!L78","v":-0.017},{"$f":"'From Labview'!P78","v":0.048},{"$f":"'From Labview'!S78","v":-0.069},{"$f":"'From Labview'!X78","v":0.137},{"$f":"'From Labview'!AB78","v":0.664},{"$f":"'From Labview'!AF78","v":1.171},{"$f":"'From Labview'!AJ78","v":0.923},{"$f":"'From Labview'!AN78","v":0.329}]
[{"$f":"'Pre Delta'!A79","v":4250},{"$f":"'Post Delta'!B79-'Pre Delta'!B79","v":0.7498999999999825},{"$f":"'Post Delta'!C79-'Pre Delta'!C79","v":0.4964999999999975},{"$f":"'Post Delta'!D79-'Pre Delta'!D79","v":-0.04609999999999559},{"$f":"'Post Delta'!E79-'Pre Delta'!E79","v":-0.03529999999999234},{"$f":"'Post Delta'!F79-'Pre Delta'!F79","v":0.1051999999999822},{"$f":"'Post Delta'!G79-'Pre Delta'!G79","v":0.08749999999997726},{"$f":"'Post Delta'!H79-'Pre Delta'!H79","v":0.7862999999999829},{"$f":"'Post Delta'!I79-'Pre Delta'!I79","v":1.0350999999999857},{"$f":"'Post Delta'!J79-'Pre Delta'!J79","v":0.7560000000000002},{"$f":"'Post Delta'!K79-'Pre Delta'!K79","v":0.4913999999999703},null,{"$f":"'From Labview'!AG79","v":4250},{"$f":"'From Labview'!D79","v":0.75},{"$f":"'From Labview'!H79","v":0.496},{"$f":"'From Labview'!L79","v":-0.046},{"$f":"'From Labview'!P79","v":-0.035},{"$f":"'From Labview'!S79","v":-0.108},{"$f":"'From Labview'!X79","v":0.087},{"$f":"'From Labview'!AB79","v":0.786},{"$f":"'From Labview'!AF79","v":1.035},{"$f":"'From Labview'!AJ79","v":0.756},{"$f":"'From Labview'!AN79","v":0.491}]
[{"$f":"'Pre Delta'!A80","v":4500},{"$f":"'Post Delta'!B80-'Pre Delta'!B80","v":0.7660000000000053},{"$f":"'Post Delta'!C80-'Pre Delta'!C80","v":0.5685000000000002},{"$f":"'Post Delta'!D80-'Pre Delta'!D80","v":0.007399999999975648},{"$f":"'Post Delta'!E80-'Pre Delta'!E80","v":-0.08370000000003586},{"$f":"'Post Delta'!F80-'Pre Delta'!F80","v":0.13859999999999673},{"$f":"'Post Delta'!G80-'Pre Delta'!G80","v":0.04770000000002028},{"$f":"'Post Delta'!H80-'Pre Delta'!H80","v":0.8636000000000053},{"$f":"'Post Delta'!I80-'Pre Delta'!I80","v":0.8957999999999942},{"$f":"'Post Delta'!J80-'Pre Delta'!J80","v":0.6956000000000131},{"$f":"'Post Delta'!K80-'Pre Delta'!K80","v":0.6499999999999773},null,{"$f":"'From Labview'!AG80","v":4500},{"$f":"'From Labview'!D80","v":0.766},{"$f":"'From Labview'!H80","v":0.569},{"$f":"'From Labview'!L80","v":0.007},{"$f":"'From Labview'!P80","v":-0.084},{"$f":"'From Labview'!S80","v":-0.145},{"$f":"'From Labview'!X80","v":0.048},{"$f":"'From Labview'!AB80","v":0.864},{"$f":"'From Labview'!AF80","v":0.896},{"$f":"'From Labview'!AJ80","v":0.696},{"$f":"'From Labview'!AN80","v":0.65}]
[{"$f":"'Pre Delta'!A81","v":4750},{"$f":"'Post Delta'!B81-'Pre Delta'!B81","v":0.7421000000000078},{"$f":"'Post Delta'!C81-'Pre Delta'!C81","v":0.6004999999999967},{"$f":"'Post Delta'!D81-'Pre Delta'!D81","v":0.08739999999997394},{"$f":"'Post Delta'!E81-'Pre Delta'!E81","v":-0.04779999999999518},{"$f":"'Post Delta'!F81-'Pre Delta'!F81","v":0.16689999999999827},{"$f":"'Post Delta'!G81-'Pre Delta'!G81","v":0.08569999999998856},{"$f":"'Post Delta'!H81-'Pre Delta'!H81","v":0.8244999999999862},{"$f":"'Post Delta'!I81-'Pre Delta'!I81","v":0.7497999999999791},{"$f":"'Post Delta'!J81-'Pre Delta'!J81","v":0.703000000000003},{"$f":"'Post Delta'!K81-'Pre Delta'!K81","v":0.8705999999999818},null,{"$f":"'From Labview'!AG81","v":4750},{"$f":"'From Labview'!D81","v":0.742},{"$f":"'From Labview'!H81","v":0.6},{"$f":"'From Labview'!L81","v":0.087},{"$f":"'From Labview'!P81","v":-0.048},{"$f":"'From Labview'!S81","v":-0.148},{"$f":"'From Labview'!X81","v":0.086},{"$f":"'From Labview'!AB81","v":0.824},{"$f":"'From Labview'!AF81","v":0.75},{"$f":"'From Labview'!AJ81","v":0.703},{"$f":"'From Labview'!AN81","v":0.871}]
[{"$f":"'Pre Delta'!A82","v":5000},{"$f":"'Post Delta'!B82-'Pre Delta'!B82","v":0.7135000000000247},{"$f":"'Post Delta'!C82-'Pre Delta'!C82","v":0.6165999999999912},{"$f":"'Post Delta'!D82-'Pre Delta'!D82","v":0.12280000000001223},{"$f":"'Post Delta'!E82-'Pre Delta'!E82","v":0.0905000000000058},{"$f":"'Post Delta'!F82-'Pre Delta'!F82","v":0.16379999999998063},{"$f":"'Post Delta'!G82-'Pre Delta'!G82","v":0.12880000000001246},{"$f":"'Post Delta'!H82-'Pre Delta'!H82","v":0.7182999999999851},{"$f":"'Post Delta'!I82-'Pre Delta'!I82","v":0.6391999999999882},{"$f":"'Post Delta'!J82-'Pre Delta'!J82","v":0.7546999999999855},{"$f":"'Post Delta'!K82-'Pre Delta'!K82","v":1.1277000000000044},null,{"$f":"'From Labview'!AG82","v":5000},{"$f":"'From Labview'!D82","v":0.714},{"$f":"'From Labview'!H82","v":0.617},{"$f":"'From Labview'!L82","v":0.123},{"$f":"'From Labview'!P82","v":0.09},{"$f":"'From Labview'!S82","v":-0.14},{"$f":"'From Labview'!X82","v":0.129},{"$f":"'From Labview'!AB82","v":0.718},{"$f":"'From Labview'!AF82","v":0.639},{"$f":"'From Labview'!AJ82","v":0.755},{"$f":"'From Labview'!AN82","v":1.128}]
[{"$f":"'Pre Delta'!A83","v":5300},{"$f":"'Post Delta'!B83-'Pre Delta'!B83","v":0.6238999999999919},{"$f":"'Post Delta'!C83-'Pre Delta'!C83","v":0.5668000000000006},{"$f":"'Post Delta'!D83-'Pre Delta'!D83","v":0.10930000000000462},{"$f":"'Post Delta'!E83-'Pre Delta'!E83","v":0.1728999999999985},{"$f":"'Post Delta'!F83-'Pre Delta'!F83","v":0.16819999999998458},{"$f":"'Post Delta'!G83-'Pre Delta'!G83","v":0.09779999999999234},{"$f":"'Post Delta'!H83-'Pre Delta'!H83","v":0.602800000000002},{"$f":"'Post Delta'!I83-'Pre Delta'!I83","v":0.606899999999996},{"$f":"'Post Delta'!J83-'Pre Delta'!J83","v":0.740399999999994},{"$f":"'Post Delta'!K83-'Pre Delta'!K83","v":1.2571999999999974},null,{"$f":"'From Labview'!AG83","v":5300},{"$f":"'From Labview'!D83","v":0.624},{"$f":"'From Labview'!H83","v":0.567},{"$f":"'From Labview'!L83","v":0.109},{"$f":"'From Labview'!P83","v":0.173},{"$f":"'From Labview'!S83","v":-0.125},{"$f":"'From Labview'!X83","v":0.098},{"$f":"'From Labview'!AB83","v":0.603},{"$f":"'From Labview'!AF83","v":0.607},{"$f":"'From Labview'!AJ83","v":0.74},{"$f":"'From Labview'!AN83","v":1.257}]
[{"$f":"'Pre Delta'!A84","v":5600},{"$f":"'Post Delta'!B84-'Pre Delta'!B84","v":0.5138000000000034},{"$f":"'Post Delta'!C84-'Pre Delta'!C84","v":0.5006999999999948},{"$f":"'Post Delta'!D84-'Pre Delta'!D84","v":0.08690000000001419},{"$f":"'Post Delta'!E84-'Pre Delta'!E84","v":0.16370000000000573},{"$f":"'Post Delta'!F84-'Pre Delta'!F84","v":0.18199999999998795},{"$f":"'Post Delta'!G84-'Pre Delta'!G84","v":0.09159999999999968},{"$f":"'Post Delta'!H84-'Pre Delta'!H84","v":0.49749999999997385},{"$f":"'Post Delta'!I84-'Pre Delta'!I84","v":0.5687000000000069},{"$f":"'Post Delta'!J84-'Pre Delta'!J84","v":0.6268000000000029},{"$f":"'Post Delta'!K84-'Pre Delta'!K84","v":1.0442000000000036},null,{"$f":"'From Labview'!AG84","v":5600},{"$f":"'From Labview'!D84","v":0.514},{"$f":"'From Labview'!H84","v":0.501},{"$f":"'From Labview'!L84","v":0.087},{"$f":"'From Labview'!P84","v":0.164},{"$f":"'From Labview'!S84","v":-0.104},{"$f":"'From Labview'!X84","v":0.092},{"$f":"'From Labview'!AB84","v":0.497},{"$f":"'From Labview'!AF84","v":0.569},{"$f":"'From Labview'!AJ84","v":0.627},{"$f":"'From Labview'!AN84","v":1.044}]
[{"$f":"'Pre Delta'!A85","v":6000},{"$f":"'Post Delta'!B85-'Pre Delta'!B85","v":0.47930000000000916},{"$f":"'Post Delta'!C85-'Pre Delta'!C85","v":0.48049999999997794},{"$f":"'Post Delta'!D85-'Pre Delta'!D85","v":0.13169999999998083},{"$f":"'Post Delta'!E85-'Pre Delta'!E85","v":0.13880000000001758},{"$f":"'Post Delta'!F85-'Pre Delta'!F85","v":0.21710000000000207},{"$f":"'Post Delta'!G85-'Pre Delta'!G85","v":0.12169999999998993},{"$f":"'Post Delta'!H85-'Pre Delta'!H85","v":0.4259000000000128},{"$f":"'Post Delta'!I85-'Pre Delta'!I85","v":0.4048999999999836},{"$f":"'Post Delta'!J85-'Pre Delta'!J85","v":0.5104999999999933},{"$f":"'Post Delta'!K85-'Pre Delta'!K85","v":0.607600000000005},null,{"$f":"'From Labview'!AG85","v":6000},{"$f":"'From Labview'!D85","v":0.479},{"$f":"'From Labview'!H85","v":0.48},{"$f":"'From Labview'!L85","v":0.132},{"$f":"'From Labview'!P85","v":0.139},{"$f":"'From Labview'!S85","v":-0.1},{"$f":"'From Labview'!X85","v":0.122},{"$f":"'From Labview'!AB85","v":0.426},{"$f":"'From Labview'!AF85","v":0.405},{"$f":"'From Labview'!AJ85","v":0.51},{"$f":"'From Labview'!AN85","v":0.608}]
[{"$f":"'Pre Delta'!A86","v":6300},{"$f":"'Post Delta'!B86-'Pre Delta'!B86","v":0.4875000000000256},{"$f":"'Post Delta'!C86-'Pre Delta'!C86","v":0.454899999999995},{"$f":"'Post Delta'!D86-'Pre Delta'!D86","v":0.2441999999999922},{"$f":"'Post Delta'!E86-'Pre Delta'!E86","v":0.13290000000000646},{"$f":"'Post Delta'!F86-'Pre Delta'!F86","v":0.19259999999998456},{"$f":"'Post Delta'!G86-'Pre Delta'!G86","v":0.1921999999999997},{"$f":"'Post Delta'!H86-'Pre Delta'!H86","v":0.44889999999999475},{"$f":"'Post Delta'!I86-'Pre Delta'!I86","v":0.10560000000000969},{"$f":"'Post Delta'!J86-'Pre Delta'!J86","v":0.4017999999999944},{"$f":"'Post Delta'!K86-'Pre Delta'!K86","v":0.4598999999999762},null,{"$f":"'From Labview'!AG86","v":6300},{"$f":"'From Labview'!D86","v":0.488},{"$f":"'From Labview'!H86","v":0.455},{"$f":"'From Labview'!L86","v":0.244},{"$f":"'From Labview'!P86","v":0.133},{"$f":"'From Labview'!S86","v":-0.153},{"$f":"'From Labview'!X86","v":0.192},{"$f":"'From Labview'!AB86","v":0.449},{"$f":"'From Labview'!AF86","v":0.106},{"$f":"'From Labview'!AJ86","v":0.402},{"$f":"'From Labview'!AN86","v":0.46}]
[{"$f":"'Pre Delta'!A87","v":6700},{"$f":"'Post Delta'!B87-'Pre Delta'!B87","v":0.49269999999998504},{"$f":"'Post Delta'!C87-'Pre Delta'!C87","v":0.43120000000001824},{"$f":"'Post Delta'!D87-'Pre Delta'!D87","v":0.20400000000000773},{"$f":"'Post Delta'!E87-'Pre Delta'!E87","v":0.17010000000003345},{"$f":"'Post Delta'!F87-'Pre Delta'!F87","v":0.09089999999999065},{"$f":"'Post Delta'!G87-'Pre Delta'!G87","v":0.288599999999974},{"$f":"'Post Delta'!H87-'Pre Delta'!H87","v":0.5835000000000008},{"$f":"'Post Delta'!I87-'Pre Delta'!I87","v":-0.11429999999997165},{"$f":"'Post Delta'!J87-'Pre Delta'!J87","v":0.09890000000001464},{"$f":"'Post Delta'!K87-'Pre Delta'!K87","v":0.6974000000000018},null,{"$f":"'From Labview'!AG87","v":6700},{"$f":"'From Labview'!D87","v":0.493},{"$f":"'From Labview'!H87","v":0.431},{"$f":"'From Labview'!L87","v":0.204},{"$f":"'From Labview'!P87","v":0.17},{"$f":"'From Labview'!S87","v":-0.186},{"$f":"'From Labview'!X87","v":0.289},{"$f":"'From Labview'!AB87","v":0.584},{"$f":"'From Labview'!AF87","v":-0.114},{"$f":"'From Labview'!AJ87","v":0.099},{"$f":"'From Labview'!AN87","v":0.697}]
[{"$f":"'Pre Delta'!A88","v":7100},{"$f":"'Post Delta'!B88-'Pre Delta'!B88","v":0.478500000000011},{"$f":"'Post Delta'!C88-'Pre Delta'!C88","v":0.4042000000000172},{"$f":"'Post Delta'!D88-'Pre Delta'!D88","v":0.08899999999999864},{"$f":"'Post Delta'!E88-'Pre Delta'!E88","v":0.2990999999999957},{"$f":"'Post Delta'!F88-'Pre Delta'!F88","v":0.05849999999999511},{"$f":"'Post Delta'!G88-'Pre Delta'!G88","v":0.3593000000000188},{"$f":"'Post Delta'!H88-'Pre Delta'!H88","v":0.6777000000000015},{"$f":"'Post Delta'!I88-'Pre Delta'!I88","v":-0.14229999999999166},{"$f":"'Post Delta'!J88-'Pre Delta'!J88","v":-0.48049999999999216},{"$f":"'Post Delta'!K88-'Pre Delta'!K88","v":1.2510999999999797},null,{"$f":"'From Labview'!AG88","v":7100},{"$f":"'From Labview'!D88","v":0.479},{"$f":"'From Labview'!H88","v":0.404},{"$f":"'From Labview'!L88","v":0.089},{"$f":"'From Labview'!P88","v":0.299},{"$f":"'From Labview'!S88","v":-0.161},{"$f":"'From Labview'!X88","v":0.359},{"$f":"'From Labview'!AB88","v":0.678},{"$f":"'From Labview'!AF88","v":-0.142},{"$f":"'From Labview'!AJ88","v":-0.481},{"$f":"'From Labview'!AN88","v":1.251}]
[{"$f":"'Pre Delta'!A89","v":7500},{"$f":"'Post Delta'!B89-'Pre Delta'!B89","v":0.42850000000001387},{"$f":"'Post Delta'!C89-'Pre Delta'!C89","v":0.3767000000000138},{"$f":"'Post Delta'!D89-'Pre Delta'!D89","v":0.030400000000014415},{"$f":"'Post Delta'!E89-'Pre Delta'!E89","v":0.40920000000001266},{"$f":"'Post Delta'!F89-'Pre Delta'!F89","v":0.10650000000001114},{"$f":"'Post Delta'!G89-'Pre Delta'!G89","v":0.3656000000000148},{"$f":"'Post Delta'!H89-'Pre Delta'!H89","v":0.5532000000000039},{"$f":"'Post Delta'!I89-'Pre Delta'!I89","v":-0.04349999999999454},{"$f":"'Post Delta'!J89-'Pre Delta'!J89","v":-0.8294000000000068},{"$f":"'Post Delta'!K89-'Pre Delta'!K89","v":1.4810000000000088},null,{"$f":"'From Labview'!AG89","v":7500},{"$f":"'From Labview'!D89","v":0.429},{"$f":"'From Labview'!H89","v":0.377},{"$f":"'From Labview'!L89","v":0.03},{"$f":"'From Labview'!P89","v":0.409},{"$f":"'From Labview'!S89","v":-0.124},{"$f":"'From Labview'!X89","v":0.366},{"$f":"'From Labview'!AB89","v":0.553},{"$f":"'From Labview'!AF89","v":-0.043},{"$f":"'From Labview'!AJ89","v":-0.829},{"$f":"'From Labview'!AN89","v":1.481}]
[{"$f":"'Pre Delta'!A90","v":8000},{"$f":"'Post Delta'!B90-'Pre Delta'!B90","v":0.36000000000001364},{"$f":"'Post Delta'!C90-'Pre Delta'!C90","v":0.3639999999999901},{"$f":"'Post Delta'!D90-'Pre Delta'!D90","v":0.12620000000001141},{"$f":"'Post Delta'!E90-'Pre Delta'!E90","v":0.4818000000000211},{"$f":"'Post Delta'!F90-'Pre Delta'!F90","v":0.19659999999998945},{"$f":"'Post Delta'!G90-'Pre Delta'!G90","v":0.33030000000000825},{"$f":"'Post Delta'!H90-'Pre Delta'!H90","v":0.38240000000000407},{"$f":"'Post Delta'!I90-'Pre Delta'!I90","v":0.07730000000000814},{"$f":"'Post Delta'!J90-'Pre Delta'!J90","v":-0.8096999999999781},{"$f":"'Post Delta'!K90-'Pre Delta'!K90","v":1.0741000000000014},null,{"$f":"'From Labview'!AG90","v":8000},{"$f":"'From Labview'!D90","v":0.36},{"$f":"'From Labview'!H90","v":0.364},{"$f":"'From Labview'!L90","v":0.126},{"$f":"'From Labview'!P90","v":0.482},{"$f":"'From Labview'!S90","v":-0.127},{"$f":"'From Labview'!X90","v":0.33},{"$f":"'From Labview'!AB90","v":0.382},{"$f":"'From Labview'!AF90","v":0.077},{"$f":"'From Labview'!AJ90","v":-0.81},{"$f":"'From Labview'!AN90","v":1.074}]
[{"$f":"'Pre Delta'!A91","v":8500},{"$f":"'Post Delta'!B91-'Pre Delta'!B91","v":0.2879999999999967},{"$f":"'Post Delta'!C91-'Pre Delta'!C91","v":0.34790000000000987},{"$f":"'Post Delta'!D91-'Pre Delta'!D91","v":0.22639999999999816},{"$f":"'Post Delta'!E91-'Pre Delta'!E91","v":0.5165999999999826},{"$f":"'Post Delta'!F91-'Pre Delta'!F91","v":0.20270000000002142},{"$f":"'Post Delta'!G91-'Pre Delta'!G91","v":0.2295000000000016},{"$f":"'Post Delta'!H91-'Pre Delta'!H91","v":0.31690000000001817},{"$f":"'Post Delta'!I91-'Pre Delta'!I91","v":0.17779999999999063},{"$f":"'Post Delta'!J91-'Pre Delta'!J91","v":-0.6727000000000203},{"$f":"'Post Delta'!K91-'Pre Delta'!K91","v":0.5760999999999967},null,{"$f":"'From Labview'!AG91","v":8500},{"$f":"'From Labview'!D91","v":0.288},{"$f":"'From Labview'!H91","v":0.348},{"$f":"'From Labview'!L91","v":0.226},{"$f":"'From Labview'!P91","v":0.517},{"$f":"'From Labview'!S91","v":-0.156},{"$f":"'From Labview'!X91","v":0.23},{"$f":"'From Labview'!AB91","v":0.317},{"$f":"'From Labview'!AF91","v":0.178},{"$f":"'From Labview'!AJ91","v":-0.673},{"$f":"'From Labview'!AN91","v":0.576}]
[{"$f":"'Pre Delta'!A92","v":9000},{"$f":"'Post Delta'!B92-'Pre Delta'!B92","v":0.2501000000000033},{"$f":"'Post Delta'!C92-'Pre Delta'!C92","v":0.3422000000000196},{"$f":"'Post Delta'!D92-'Pre Delta'!D92","v":0.21400000000001285},{"$f":"'Post Delta'!E92-'Pre Delta'!E92","v":0.35839999999998895},{"$f":"'Post Delta'!F92-'Pre Delta'!F92","v":0.1741999999999848},{"$f":"'Post Delta'!G92-'Pre Delta'!G92","v":0.08010000000001583},{"$f":"'Post Delta'!H92-'Pre Delta'!H92","v":0.2767999999999944},{"$f":"'Post Delta'!I92-'Pre Delta'!I92","v":0.1307999999999936},{"$f":"'Post Delta'!J92-'Pre Delta'!J92","v":-0.6815999999999889},{"$f":"'Post Delta'!K92-'Pre Delta'!K92","v":0.4117000000000104},null,{"$f":"'From Labview'!AG92","v":9000},{"$f":"'From Labview'!D92","v":0.25},{"$f":"'From Labview'!H92","v":0.342},{"$f":"'From Labview'!L92","v":0.214},{"$f":"'From Labview'!P92","v":0.358},{"$f":"'From Labview'!S92","v":-0.175},{"$f":"'From Labview'!X92","v":0.08},{"$f":"'From Labview'!AB92","v":0.277},{"$f":"'From Labview'!AF92","v":0.131},{"$f":"'From Labview'!AJ92","v":-0.682},{"$f":"'From Labview'!AN92","v":0.412}]
[{"$f":"'Pre Delta'!A93","v":9500},{"$f":"'Post Delta'!B93-'Pre Delta'!B93","v":0.26029999999998665},{"$f":"'Post Delta'!C93-'Pre Delta'!C93","v":0.3276000000000181},{"$f":"'Post Delta'!D93-'Pre Delta'!D93","v":0.24569999999999936},{"$f":"'Post Delta'!E93-'Pre Delta'!E93","v":0.20989999999999043},{"$f":"'Post Delta'!F93-'Pre Delta'!F93","v":0.18149999999997135},{"$f":"'Post Delta'!G93-'Pre Delta'!G93","v":0.05380000000002383},{"$f":"'Post Delta'!H93-'Pre Delta'!H93","v":0.0846000000000231},{"$f":"'Post Delta'!I93-'Pre Delta'!I93","v":-0.07150000000000034},{"$f":"'Post Delta'!J93-'Pre Delta'!J93","v":-0.339800000000011},{"$f":"'Post Delta'!K93-'Pre Delta'!K93","v":0.5565999999999889},null,{"$f":"'From Labview'!AG93","v":9500},{"$f":"'From Labview'!D93","v":0.26},{"$f":"'From Labview'!H93","v":0.328},{"$f":"'From Labview'!L93","v":0.246},{"$f":"'From Labview'!P93","v":0.21},{"$f":"'From Labview'!S93","v":-0.181},{"$f":"'From Labview'!X93","v":0.054},{"$f":"'From Labview'!AB93","v":0.085},{"$f":"'From Labview'!AF93","v":-0.071},{"$f":"'From Labview'!AJ93","v":-0.34},{"$f":"'From Labview'!AN93","v":0.557}]
[{"$f":"'Pre Delta'!A94","v":10000},{"$f":"'Post Delta'!B94-'Pre Delta'!B94","v":0.3195999999999799},{"$f":"'Post Delta'!C94-'Pre Delta'!C94","v":0.35320000000000107},{"$f":"'Post Delta'!D94-'Pre Delta'!D94","v":0.3271999999999764},{"$f":"'Post Delta'!E94-'Pre Delta'!E94","v":0.21659999999999968},{"$f":"'Post Delta'!F94-'Pre Delta'!F94","v":0.1904999999999859},{"$f":"'Post Delta'!G94-'Pre Delta'!G94","v":0.10310000000002617},{"$f":"'Post Delta'!H94-'Pre Delta'!H94","v":-0.21680000000002053},{"$f":"'Post Delta'!I94-'Pre Delta'!I94","v":-0.3241000000000014},{"$f":"'Post Delta'!J94-'Pre Delta'!J94","v":0.7800000000000011},{"$f":"'Post Delta'!K94-'Pre Delta'!K94","v":0.5192000000000121},null,{"$f":"'From Labview'!AG94","v":10000},{"$f":"'From Labview'!D94","v":0.32},{"$f":"'From Labview'!H94","v":0.353},{"$f":"'From Labview'!L94","v":0.327},{"$f":"'From Labview'!P94","v":0.217},{"$f":"'From Labview'!S94","v":-0.152},{"$f":"'From Labview'!X94","v":0.103},{"$f":"'From Labview'!AB94","v":-0.217},{"$f":"'From Labview'!AF94","v":-0.324},{"$f":"'From Labview'!AJ94","v":0.78},{"$f":"'From Labview'!AN94","v":0.519}]
[{"$f":"'Pre Delta'!A95","v":10600},{"$f":"'Post Delta'!B95-'Pre Delta'!B95","v":0.35419999999999163},{"$f":"'Post Delta'!C95-'Pre Delta'!C95","v":0.41730000000001155},{"$f":"'Post Delta'!D95-'Pre Delta'!D95","v":0.29359999999999786},{"$f":"'Post Delta'!E95-'Pre Delta'!E95","v":0.21419999999999106},{"$f":"'Post Delta'!F95-'Pre Delta'!F95","v":0.10930000000001883},{"$f":"'Post Delta'!G95-'Pre Delta'!G95","v":0.08140000000000214},{"$f":"'Post Delta'!H95-'Pre Delta'!H95","v":-0.012400000000013733},{"$f":"'Post Delta'!I95-'Pre Delta'!I95","v":-0.43719999999999004},{"$f":"'Post Delta'!J95-'Pre Delta'!J95","v":1.8747000000000043},{"$f":"'Post Delta'!K95-'Pre Delta'!K95","v":0.18540000000000134},null,{"$f":"'From Labview'!AG95","v":10600},{"$f":"'From Labview'!D95","v":0.354},{"$f":"'From Labview'!H95","v":0.417},{"$f":"'From Labview'!L95","v":0.294},{"$f":"'From Labview'!P95","v":0.214},{"$f":"'From Labview'!S95","v":-0.167},{"$f":"'From Labview'!X95","v":0.081},{"$f":"'From Labview'!AB95","v":-0.012},{"$f":"'From Labview'!AF95","v":-0.437},{"$f":"'From Labview'!AJ95","v":1.875},{"$f":"'From Labview'!AN95","v":0.185}]
[{"$f":"'Pre Delta'!A96","v":11200},{"$f":"'Post Delta'!B96-'Pre Delta'!B96","v":0.3850000000000193},{"$f":"'Post Delta'!C96-'Pre Delta'!C96","v":0.47999999999997556},{"$f":"'Post Delta'!D96-'Pre Delta'!D96","v":0.23690000000000566},{"$f":"'Post Delta'!E96-'Pre Delta'!E96","v":0.0782999999999845},{"$f":"'Post Delta'!F96-'Pre Delta'!F96","v":0.13400000000002876},{"$f":"'Post Delta'!G96-'Pre Delta'!G96","v":0.06690000000000396},{"$f":"'Post Delta'!H96-'Pre Delta'!H96","v":0.8818000000000126},{"$f":"'Post Delta'!I96-'Pre Delta'!I96","v":-0.3316999999999837},{"$f":"'Post Delta'!J96-'Pre Delta'!J96","v":2.2908999999999793},{"$f":"'Post Delta'!K96-'Pre Delta'!K96","v":-0.24030000000001905},null,{"$f":"'From Labview'!AG96","v":11200},{"$f":"'From Labview'!D96","v":0.385},{"$f":"'From Labview'!H96","v":0.48},{"$f":"'From Labview'!L96","v":0.237},{"$f":"'From Labview'!P96","v":0.078},{"$f":"'From Labview'!S96","v":-0.201},{"$f":"'From Labview'!X96","v":0.067},{"$f":"'From Labview'!AB96","v":0.882},{"$f":"'From Labview'!AF96","v":-0.332},{"$f":"'From Labview'!AJ96","v":2.291},{"$f":"'From Labview'!AN96","v":-0.24}]
[{"$f":"'Pre Delta'!A97","v":11800},{"$f":"'Post Delta'!B97-'Pre Delta'!B97","v":0.41200000000003456},{"$f":"'Post Delta'!C97-'Pre Delta'!C97","v":0.4963999999999942},{"$f":"'Post Delta'!D97-'Pre Delta'!D97","v":0.2453999999999894},{"$f":"'Post Delta'!E97-'Pre Delta'!E97","v":0.10649999999996851},{"$f":"'Post Delta'!F97-'Pre Delta'!F97","v":0.23479999999997858},{"$f":"'Post Delta'!G97-'Pre Delta'!G97","v":0.09569999999999368},{"$f":"'Post Delta'!H97-'Pre Delta'!H97","v":1.2656999999999812},{"$f":"'Post Delta'!I97-'Pre Delta'!I97","v":-0.3127999999999673},{"$f":"'Post Delta'!J97-'Pre Delta'!J97","v":2.312899999999985},{"$f":"'Post Delta'!K97-'Pre Delta'!K97","v":-0.06230000000000757},null,{"$f":"'From Labview'!AG97","v":11800},{"$f":"'From Labview'!D97","v":0.412},{"$f":"'From Labview'!H97","v":0.496},{"$f":"'From Labview'!L97","v":0.245},{"$f":"'From Labview'!P97","v":0.106},{"$f":"'From Labview'!S97","v":-0.208},{"$f":"'From Labview'!X97","v":0.096},{"$f":"'From Labview'!AB97","v":1.266},{"$f":"'From Labview'!AF97","v":-0.313},{"$f":"'From Labview'!AJ97","v":2.313},{"$f":"'From Labview'!AN97","v":-0.062}]
[{"$f":"'Pre Delta'!A98","v":12500},{"$f":"'Post Delta'!B98-'Pre Delta'!B98","v":0.36539999999997974},{"$f":"'Post Delta'!C98-'Pre Delta'!C98","v":0.4416999999999689},{"$f":"'Post Delta'!D98-'Pre Delta'!D98","v":0.33610000000001605},{"$f":"'Post Delta'!E98-'Pre Delta'!E98","v":0.26940000000003295},{"$f":"'Post Delta'!F98-'Pre Delta'!F98","v":0.25600000000001444},{"$f":"'Post Delta'!G98-'Pre Delta'!G98","v":0.12649999999999295},{"$f":"'Post Delta'!H98-'Pre Delta'!H98","v":0.954100000000011},{"$f":"'Post Delta'!I98-'Pre Delta'!I98","v":-0.6765000000000043},{"$f":"'Post Delta'!J98-'Pre Delta'!J98","v":2.061300000000017},{"$f":"'Post Delta'!K98-'Pre Delta'!K98","v":0.45530000000000825},null,{"$f":"'From Labview'!AG98","v":12500},{"$f":"'From Labview'!D98","v":0.365},{"$f":"'From Labview'!H98","v":0.442},{"$f":"'From Labview'!L98","v":0.336},{"$f":"'From Labview'!P98","v":0.269},{"$f":"'From Labview'!S98","v":-0.23},{"$f":"'From Labview'!X98","v":0.126},{"$f":"'From Labview'!AB98","v":0.954},{"$f":"'From Labview'!AF98","v":-0.677},{"$f":"'From Labview'!AJ98","v":2.061},{"$f":"'From Labview'!AN98","v":0.455}]
[{"$f":"'Pre Delta'!A99","v":13200},{"$f":"'Post Delta'!B99-'Pre Delta'!B99","v":0.2966000000000122},{"$f":"'Post Delta'!C99-'Pre Delta'!C99","v":0.33909999999998774},{"$f":"'Post Delta'!D99-'Pre Delta'!D99","v":0.3673000000000002},{"$f":"'Post Delta'!E99-'Pre Delta'!E99","v":0.36019999999997765},{"$f":"'Post Delta'!F99-'Pre Delta'!F99","v":0.3049999999999926},{"$f":"'Post Delta'!G99-'Pre Delta'!G99","v":0.1548000000000087},{"$f":"'Post Delta'!H99-'Pre Delta'!H99","v":0.5078000000000031},{"$f":"'Post Delta'!I99-'Pre Delta'!I99","v":-0.9846999999999895},{"$f":"'Post Delta'!J99-'Pre Delta'!J99","v":1.5944000000000216},{"$f":"'Post Delta'!K99-'Pre Delta'!K99","v":0.7229000000000099},null,{"$f":"'From Labview'!AG99","v":13200},{"$f":"'From Labview'!D99","v":0.297},{"$f":"'From Labview'!H99","v":0.339},{"$f":"'From Labview'!L99","v":0.367},{"$f":"'From Labview'!P99","v":0.36},{"$f":"'From Labview'!S99","v":-0.241},{"$f":"'From Labview'!X99","v":0.155},{"$f":"'From Labview'!AB99","v":0.508},{"$f":"'From Labview'!AF99","v":-0.985},{"$f":"'From Labview'!AJ99","v":1.594},{"$f":"'From Labview'!AN99","v":0.723}]
[{"$f":"'Pre Delta'!A100","v":14000},{"$f":"'Post Delta'!B100-'Pre Delta'!B100","v":0.35839999999998895},{"$f":"'Post Delta'!C100-'Pre Delta'!C100","v":0.375},{"$f":"'Post Delta'!D100-'Pre Delta'!D100","v":0.2972000000000037},{"$f":"'Post Delta'!E100-'Pre Delta'!E100","v":0.4077000000000197},{"$f":"'Post Delta'!F100-'Pre Delta'!F100","v":0.4929000000000059},{"$f":"'Post Delta'!G100-'Pre Delta'!G100","v":0.16289999999999338},{"$f":"'Post Delta'!H100-'Pre Delta'!H100","v":0.1155000000000257},{"$f":"'Post Delta'!I100-'Pre Delta'!I100","v":-1.0187000000000097},{"$f":"'Post Delta'!J100-'Pre Delta'!J100","v":1.1729999999999592},{"$f":"'Post Delta'!K100-'Pre Delta'!K100","v":0.6203000000000145},null,{"$f":"'From Labview'!AG100","v":14000},{"$f":"'From Labview'!D100","v":0.358},{"$f":"'From Labview'!H100","v":0.375},{"$f":"'From Labview'!L100","v":0.297},{"$f":"'From Labview'!P100","v":0.408},{"$f":"'From Labview'!S100","v":-0.276},{"$f":"'From Labview'!X100","v":0.163},{"$f":"'From Labview'!AB100","v":0.116},{"$f":"'From Labview'!AF100","v":-1.019},{"$f":"'From Labview'!AJ100","v":1.173},{"$f":"'From Labview'!AN100","v":0.62}]
[{"$f":"'Pre Delta'!A101","v":15000},{"$f":"'Post Delta'!B101-'Pre Delta'!B101","v":0.5250000000000199},{"$f":"'Post Delta'!C101-'Pre Delta'!C101","v":0.545100000000005},{"$f":"'Post Delta'!D101-'Pre Delta'!D101","v":0.29189999999998406},{"$f":"'Post Delta'!E101-'Pre Delta'!E101","v":0.5424999999999613},{"$f":"'Post Delta'!F101-'Pre Delta'!F101","v":0.4613999999999834},{"$f":"'Post Delta'!G101-'Pre Delta'!G101","v":0.15600000000002012},{"$f":"'Post Delta'!H101-'Pre Delta'!H101","v":-0.1844999999999999},{"$f":"'Post Delta'!I101-'Pre Delta'!I101","v":-0.8422999999999661},{"$f":"'Post Delta'!J101-'Pre Delta'!J101","v":1.0082000000000022},{"$f":"'Post Delta'!K101-'Pre Delta'!K101","v":0.14980000000002747},null,{"$f":"'From Labview'!AG101","v":15000},{"$f":"'From Labview'!D101","v":0.525},{"$f":"'From Labview'!H101","v":0.545},{"$f":"'From Labview'!L101","v":0.292},{"$f":"'From Labview'!P101","v":0.542},{"$f":"'From Labview'!S101","v":-0.327},{"$f":"'From Labview'!X101","v":0.156},{"$f":"'From Labview'!AB101","v":-0.184},{"$f":"'From Labview'!AF101","v":-0.842},{"$f":"'From Labview'!AJ101","v":1.008},{"$f":"'From Labview'!AN101","v":0.15}]
[{"$f":"'Pre Delta'!A102","v":16000},{"$f":"'Post Delta'!B102-'Pre Delta'!B102","v":0.4305999999999841},{"$f":"'Post Delta'!C102-'Pre Delta'!C102","v":0.4510999999999683},{"$f":"'Post Delta'!D102-'Pre Delta'!D102","v":0.25960000000003447},{"$f":"'Post Delta'!E102-'Pre Delta'!E102","v":0.5127999999999702},{"$f":"'Post Delta'!F102-'Pre Delta'!F102","v":0.21070000000000277},{"$f":"'Post Delta'!G102-'Pre Delta'!G102","v":0.09170000000001721},{"$f":"'Post Delta'!H102-'Pre Delta'!H102","v":-0.4311999999999756},{"$f":"'Post Delta'!I102-'Pre Delta'!I102","v":-0.750700000000009},{"$f":"'Post Delta'!J102-'Pre Delta'!J102","v":0.9213000000000022},{"$f":"'Post Delta'!K102-'Pre Delta'!K102","v":-0.3246999999999787},null,{"$f":"'From Labview'!AG102","v":16000},{"$f":"'From Labview'!D102","v":0.431},{"$f":"'From Labview'!H102","v":0.451},{"$f":"'From Labview'!L102","v":0.26},{"$f":"'From Labview'!P102","v":0.513},{"$f":"'From Labview'!S102","v":-0.333},{"$f":"'From Labview'!X102","v":0.092},{"$f":"'From Labview'!AB102","v":-0.431},{"$f":"'From Labview'!AF102","v":-0.751},{"$f":"'From Labview'!AJ102","v":0.921},{"$f":"'From Labview'!AN102","v":-0.325}]
[{"$f":"'Pre Delta'!A103","v":17000},{"$f":"'Post Delta'!B103-'Pre Delta'!B103","v":0.31100000000002126},{"$f":"'Post Delta'!C103-'Pre Delta'!C103","v":0.31109999999999616},{"$f":"'Post Delta'!D103-'Pre Delta'!D103","v":0.28359999999997854},{"$f":"'Post Delta'!E103-'Pre Delta'!E103","v":0.3509999999999991},{"$f":"'Post Delta'!F103-'Pre Delta'!F103","v":-0.025100000000009004},{"$f":"'Post Delta'!G103-'Pre Delta'!G103","v":0.02359999999998763},{"$f":"'Post Delta'!H103-'Pre Delta'!H103","v":-0.5880999999999972},{"$f":"'Post Delta'!I103-'Pre Delta'!I103","v":-0.7697000000000003},{"$f":"'Post Delta'!J103-'Pre Delta'!J103","v":0.5899000000000001},{"$f":"'Post Delta'!K103-'Pre Delta'!K103","v":-0.6249000000000109},null,{"$f":"'From Labview'!AG103","v":17000},{"$f":"'From Labview'!D103","v":0.311},{"$f":"'From Labview'!H103","v":0.311},{"$f":"'From Labview'!L103","v":0.284},{"$f":"'From Labview'!P103","v":0.351},{"$f":"'From Labview'!S103","v":-0.257},{"$f":"'From Labview'!X103","v":0.024},{"$f":"'From Labview'!AB103","v":-0.588},{"$f":"'From Labview'!AF103","v":-0.77},{"$f":"'From Labview'!AJ103","v":0.59},{"$f":"'From Labview'!AN103","v":-0.625}]
[{"$f":"'Pre Delta'!A104","v":18000},{"$f":"'Post Delta'!B104-'Pre Delta'!B104","v":0.2096999999999838},{"$f":"'Post Delta'!C104-'Pre Delta'!C104","v":0.18240000000002965},{"$f":"'Post Delta'!D104-'Pre Delta'!D104","v":0.3024000000000058},{"$f":"'Post Delta'!E104-'Pre Delta'!E104","v":0.14870000000000516},{"$f":"'Post Delta'!F104-'Pre Delta'!F104","v":-0.15669999999998652},{"$f":"'Post Delta'!G104-'Pre Delta'!G104","v":-0.013099999999994338},{"$f":"'Post Delta'!H104-'Pre Delta'!H104","v":-0.728500000000011},{"$f":"'Post Delta'!I104-'Pre Delta'!I104","v":-0.7865999999999929},{"$f":"'Post Delta'!J104-'Pre Delta'!J104","v":0.1150999999999982},{"$f":"'Post Delta'!K104-'Pre Delta'!K104","v":-0.7312000000000154},null,{"$f":"'From Labview'!AG104","v":18000},{"$f":"'From Labview'!D104","v":0.21},{"$f":"'From Labview'!H104","v":0.182},{"$f":"'From Labview'!L104","v":0.302},{"$f":"'From Labview'!P104","v":0.149},{"$f":"'From Labview'!S104","v":-0.136},{"$f":"'From Labview'!X104","v":-0.013},{"$f":"'From Labview'!AB104","v":-0.729},{"$f":"'From Labview'!AF104","v":-0.787},{"$f":"'From Labview'!AJ104","v":0.115},{"$f":"'From Labview'!AN104","v":-0.731}]
[{"$f":"'Pre Delta'!A105","v":19000},{"$f":"'Post Delta'!B105-'Pre Delta'!B105","v":-0.09120000000000061},{"$f":"'Post Delta'!C105-'Pre Delta'!C105","v":-0.16610000000000014},{"$f":"'Post Delta'!D105-'Pre Delta'!D105","v":0.2563000000000244},{"$f":"'Post Delta'!E105-'Pre Delta'!E105","v":-0.07309999999996819},{"$f":"'Post Delta'!F105-'Pre Delta'!F105","v":-0.1891999999999996},{"$f":"'Post Delta'!G105-'Pre Delta'!G105","v":-7.2999999999865395E-3},{"$f":"'Post Delta'!H105-'Pre Delta'!H105","v":-0.8697999999999979},{"$f":"'Post Delta'!I105-'Pre Delta'!I105","v":-0.7405999999999864},{"$f":"'Post Delta'!J105-'Pre Delta'!J105","v":-0.38179999999999836},{"$f":"'Post Delta'!K105-'Pre Delta'!K105","v":-0.5619999999999976},null,{"$f":"'From Labview'!AG105","v":19000},{"$f":"'From Labview'!D105","v":-0.091},{"$f":"'From Labview'!H105","v":-0.166},{"$f":"'From Labview'!L105","v":0.256},{"$f":"'From Labview'!P105","v":-0.073},{"$f":"'From Labview'!S105","v":-0.003},{"$f":"'From Labview'!X105","v":-0.007},{"$f":"'From Labview'!AB105","v":-0.87},{"$f":"'From Labview'!AF105","v":-0.741},{"$f":"'From Labview'!AJ105","v":-0.382},{"$f":"'From Labview'!AN105","v":-0.562}]
[{"$f":"'Pre Delta'!A106","v":20000},{"$f":"'Post Delta'!B106-'Pre Delta'!B106","v":-0.3858000000000317},{"$f":"'Post Delta'!C106-'Pre Delta'!C106","v":-0.5373000000000161},{"$f":"'Post Delta'!D106-'Pre Delta'!D106","v":0.17950000000001864},{"$f":"'Post Delta'!E106-'Pre Delta'!E106","v":-0.24840000000000373},{"$f":"'Post Delta'!F106-'Pre Delta'!F106","v":-0.16639999999999588},{"$f":"'Post Delta'!G106-'Pre Delta'!G106","v":0.03700000000003456},{"$f":"'Post Delta'!H106-'Pre Delta'!H106","v":-1.0079000000000065},{"$f":"'Post Delta'!I106-'Pre Delta'!I106","v":-0.5397999999999996},{"$f":"'Post Delta'!J106-'Pre Delta'!J106","v":-0.6844000000000108},{"$f":"'Post Delta'!K106-'Pre Delta'!K106","v":0.0946999999999889},null,{"$f":"'From Labview'!AG106","v":20000},{"$f":"'From Labview'!D106","v":-0.386},{"$f":"'From Labview'!H106","v":-0.537},{"$f":"'From Labview'!L106","v":0.18},{"$f":"'From Labview'!P106","v":-0.248},{"$f":"'From Labview'!S106","v":0.114},{"$f":"'From Labview'!X106","v":0.037},{"$f":"'From Labview'!AB106","v":-1.008},{"$f":"'From Labview'!AF106","v":-0.54},{"$f":"'From Labview'!AJ106","v":-0.684},{"$f":"'From Labview'!AN106","v":0.095}]
[{"$f":"'Pre Delta'!A107","v":21200},{"$f":"'Post Delta'!B107-'Pre Delta'!B107","v":-3.6957999999999913},{"$f":"'Post Delta'!C107-'Pre Delta'!C107","v":-3.534600000000026},{"$f":"'Post Delta'!D107-'Pre Delta'!D107","v":0.005299999999991201},{"$f":"'Post Delta'!E107-'Pre Delta'!E107","v":-0.3415000000000106},{"$f":"'Post Delta'!F107-'Pre Delta'!F107","v":-0.12810000000000343},{"$f":"'Post Delta'!G107-'Pre Delta'!G107","v":0.06680000000001485},{"$f":"'Post Delta'!H107-'Pre Delta'!H107","v":-3.809100000000015},{"$f":"'Post Delta'!I107-'Pre Delta'!I107","v":-3.6820999999999913},{"$f":"'Post Delta'!J107-'Pre Delta'!J107","v":-3.3556000000000097},{"$f":"'Post Delta'!K107-'Pre Delta'!K107","v":-5.252800000000001},null,{"$f":"'From Labview'!AG107","v":21200},{"$f":"'From Labview'!D107","v":-3.696},{"$f":"'From Labview'!H107","v":-3.535},{"$f":"'From Labview'!L107","v":0.005},{"$f":"'From Labview'!P107","v":-0.342},{"$f":"'From Labview'!S107","v":0.261},{"$f":"'From Labview'!X107","v":0.067},{"$f":"'From Labview'!AB107","v":-3.809},{"$f":"'From Labview'!AF107","v":-3.682},{"$f":"'From Labview'!AJ107","v":-3.356},{"$f":"'From Labview'!AN107","v":-5.253}]
[{"$f":"'Pre Delta'!A108","v":22400},{"$f":"'Post Delta'!B108-'Pre Delta'!B108","v":-3.2421999999999827},{"$f":"'Post Delta'!C108-'Pre Delta'!C108","v":-3.493399999999994},{"$f":"'Post Delta'!D108-'Pre Delta'!D108","v":0.17040000000000077},{"$f":"'Post Delta'!E108-'Pre Delta'!E108","v":-0.5091999999999643},{"$f":"'Post Delta'!F108-'Pre Delta'!F108","v":-0.7435999999999865},{"$f":"'Post Delta'!G108-'Pre Delta'!G108","v":-0.5230000000000246},{"$f":"'Post Delta'!H108-'Pre Delta'!H108","v":-955.1519},{"$f":"'Post Delta'!I108-'Pre Delta'!I108","v":-948.7489},{"$f":"'Post Delta'!J108-'Pre Delta'!J108","v":-934.7837999999999},{"$f":"'Post Delta'!K108-'Pre Delta'!K108","v":-953.4531000000001},null,{"$f":"'From Labview'!AG108","v":22400},{"$f":"'From Labview'!D108","v":-3.242},{"$f":"'From Labview'!H108","v":-3.493},{"$f":"'From Labview'!L108","v":0.17},{"$f":"'From Labview'!P108","v":-0.509},{"$f":"'From Labview'!S108","v":-0.219},{"$f":"'From Labview'!X108","v":-0.523},{"$f":"'From Labview'!AB108","v":-955.152},{"$f":"'From Labview'!AF108","v":-948.749},{"$f":"'From Labview'!AJ108","v":-934.784},{"$f":"'From Labview'!AN108","v":-953.453}]

{"sheet":"Pre Delta","index":1,"n_rows":108,"n_cols":11,"rows_kept":108}
[{"$f":"'[1]FR - Smoothed DUTL Left'!A1","v":"Frequecy"},{"$f":"'[1]FR - Smoothed DUTL Left'!B1","v":"DTUL L"},{"$f":"'[1]FR - Smoothed DUTL Right'!B1","v":"DTUL R"},{"$f":"'[1]FR - Smoothed DUTL Mic1'!B1","v":"Mic1"},{"$f":"'[1]FR - Smoothed DUTL Mic2'!B1","v":"Mic2"},{"$f":"'[1]FR - Smoothed DUTL Mic3'!B1","v":"Mic3"},{"$f":"'[1]FR - Smoothed DUTL Mic4'!B1","v":"Mic4"},{"$f":"'[1]FR - Smoothed Self DUTL Mic1'!B1","v":"Self Mic1"},{"$f":"'[1]FR - Smoothed Self DUTL Mic2'!B1","v":"Self Mic2"},{"$f":"'[1]FR - Smoothed Self DUTL Mic3'!B1","v":"Self Mic3"},{"$f":"'[1]FR - Smoothed Self DUTL Mic4'!B1","v":"Self Mic4"}]
[{"$f":"'[1]FR - Smoothed DUTL Left'!A2","v":50},{"$f":"Sheet1!N2-Sheet1!B2","v":-0.2844000000000051},{"$f":"Sheet1!O2-Sheet1!C2","v":-0.3924999999999983},{"$f":"Sheet1!P2-Sheet1!D2","v":-0.02909999999999968},{"$f":"Sheet1!Q2-Sheet1!E2","v":-0.030400000000000205},{"$f":"Sheet1!R2-Sheet1!F2","v":-0.2184999999999917},{"$f":"Sheet1!S2-Sheet1!G2","v":-0.05880000000000507},{"$f":"Sheet1!T2-Sheet1!H2","v":-0.20420000000001437},{"$f":"Sheet1!U2-Sheet1!I2","v":-0.3777999999999935},{"$f":"Sheet1!V2-Sheet1!J2","v":-0.6787999999999812},{"$f":"Sheet1!W2-Sheet1!K2","v":-0.3567000000000178}]
[{"$f":"'[1]FR - Smoothed DUTL Left'!A3","v":53},{"$f":"Sheet1!N3-Sheet1!B3","v":-0.37869999999999493},{"$f":"Sheet1!O3-Sheet1!C3","v":-0.38409999999998945},{"$f":"Sheet1!P3-Sheet1!D3","v":-0.034200000000012665},{"$f":"Sheet1!Q3-Sheet1!E3","v":-0.030599999999992633},{"$f":"Sheet1!R3-Sheet1!F3","v":-0.21920000000000073},{"$f":"Sheet1!S3-Sheet1!G3","v":-0.06220000000001846},{"$f":"Sheet1!T3-Sheet1!H3","v":-0.1442000000000121},{"$f":"Sheet1!U3-Sheet1!I3","v":-0.27530000000000143},{"$f":"Sheet1!V3-Sheet1!J3","v":-0.5259999999999962},{"$f":"Sheet1!W3-Sheet1!K3","v":-0.2703999999999951}]
[{"$f":"'[1]FR - Smoothed DUTL Left'!A4","v":56},{"$f":"Sheet1!N4-Sheet1!B4","v":-0.300399999999982},{"$f":"Sheet1!O4-Sheet1!C4","v":-0.28889999999999816},{"$f":"Sheet1!P4-Sheet1!D4","v":-0.035799999999994725},{"$f":"Sheet1!Q4-Sheet1!E4","v":-0.029000000000010573},{"$f":"Sheet1!R4-Sheet1!F4","v":-0.21719999999997697},{"$f":"Sheet1!S4-Sheet1!G4","v":-0.06240000000001089},{"$f":"Sheet1!T4-Sheet1!H4","v":-0.07369999999998811},{"$f":"Sheet1!U4-Sheet1!I4","v":-0.18360000000001264},{"$f":"Sheet1!V4-Sheet1!J4","v":-0.4163999999999817},{"$f":"Sheet1!W4-Sheet1!K4","v":-0.1898000000000053}]
[{"$f":"'[1]FR - Smoothed DUTL Left'!A5","v":60},{"$f":"Sheet1!N5-Sheet1!B5","v":-0.2697000000000003},{"$f":"Sheet1!O5-Sheet1!C5","v":-0.2453000000000145},{"$f":"Sheet1!P5-Sheet1!D5","v":-0.03650000000000375},{"$f":"Sheet1!Q5-Sheet1!E5","v":-0.024299999999996658},{"$f":"Sheet1!R5-Sheet1!F5","v":-0.21179999999998245},{"$f":"Sheet1!S5-Sheet1!G5","v":-0.06100000000000705},{"$f":"Sheet1!T5-Sheet1!H5","v":-0.024699999999981515},{"$f":"Sheet1!U5-Sheet1!I5","v":-0.12470000000000425},{"$f":"Sheet1!V5-Sheet1!J5","v":-0.34669999999999845},{"$f":"Sheet1!W5-Sheet1!K5","v":-0.13409999999998945}]
[{"$f":"'[1]FR - Smoothed DUTL Left'!A6","v":63},{"$f":"Sheet1!N6-Sheet1!B6","v":-0.23219999999997754},{"$f":"Sheet1!O6-Sheet1!C6","v":-0.20869999999999322},{"$f":"Sheet1!P6-Sheet1!D6","v":-0.03109999999998081},{"$f":"Sheet1!Q6-Sheet1!E6","v":-0.015100000000003888},{"$f":"Sheet1!R6-Sheet1!F6","v":-0.20070000000001187},{"$f":"Sheet1!S6-Sheet1!G6","v":-0.054400000000001114},{"$f":"Sheet1!T6-Sheet1!H6","v":0.020699999999990837},{"$f":"Sheet1!U6-Sheet1!I6","v":-0.05930000000000746},{"$f":"Sheet1!V6-Sheet1!J6","v":-0.28819999999998913},{"$f":"Sheet1!W6-Sheet1!K6","v":-0.0742000000000047}]
[{"$f":"'[1]FR - Smoothed DUTL Left'!A7","v":67},{"$f":"Sheet1!N7-Sheet1!B7","v":-0.201699999999974},{"$f":"Sheet1!O7-Sheet1!C7","v":-0.19099999999997408},{"$f":"Sheet1!P7-Sheet1!D7","v":-0.02240000000001885},{"$f":"Sheet1!Q7-Sheet1!E7","v":-1.90000000000623E-3},{"$f":"Sheet1!R7-Sheet1!F7","v":-0.18659999999998433},{"$f":"Sheet1!S7-Sheet1!G7","v":-0.044900000000012597},{"$f":"Sheet1!T7-Sheet1!H7","v":0.04959999999999809},{"$f":"Sheet1!U7-Sheet1!I7","v":0.004799999999988813},{"$f":"Sheet1!V7-Sheet1!J7","v":-0.24609999999999843},{"$f":"Sheet1!W7-Sheet1!K7","v":-0.023099999999999454}]
[{"$f":"'[1]FR - Smoothed DUTL Left'!A8","v":71},{"$f":"Sheet1!N8-Sheet1!B8","v":-0.1804999999999808},{"$f":"Sheet1!O8-Sheet1!C8","v":-0.18660000000001276},{"$f":"Sheet1!P8-Sheet1!D8","v":-0.013800000000003365},{"$f":"Sheet1!Q8-Sheet1!E8","v":0.01300000000000523},{"$f":"Sheet1!R8-Sheet1!F8","v":-0.17329999999998336},{"$f":"Sheet1!S8-Sheet1!G8","v":-0.03490000000000748},{"$f":"Sheet1!T8-Sheet1!H8","v":0.05870000000001596},{"$f":"Sheet1!U8-Sheet1!I8","v":0.04970000000000141},{"$f":"Sheet1!V8-Sheet1!J8","v":-0.22290000000000987},{"$f":"Sheet1!W8-Sheet1!K8","v":0.006200000000006867}]
[{"$f":"'[1]FR - Smoothed DUTL Left'!A9","v":75},{"$f":"Sheet1!N9-Sheet1!B9","v":-0.16469999999998208},{"$f":"Sheet1!O9-Sheet1!C9","v":-0.1891999999999996},{"$f":"Sheet1!P9-Sheet1!D9","v":-0.00950000000001694},{"$f":"Sheet1!Q9-Sheet1!E9","v":0.02009999999998513},{"$f":"Sheet1!R9-Sheet1!F9","v":-0.16719999999999402},{"$f":"Sheet1!S9-Sheet1!G9","v":-0.03439999999999088},{"$f":"Sheet1!T9-Sheet1!H9","v":0.054299999999997794},{"$f":"Sheet1!U9-Sheet1!I9","v":0.07250000000000512},{"$f":"Sheet1!V9-Sheet1!J9","v":-0.21280000000000143},{"$f":"Sheet1!W9-Sheet1!K9","v":0.015400000000013847}]
[{"$f":"'[1]FR - Smoothed DUTL Left'!A10","v":80},{"$f":"Sheet1!N10-Sheet1!B10","v":-0.16179999999997108},{"$f":"Sheet1!O10-Sheet1!C10","v":-0.1927000000000021},{"$f":"Sheet1!P10-Sheet1!D10","v":-0.01859999999999218},{"$f":"Sheet1!Q10-Sheet1!E10","v":0.01439999999998065},{"$f":"Sheet1!R10-Sheet1!F10","v":-0.17360000000002174},{"$f":"Sheet1!S10-Sheet1!G10","v":-0.04600000000000648},{"$f":"Sheet1!T10-Sheet1!H10","v":0.04390000000000782},{"$f":"Sheet1!U10-Sheet1!I10","v":0.08390000000001407},{"$f":"Sheet1!V10-Sheet1!J10","v":-0.20920000000000982},{"$f":"Sheet1!W10-Sheet1!K10","v":0.014899999999983038}]
[{"$f":"'[1]FR - Smoothed DUTL Left'!A11","v":85},{"$f":"Sheet1!N11-Sheet1!B11","v":-0.1688999999999794},{"$f":"Sheet1!O11-Sheet1!C11","v":-0.19029999999999347},{"$f":"Sheet1!P11-Sheet1!D11","v":-0.03310000000000457},{"$f":"Sheet1!Q11-Sheet1!E11","v":0.009700000000009368},{"$f":"Sheet1!R11-Sheet1!F11","v":-0.1775999999999982},{"$f":"Sheet1!S11-Sheet1!G11","v":-0.054200000000008686},{"$f":"Sheet1!T11-Sheet1!H11","v":0.03310000000000457},{"$f":"Sheet1!U11-Sheet1!I11","v":0.09270000000000778},{"$f":"Sheet1!V11-Sheet1!J11","v":-0.2068999999999761},{"$f":"Sheet1!W11-Sheet1!K11","v":0.014899999999997249}]
[{"$f":"'[1]FR - Smoothed DUTL Left'!A12","v":90},{"$f":"Sheet1!N12-Sheet1!B12","v":-0.17249999999999943},{"$f":"Sheet1!O12-Sheet1!C12","v":-0.17799999999999727},{"$f":"Sheet1!P12-Sheet1!D12","v":-0.035600000000002296},{"$f":"Sheet1!Q12-Sheet1!E12","v":0.012399999999985312},{"$f":"Sheet1!R12-Sheet1!F12","v":-0.17300000000001603},{"$f":"Sheet1!S12-Sheet1!G12","v":-0.05379999999999541},{"$f":"Sheet1!T12-Sheet1!H12","v":0.020599999999987517},{"$f":"Sheet1!U12-Sheet1!I12","v":0.1022000000000105},{"$f":"Sheet1!V12-Sheet1!J12","v":-0.20839999999999748},{"$f":"Sheet1!W12-Sheet1!K12","v":0.01809999999998979}]
[{"$f":"'[1]FR - Smoothed DUTL Left'!A13","v":95},{"$f":"Sheet1!N13-Sheet1!B13","v":-0.19520000000001403},{"$f":"Sheet1!O13-Sheet1!C13","v":-0.1851999999999947},{"$f":"Sheet1!P13-Sheet1!D13","v":-0.041600000000002524},{"$f":"Sheet1!Q13-Sheet1!E13","v":0.004300000000000637},{"$f":"Sheet1!R13-Sheet1!F13","v":-0.17850000000002808},{"$f":"Sheet1!S13-Sheet1!G13","v":-0.06390000000000384},{"$f":"Sheet1!T13-Sheet1!H13","v":-0.013300000000015189},{"$f":"Sheet1!U13-Sheet1!I13","v":0.0922999999999945},{"$f":"Sheet1!V13-Sheet1!J13","v":-0.23469999999998947},{"$f":"Sheet1!W13-Sheet1!K13","v":3.3000000000100727E-3}]
[{"$f":"'[1]FR - Smoothed DUTL Left'!A14","v":100},{"$f":"Sheet1!N14-Sheet1!B14","v":-0.27009999999999934},{"$f":"Sheet1!O14-Sheet1!C14","v":-0.24490000000001544},{"$f":"Sheet1!P14-Sheet1!D14","v":-0.06110000000001037},{"$f":"Sheet1!Q14-Sheet1!E14","v":-0.01829999999999643},{"$f":"Sheet1!R14-Sheet1!F14","v":-0.19829999999998904},{"$f":"Sheet1!S14-Sheet1!G14","v":-0.08970000000000766},{"$f":"Sheet1!T14-Sheet1!H14","v":-0.10110000000000241},{"$f":"Sheet1!U14-Sheet1!I14","v":0.016699999999971737},{"$f":"Sheet1!V14-Sheet1!J14","v":-0.31989999999998986},{"$f":"Sheet1!W14-Sheet1!K14","v":-0.07789999999999964}]
[{"$f":"'[1]FR - Smoothed DUTL Left'!A15","v":106},{"$f":"Sheet1!N15-Sheet1!B15","v":-0.3808000000000078},{"$f":"Sheet1!O15-Sheet1!C15","v":-0.34719999999998663},{"$f":"Sheet1!P15-Sheet1!D15","v":-0.07720000000000482},{"$f":"Sheet1!Q15-Sheet1!E15","v":-0.034199999999998454},{"$f":"Sheet1!R15-Sheet1!F15","v":-0.2114000000000118},{"$f":"Sheet1!S15-Sheet1!G15","v":-0.10779999999999745},{"$f":"Sheet1!T15-Sheet1!H15","v":-0.2429000000000201},{"$f":"Sheet1!U15-Sheet1!I15","v":-0.15300000000002},{"$f":"Sheet1!V15-Sheet1!J15","v":-0.4656000000000091},{"$f":"Sheet1!W15-Sheet1!K15","v":-0.25669999999999504}]
[{"$f":"'[1]FR - Smoothed DUTL Left'!A16","v":112},{"$f":"Sheet1!N16-Sheet1!B16","v":-0.4759000000000242},{"$f":"Sheet1!O16-Sheet1!C16","v":-0.44650000000000034},{"$f":"Sheet1!P16-Sheet1!D16","v":-0.06280000000000996},{"$f":"Sheet1!Q16-Sheet1!E16","v":-0.015599999999992065},{"$f":"Sheet1!R16-Sheet1!F16","v":-0.19199999999999307},{"$f":"Sheet1!S16-Sheet1!G16","v":-0.09000000000003183},{"$f":"Sheet1!T16-Sheet1!H16","v":-0.36789999999997747},{"$f":"Sheet1!U16-Sheet1!I16","v":-0.34509999999998797},{"$f":"Sheet1!V16-Sheet1!J16","v":-0.597999999999999},{"$f":"Sheet1!W16-Sheet1!K16","v":-0.46179999999999666}]
[{"$f":"'[1]FR - Smoothed DUTL Left'!A17","v":118},{"$f":"Sheet1!N17-Sheet1!B17","v":-0.5039000000000158},{"$f":"Sheet1!O17-Sheet1!C17","v":-0.4916999999999945},{"$f":"Sheet1!P17-Sheet1!D17","v":-0.02149999999997476},{"$f":"Sheet1!Q17-Sheet1!E17","v":0.0309999999999917},{"$f":"Sheet1!R17-Sheet1!F17","v":-0.1489000000000118},{"$f":"Sheet1!S17-Sheet1!G17","v":-0.04579999999999984},{"$f":"Sheet1!T17-Sheet1!H17","v":-0.40089999999999293},{"$f":"Sheet1!U17-Sheet1!I17","v":-0.4304999999999808},{"$f":"Sheet1!V17-Sheet1!J17","v":-0.6413999999999902},{"$f":"Sheet1!W17-Sheet1!K17","v":-0.5693999999999875}]
[{"$f":"'[1]FR - Smoothed DUTL Left'!A18","v":125},{"$f":"Sheet1!N18-Sheet1!B18","v":-0.4339999999999975},{"$f":"Sheet1!O18-Sheet1!C18","v":-0.45729999999997517},{"$f":"Sheet1!P18-Sheet1!D18","v":0.007899999999992247},{"$f":"Sheet1!Q18-Sheet1!E18","v":0.0671999999999997},{"$f":"Sheet1!R18-Sheet1!F18","v":-0.12140000000000839},{"$f":"Sheet1!S18-Sheet1!G18","v":-0.01659999999999684},{"$f":"Sheet1!T18-Sheet1!H18","v":-0.3456999999999937},{"$f":"Sheet1!U18-Sheet1!I18","v":-0.3795999999999964},{"$f":"Sheet1!V18-Sheet1!J18","v":-0.6044000000000125},{"$f":"Sheet1!W18-Sheet1!K18","v":-0.5575000000000188}]
[{"$f":"'[1]FR - Smoothed DUTL Left'!A19","v":132},{"$f":"Sheet1!N19-Sheet1!B19","v":-0.2938999999999794},{"$f":"Sheet1!O19-Sheet1!C19","v":-0.3772999999999911},{"$f":"Sheet1!P19-Sheet1!D19","v":-0.005900000000011119},{"$f":"Sheet1!Q19-Sheet1!E19","v":0.05900000000001171},{"$f":"Sheet1!R19-Sheet1!F19","v":-0.13529999999998665},{"$f":"Sheet1!S19-Sheet1!G19","v":-0.03180000000001826},{"$f":"Sheet1!T19-Sheet1!H19","v":-0.24349999999999739},{"$f":"Sheet1!U19-Sheet1!I19","v":-0.24110000000000298},{"$f":"Sheet1!V19-Sheet1!J19","v":-0.5320000000000107},{"$f":"Sheet1!W19-Sheet1!K19","v":-0.47740000000001714}]
[{"$f":"'[1]FR - Smoothed DUTL Left'!A20","v":140},{"$f":"Sheet1!N20-Sheet1!B20","v":-0.1909999999999883},{"$f":"Sheet1!O20-Sheet1!C20","v":-0.32860000000000866},{"$f":"Sheet1!P20-Sheet1!D20","v":-0.05540000000000589},{"$f":"Sheet1!Q20-Sheet1!E20","v":9.3000000000103E-3},{"$f":"Sheet1!R20-Sheet1!F20","v":-0.1763000000000119},{"$f":"Sheet1!S20-Sheet1!G20","v":-0.07860000000000866},{"$f":"Sheet1!T20-Sheet1!H20","v":-0.14589999999999748},{"$f":"Sheet1!U20-Sheet1!I20","v":-0.09709999999998331},{"$f":"Sheet1!V20-Sheet1!J20","v":-0.44879999999999143},{"$f":"Sheet1!W20-Sheet1!K20","v":-0.3780000000000001}]
[{"$f":"'[1]FR - Smoothed DUTL Left'!A21","v":150},{"$f":"Sheet1!N21-Sheet1!B21","v":-0.23229999999996664},{"$f":"Sheet1!O21-Sheet1!C21","v":-0.3568000000000211},{"$f":"Sheet1!P21-Sheet1!D21","v":-0.09390000000000498},{"$f":"Sheet1!Q21-Sheet1!E21","v":-0.034200000000012665},{"$f":"Sheet1!R21-Sheet1!F21","v":-0.20529999999997983},{"$f":"Sheet1!S21-Sheet1!G21","v":-0.11450000000000671},{"$f":"Sheet1!T21-Sheet1!H21","v":-0.10760000000000502},{"$f":"Sheet1!U21-Sheet1!I21","v":-0.05299999999999727},{"$f":"Sheet1!V21-Sheet1!J21","v":-0.3666999999999945},{"$f":"Sheet1!W21-Sheet1!K21","v":-0.29699999999999704}]
[{"$f":"'[1]FR - Smoothed DUTL Left'!A22","v":160},{"$f":"Sheet1!N22-Sheet1!B22","v":-0.3999999999999915},{"$f":"Sheet1!O22-Sheet1!C22","v":-0.4469999999999743},{"$f":"Sheet1!P22-Sheet1!D22","v":-0.09680000000000177},{"$f":"Sheet1!Q22-Sheet1!E22","v":-0.03710000000000946},{"$f":"Sheet1!R22-Sheet1!F22","v":-0.20589999999999975},{"$f":"Sheet1!S22-Sheet1!G22","v":-0.11739999999998929},{"$f":"Sheet1!T22-Sheet1!H22","v":-0.15760000000000218},{"$f":"Sheet1!U22-Sheet1!I22","v":-0.1490000000000009},{"$f":"Sheet1!V22-Sheet1!J22","v":-0.30409999999999116},{"$f":"Sheet1!W22-Sheet1!K22","v":-0.2563999999999993}]
[{"$f":"'[1]FR - Smoothed DUTL Left'!A23","v":170},{"$f":"Sheet1!N23-Sheet1!B23","v":-0.5749000000000137},{"$f":"Sheet1!O23-Sheet1!C23","v":-0.5497000000000156},{"$f":"Sheet1!P23-Sheet1!D23","v":-0.08319999999999084},{"$f":"Sheet1!Q23-Sheet1!E23","v":-0.021600000000020714},{"$f":"Sheet1!R23-Sheet1!F23","v":-0.19690000000001362},{"$f":"Sheet1!S23-Sheet1!G23","v":-0.10649999999999693},{"$f":"Sheet1!T23-Sheet1!H23","v":-0.2623000000000104},{"$f":"Sheet1!U23-Sheet1!I23","v":-0.3091000000000008},{"$f":"Sheet1!V23-Sheet1!J23","v":-0.27960000000000207},{"$f":"Sheet1!W23-Sheet1!K23","v":-0.25140000000000384}]
[{"$f":"'[1]FR - Smoothed DUTL Left'!A24","v":180},{"$f":"Sheet1!N24-Sheet1!B24","v":-0.6299999999999955},{"$f":"Sheet1!O24-Sheet1!C24","v":-0.6001999999999725},{"$f":"Sheet1!P24-Sheet1!D24","v":-0.07579999999998677},{"$f":"Sheet1!Q24-Sheet1!E24","v":-0.017400000000009186},{"$f":"Sheet1!R24-Sheet1!F24","v":-0.19379999999999598},{"$f":"Sheet1!S24-Sheet1!G24","v":-0.10439999999999827},{"$f":"Sheet1!T24-Sheet1!H24","v":-0.3457000000000079},{"$f":"Sheet1!U24-Sheet1!I24","v":-0.41509999999999536},{"$f":"Sheet1!V24-Sheet1!J24","v":-0.28940000000000055},{"$f":"Sheet1!W24-Sheet1!K24","v":-0.26490000000001146}]
[{"$f":"'[1]FR - Smoothed DUTL Left'!A25","v":190},{"$f":"Sheet1!N25-Sheet1!B25","v":-0.6003000000000185},{"$f":"Sheet1!O25-Sheet1!C25","v":-0.5940000000000225},{"$f":"Sheet1!P25-Sheet1!D25","v":-0.07370000000001653},{"$f":"Sheet1!Q25-Sheet1!E25","v":-0.021900000000016462},{"$f":"Sheet1!R25-Sheet1!F25","v":-0.19230000000000302},{"$f":"Sheet1!S25-Sheet1!G25","v":-0.10759999999999081},{"$f":"Sheet1!T25-Sheet1!H25","v":-0.38059999999997274},{"$f":"Sheet1!U25-Sheet1!I25","v":-0.4439999999999884},{"$f":"Sheet1!V25-Sheet1!J25","v":-0.3247000000000071},{"$f":"Sheet1!W25-Sheet1!K25","v":-0.2972999999999928}]
[{"$f":"'[1]FR - Smoothed DUTL Left'!A26","v":200},{"$f":"Sheet1!N26-Sheet1!B26","v":-0.5691000000000059},{"$f":"Sheet1!O26-Sheet1!C26","v":-0.5733000000000033},{"$f":"Sheet1!P26-Sheet1!D26","v":-0.07410000000000139},{"$f":"Sheet1!Q26-Sheet1!E26","v":-0.02039999999999509},{"$f":"Sheet1!R26-Sheet1!F26","v":-0.19149999999999068},{"$f":"Sheet1!S26-Sheet1!G26","v":-0.10849999999999227},{"$f":"Sheet1!T26-Sheet1!H26","v":-0.40169999999999106},{"$f":"Sheet1!U26-Sheet1!I26","v":-0.4410000000000025},{"$f":"Sheet1!V26-Sheet1!J26","v":-0.38750000000001705},{"$f":"Sheet1!W26-Sheet1!K26","v":-0.35360000000000014}]
[{"$f":"'[1]FR - Smoothed DUTL Left'!A27","v":212},{"$f":"Sheet1!N27-Sheet1!B27","v":-0.549199999999999},{"$f":"Sheet1!O27-Sheet1!C27","v":-0.5559999999999974},{"$f":"Sheet1!P27-Sheet1!D27","v":-0.07580000000000098},{"$f":"Sheet1!Q27-Sheet1!E27","v":-0.013300000000000978},{"$f":"Sheet1!R27-Sheet1!F27","v":-0.1915000000000049},{"$f":"Sheet1!S27-Sheet1!G27","v":-0.10670000000001778},{"$f":"Sheet1!T27-Sheet1!H27","v":-0.43089999999999407},{"$f":"Sheet1!U27-Sheet1!I27","v":-0.4292999999999978},{"$f":"Sheet1!V27-Sheet1!J27","v":-0.46759999999999025},{"$f":"Sheet1!W27-Sheet1!K27","v":-0.4129000000000076}]
[{"$f":"'[1]FR - Smoothed DUTL Left'!A28","v":224},{"$f":"Sheet1!N28-Sheet1!B28","v":-0.5433000000000021},{"$f":"Sheet1!O28-Sheet1!C28","v":-0.5505999999999887},{"$f":"Sheet1!P28-Sheet1!D28","v":-0.07699999999998397},{"$f":"Sheet1!Q28-Sheet1!E28","v":-0.010900000000006571},{"$f":"Sheet1!R28-Sheet1!F28","v":-0.19120000000002335},{"$f":"Sheet1!S28-Sheet1!G28","v":-0.10620000000000118},{"$f":"Sheet1!T28-Sheet1!H28","v":-0.46119999999999095},{"$f":"Sheet1!U28-Sheet1!I28","v":-0.41370000000001994},{"$f":"Sheet1!V28-Sheet1!J28","v":-0.5353999999999814},{"$f":"Sheet1!W28-Sheet1!K28","v":-0.4496000000000038}]
[{"$f":"'[1]FR - Smoothed DUTL Left'!A29","v":236},{"$f":"Sheet1!N29-Sheet1!B29","v":-0.5450999999999908},{"$f":"Sheet1!O29-Sheet1!C29","v":-0.5483000000000118},{"$f":"Sheet1!P29-Sheet1!D29","v":-0.07850000000000534},{"$f":"Sheet1!Q29-Sheet1!E29","v":-0.013099999999994338},{"$f":"Sheet1!R29-Sheet1!F29","v":-0.1904999999999859},{"$f":"Sheet1!S29-Sheet1!G29","v":-0.10879999999998802},{"$f":"Sheet1!T29-Sheet1!H29","v":-0.48109999999999786},{"$f":"Sheet1!U29-Sheet1!I29","v":-0.40339999999997644},{"$f":"Sheet1!V29-Sheet1!J29","v":-0.5744000000000113},{"$f":"Sheet1!W29-Sheet1!K29","v":-0.46479999999998256}]
[{"$f":"'[1]FR - Smoothed DUTL Left'!A30","v":250},{"$f":"Sheet1!N30-Sheet1!B30","v":-0.5508999999999986},{"$f":"Sheet1!O30-Sheet1!C30","v":-0.5464000000000055},{"$f":"Sheet1!P30-Sheet1!D30","v":-0.0788999999999902},{"$f":"Sheet1!Q30-Sheet1!E30","v":-0.012700000000009481},{"$f":"Sheet1!R30-Sheet1!F30","v":-0.18959999999998445},{"$f":"Sheet1!S30-Sheet1!G30","v":-0.10960000000000036},{"$f":"Sheet1!T30-Sheet1!H30","v":-0.49790000000000134},{"$f":"Sheet1!U30-Sheet1!I30","v":-0.4100000000000108},{"$f":"Sheet1!V30-Sheet1!J30","v":-0.5940000000000083},{"$f":"Sheet1!W30-Sheet1!K30","v":-0.4742999999999711}]
[{"$f":"'[1]FR - Smoothed DUTL Left'!A31","v":265},{"$f":"Sheet1!N31-Sheet1!B31","v":-0.5577999999999861},{"$f":"Sheet1!O31-Sheet1!C31","v":-0.5486000000000217},{"$f":"Sheet1!P31-Sheet1!D31","v":-0.07989999999998076},{"$f":"Sheet1!Q31-Sheet1!E31","v":-0.01120000000000232},{"$f":"Sheet1!R31-Sheet1!F31","v":-0.18909999999999627},{"$f":"Sheet1!S31-Sheet1!G31","v":-0.10910000000001219},{"$f":"Sheet1!T31-Sheet1!H31","v":-0.5169999999999817},{"$f":"Sheet1!U31-Sheet1!I31","v":-0.4292999999999978},{"$f":"Sheet1!V31-Sheet1!J31","v":-0.6060000000000088},{"$f":"Sheet1!W31-Sheet1!K31","v":-0.4830000000000041}]
[{"$f":"'[1]FR - Smoothed DUTL Left'!A32","v":280},{"$f":"Sheet1!N32-Sheet1!B32","v":-0.5605999999999938},{"$f":"Sheet1!O32-Sheet1!C32","v":-0.5549999999999926},{"$f":"Sheet1!P32-Sheet1!D32","v":-0.0788999999999902},{"$f":"Sheet1!Q32-Sheet1!E32","v":-0.008700000000004593},{"$f":"Sheet1!R32-Sheet1!F32","v":-0.18720000000001846},{"$f":"Sheet1!S32-Sheet1!G32","v":-0.10680000000000689},{"$f":"Sheet1!T32-Sheet1!H32","v":-0.5337999999999852},{"$f":"Sheet1!U32-Sheet1!I32","v":-0.44840000000000657},{"$f":"Sheet1!V32-Sheet1!J32","v":-0.6169000000000295},{"$f":"Sheet1!W32-Sheet1!K32","v":-0.4923000000000002}]
[{"$f":"'[1]FR - Smoothed DUTL Left'!A33","v":300},{"$f":"Sheet1!N33-Sheet1!B33","v":-0.5609999999999928},{"$f":"Sheet1!O33-Sheet1!C33","v":-0.5627000000000209},{"$f":"Sheet1!P33-Sheet1!D33","v":-0.07500000000000284},{"$f":"Sheet1!Q33-Sheet1!E33","v":-0.004599999999996385},{"$f":"Sheet1!R33-Sheet1!F33","v":-0.1839999999999975},{"$f":"Sheet1!S33-Sheet1!G33","v":-0.10350000000001103},{"$f":"Sheet1!T33-Sheet1!H33","v":-0.5467000000000013},{"$f":"Sheet1!U33-Sheet1!I33","v":-0.4614000000000118},{"$f":"Sheet1!V33-Sheet1!J33","v":-0.636400000000009},{"$f":"Sheet1!W33-Sheet1!K33","v":-0.5136999999999858}]
[{"$f":"'[1]FR - Smoothed DUTL Left'!A34","v":315},{"$f":"Sheet1!N34-Sheet1!B34","v":-0.5588999999999942},{"$f":"Sheet1!O34-Sheet1!C34","v":-0.5722999999999985},{"$f":"Sheet1!P34-Sheet1!D34","v":-0.06799999999999784},{"$f":"Sheet1!Q34-Sheet1!E34","v":0.001600000000010482},{"$f":"Sheet1!R34-Sheet1!F34","v":-0.17910000000000537},{"$f":"Sheet1!S34-Sheet1!G34","v":-0.0981000000000023},{"$f":"Sheet1!T34-Sheet1!H34","v":-0.5593000000000075},{"$f":"Sheet1!U34-Sheet1!I34","v":-0.4750999999999834},{"$f":"Sheet1!V34-Sheet1!J34","v":-0.6676999999999964},{"$f":"Sheet1!W34-Sheet1!K34","v":-0.5558999999999941}]
[{"$f":"'[1]FR - Smoothed DUTL Left'!A35","v":335},{"$f":"Sheet1!N35-Sheet1!B35","v":-0.557399999999987},{"$f":"Sheet1!O35-Sheet1!C35","v":-0.5823999999999927},{"$f":"Sheet1!P35-Sheet1!D35","v":-0.055999999999983174},{"$f":"Sheet1!Q35-Sheet1!E35","v":0.01310000000000855},{"$f":"Sheet1!R35-Sheet1!F35","v":-0.16970000000000596},{"$f":"Sheet1!S35-Sheet1!G35","v":-0.08809999999999718},{"$f":"Sheet1!T35-Sheet1!H35","v":-0.5695999999999941},{"$f":"Sheet1!U35-Sheet1!I35","v":-0.4966000000000008},{"$f":"Sheet1!V35-Sheet1!J35","v":-0.6965000000000003},{"$f":"Sheet1!W35-Sheet1!K35","v":-0.6063999999999936}]
[{"$f":"'[1]FR - Smoothed DUTL Left'!A36","v":355},{"$f":"Sheet1!N36-Sheet1!B36","v":-0.5593999999999966},{"$f":"Sheet1!O36-Sheet1!C36","v":-0.5900000000000318},{"$f":"Sheet1!P36-Sheet1!D36","v":-0.04449999999999932},{"$f":"Sheet1!Q36-Sheet1!E36","v":0.026099999999999568},{"$f":"Sheet1!R36-Sheet1!F36","v":-0.15879999999998518},{"$f":"Sheet1!S36-Sheet1!G36","v":-0.0759999999999792},{"$f":"Sheet1!T36-Sheet1!H36","v":-0.5544000000000011},{"$f":"Sheet1!U36-Sheet1!I36","v":-0.497799999999998},{"$f":"Sheet1!V36-Sheet1!J36","v":-0.6892000000000138},{"$f":"Sheet1!W36-Sheet1!K36","v":-0.6222999999999956}]
[{"$f":"'[1]FR - Smoothed DUTL Left'!A37","v":375},{"$f":"Sheet1!N37-Sheet1!B37","v":-0.5589000000000084},{"$f":"Sheet1!O37-Sheet1!C37","v":-0.5901000000000209},{"$f":"Sheet1!P37-Sheet1!D37","v":-0.04240000000001487},{"$f":"Sheet1!Q37-Sheet1!E37","v":0.03089999999998838},{"$f":"Sheet1!R37-Sheet1!F37","v":-0.1565999999999974},{"$f":"Sheet1!S37-Sheet1!G37","v":-0.07290000000000418},{"$f":"Sheet1!T37-Sheet1!H37","v":-0.5005000000000024},{"$f":"Sheet1!U37-Sheet1!I37","v":-0.44909999999997297},{"$f":"Sheet1!V37-Sheet1!J37","v":-0.6380000000000052},{"$f":"Sheet1!W37-Sheet1!K37","v":-0.5754000000000019}]
[{"$f":"'[1]FR - Smoothed DUTL Left'!A38","v":400},{"$f":"Sheet1!N38-Sheet1!B38","v":-0.556500000000014},{"$f":"Sheet1!O38-Sheet1!C38","v":-0.5896000000000043},{"$f":"Sheet1!P38-Sheet1!D38","v":-0.052400000000005775},{"$f":"Sheet1!Q38-Sheet1!E38","v":0.023099999999999454},{"$f":"Sheet1!R38-Sheet1!F38","v":-0.16730000000001155},{"$f":"Sheet1!S38-Sheet1!G38","v":-0.08289999999999509},{"$f":"Sheet1!T38-Sheet1!H38","v":-0.4509000000000185},{"$f":"Sheet1!U38-Sheet1!I38","v":-0.3867999999999938},{"$f":"Sheet1!V38-Sheet1!J38","v":-0.5977000000000032},{"$f":"Sheet1!W38-Sheet1!K38","v":-0.5213999999999999}]
[{"$f":"'[1]FR - Smoothed DUTL Left'!A39","v":425},{"$f":"Sheet1!N39-Sheet1!B39","v":-0.5604999999999905},{"$f":"Sheet1!O39-Sheet1!C39","v":-0.5969999999999942},{"$f":"Sheet1!P39-Sheet1!D39","v":-0.06800000000001205},{"$f":"Sheet1!Q39-Sheet1!E39","v":0.00950000000003115},{"$f":"Sheet1!R39-Sheet1!F39","v":-0.18500000000000227},{"$f":"Sheet1!S39-Sheet1!G39","v":-0.09900000000000375},{"$f":"Sheet1!T39-Sheet1!H39","v":-0.47509999999999764},{"$f":"Sheet1!U39-Sheet1!I39","v":-0.38469999999999516},{"$f":"Sheet1!V39-Sheet1!J39","v":-0.6354000000000042},{"$f":"Sheet1!W39-Sheet1!K39","v":-0.539400000000029}]
[{"$f":"'[1]FR - Smoothed DUTL Left'!A40","v":450},{"$f":"Sheet1!N40-Sheet1!B40","v":-0.5685000000000002},{"$f":"Sheet1!O40-Sheet1!C40","v":-0.5995000000000061},{"$f":"Sheet1!P40-Sheet1!D40","v":-0.07620000000001426},{"$f":"Sheet1!Q40-Sheet1!E40","v":0.004400000000003956},{"$f":"Sheet1!R40-Sheet1!F40","v":-0.1950000000000074},{"$f":"Sheet1!S40-Sheet1!G40","v":-0.10659999999997183},{"$f":"Sheet1!T40-Sheet1!H40","v":-0.5991000000000071},{"$f":"Sheet1!U40-Sheet1!I40","v":-0.4914999999999736},{"$f":"Sheet1!V40-Sheet1!J40","v":-0.765199999999993},{"$f":"Sheet1!W40-Sheet1!K40","v":-0.6616000000000213}]
[{"$f":"'[1]FR - Smoothed DUTL Left'!A41","v":475},{"$f":"Sheet1!N41-Sheet1!B41","v":-0.5668999999999755},{"$f":"Sheet1!O41-Sheet1!C41","v":-0.5999000000000052},{"$f":"Sheet1!P41-Sheet1!D41","v":-0.0741999999999905},{"$f":"Sheet1!Q41-Sheet1!E41","v":9.399999999985198E-3},{"$f":"Sheet1!R41-Sheet1!F41","v":-0.1916000000000082},{"$f":"Sheet1!S41-Sheet1!G41","v":-0.10309999999998354},{"$f":"Sheet1!T41-Sheet1!H41","v":-0.7419999999999902},{"$f":"Sheet1!U41-Sheet1!I41","v":-0.6496999999999957},{"$f":"Sheet1!V41-Sheet1!J41","v":-0.8996000000000066},{"$f":"Sheet1!W41-Sheet1!K41","v":-0.8222000000000236}]
[{"$f":"'[1]FR - Smoothed DUTL Left'!A42","v":500},{"$f":"Sheet1!N42-Sheet1!B42","v":-0.5843000000000131},{"$f":"Sheet1!O42-Sheet1!C42","v":-0.6213999999999942},{"$f":"Sheet1!P42-Sheet1!D42","v":-0.095799999999997},{"$f":"Sheet1!Q42-Sheet1!E42","v":-0.012599999999991951},{"$f":"Sheet1!R42-Sheet1!F42","v":-0.1957000000000022},{"$f":"Sheet1!S42-Sheet1!G42","v":-0.117999999999995},{"$f":"Sheet1!T42-Sheet1!H42","v":-0.7686000000000064},{"$f":"Sheet1!U42-Sheet1!I42","v":-0.7158000000000015},{"$f":"Sheet1!V42-Sheet1!J42","v":-0.9065999999999832},{"$f":"Sheet1!W42-Sheet1!K42","v":-0.876199999999983}]
[{"$f":"'[1]FR - Smoothed DUTL Left'!A43","v":530},{"$f":"Sheet1!N43-Sheet1!B43","v":-0.6248000000000076},{"$f":"Sheet1!O43-Sheet1!C43","v":-0.6433999999999997},{"$f":"Sheet1!P43-Sheet1!D43","v":-0.11979999999999791},{"$f":"Sheet1!Q43-Sheet1!E43","v":-0.04709999999998615},{"$f":"Sheet1!R43-Sheet1!F43","v":-0.19710000000000605},{"$f":"Sheet1!S43-Sheet1!G43","v":-0.12869999999998072},{"$f":"Sheet1!T43-Sheet1!H43","v":-0.6289999999999907},{"$f":"Sheet1!U43-Sheet1!I43","v":-0.5973999999999933},{"$f":"Sheet1!V43-Sheet1!J43","v":-0.7370999999999981},{"$f":"Sheet1!W43-Sheet1!K43","v":-0.7301999999999964}]
[{"$f":"'[1]FR - Smoothed DUTL Left'!A44","v":560},{"$f":"Sheet1!N44-Sheet1!B44","v":-0.6440000000000197},{"$f":"Sheet1!O44-Sheet1!C44","v":-0.6487999999999943},{"$f":"Sheet1!P44-Sheet1!D44","v":-0.11050000000001603},{"$f":"Sheet1!Q44-Sheet1!E44","v":-0.04210000000000491},{"$f":"Sheet1!R44-Sheet1!F44","v":-0.18999999999999773},{"$f":"Sheet1!S44-Sheet1!G44","v":-0.12109999999999843},{"$f":"Sheet1!T44-Sheet1!H44","v":-0.4345000000000141},{"$f":"Sheet1!U44-Sheet1!I44","v":-0.33890000000002374},{"$f":"Sheet1!V44-Sheet1!J44","v":-0.5119999999999862},{"$f":"Sheet1!W44-Sheet1!K44","v":-0.43310000000001025}]
[{"$f":"'[1]FR - Smoothed DUTL Left'!A45","v":600},{"$f":"Sheet1!N45-Sheet1!B45","v":-0.6585000000000036},{"$f":"Sheet1!O45-Sheet1!C45","v":-0.6480000000000103},{"$f":"Sheet1!P45-Sheet1!D45","v":-0.09850000000000136},{"$f":"Sheet1!Q45-Sheet1!E45","v":-0.028999999999996362},{"$f":"Sheet1!R45-Sheet1!F45","v":-0.1822999999999695},{"$f":"Sheet1!S45-Sheet1!G45","v":-0.11180000000000234},{"$f":"Sheet1!T45-Sheet1!H45","v":-0.4504000000000161},{"$f":"Sheet1!U45-Sheet1!I45","v":-0.1612999999999971},{"$f":"Sheet1!V45-Sheet1!J45","v":-0.5100999999999942},{"$f":"Sheet1!W45-Sheet1!K45","v":-0.2459999999999951}]
[{"$f":"'[1]FR - Smoothed DUTL Left'!A46","v":630},{"$f":"Sheet1!N46-Sheet1!B46","v":-0.6528000000000134},{"$f":"Sheet1!O46-Sheet1!C46","v":-0.6237999999999886},{"$f":"Sheet1!P46-Sheet1!D46","v":-0.09179999999999211},{"$f":"Sheet1!Q46-Sheet1!E46","v":-0.019300000000001205},{"$f":"Sheet1!R46-Sheet1!F46","v":-0.17759999999996978},{"$f":"Sheet1!S46-Sheet1!G46","v":-0.10470000000000823},{"$f":"Sheet1!T46-Sheet1!H46","v":-0.6919999999999789},{"$f":"Sheet1!U46-Sheet1!I46","v":-0.2762000000000171},{"$f":"Sheet1!V46-Sheet1!J46","v":-0.7126999999999981},{"$f":"Sheet1!W46-Sheet1!K46","v":-0.37539999999999907}]
[{"$f":"'[1]FR - Smoothed DUTL Left'!A47","v":670},{"$f":"Sheet1!N47-Sheet1!B47","v":-0.608300000000014},{"$f":"Sheet1!O47-Sheet1!C47","v":-0.5906000000000233},{"$f":"Sheet1!P47-Sheet1!D47","v":-0.09029999999999916},{"$f":"Sheet1!Q47-Sheet1!E47","v":-0.014500000000012392},{"$f":"Sheet1!R47-Sheet1!F47","v":-0.17449999999999477},{"$f":"Sheet1!S47-Sheet1!G47","v":-0.10029999999999006},{"$f":"Sheet1!T47-Sheet1!H47","v":-0.8012000000000086},{"$f":"Sheet1!U47-Sheet1!I47","v":-0.45889999999998565},{"$f":"Sheet1!V47-Sheet1!J47","v":-0.7655999999999921},{"$f":"Sheet1!W47-Sheet1!K47","v":-0.5184999999999889}]
[{"$f":"'[1]FR - Smoothed DUTL Left'!A48","v":710},{"$f":"Sheet1!N48-Sheet1!B48","v":-0.5664000000000016},{"$f":"Sheet1!O48-Sheet1!C48","v":-0.5780999999999921},{"$f":"Sheet1!P48-Sheet1!D48","v":-0.08809999999998297},{"$f":"Sheet1!Q48-Sheet1!E48","v":-0.013400000000004297},{"$f":"Sheet1!R48-Sheet1!F48","v":-0.17039999999997235},{"$f":"Sheet1!S48-Sheet1!G48","v":-0.0987999999999829},{"$f":"Sheet1!T48-Sheet1!H48","v":-0.6908999999999708},{"$f":"Sheet1!U48-Sheet1!I48","v":-0.44780000000000086},{"$f":"Sheet1!V48-Sheet1!J48","v":-0.6506000000000114},{"$f":"Sheet1!W48-Sheet1!K48","v":-0.4508000000000294}]
[{"$f":"'[1]FR - Smoothed DUTL Left'!A49","v":750},{"$f":"Sheet1!N49-Sheet1!B49","v":-0.5493000000000023},{"$f":"Sheet1!O49-Sheet1!C49","v":-0.5811000000000064},{"$f":"Sheet1!P49-Sheet1!D49","v":-0.08129999999999882},{"$f":"Sheet1!Q49-Sheet1!E49","v":-0.015500000000017167},{"$f":"Sheet1!R49-Sheet1!F49","v":-0.1641999999999939},{"$f":"Sheet1!S49-Sheet1!G49","v":-0.10089999999999577},{"$f":"Sheet1!T49-Sheet1!H49","v":-0.4697000000000031},{"$f":"Sheet1!U49-Sheet1!I49","v":-0.357600000000005},{"$f":"Sheet1!V49-Sheet1!J49","v":-0.5526999999999873},{"$f":"Sheet1!W49-Sheet1!K49","v":-0.36600000000001387}]
[{"$f":"'[1]FR - Smoothed DUTL Left'!A50","v":800},{"$f":"Sheet1!N50-Sheet1!B50","v":-0.5658999999999992},{"$f":"Sheet1!O50-Sheet1!C50","v":-0.593199999999996},{"$f":"Sheet1!P50-Sheet1!D50","v":-0.06850000000000023},{"$f":"Sheet1!Q50-Sheet1!E50","v":-0.015999999999991132},{"$f":"Sheet1!R50-Sheet1!F50","v":-0.15399999999999636},{"$f":"Sheet1!S50-Sheet1!G50","v":-0.10099999999998488},{"$f":"Sheet1!T50-Sheet1!H50","v":-0.3048999999999893},{"$f":"Sheet1!U50-Sheet1!I50","v":-0.3247999999999962},{"$f":"Sheet1!V50-Sheet1!J50","v":-0.5951000000000022},{"$f":"Sheet1!W50-Sheet1!K50","v":-0.43089999999999407}]
[{"$f":"'[1]FR - Smoothed DUTL Left'!A51","v":850},{"$f":"Sheet1!N51-Sheet1!B51","v":-0.6108999999999725},{"$f":"Sheet1!O51-Sheet1!C51","v":-0.6184999999999974},{"$f":"Sheet1!P51-Sheet1!D51","v":-0.052400000000005775},{"$f":"Sheet1!Q51-Sheet1!E51","v":-0.009600000000006048},{"$f":"Sheet1!R51-Sheet1!F51","v":-0.13979999999999393},{"$f":"Sheet1!S51-Sheet1!G51","v":-0.09039999999998827},{"$f":"Sheet1!T51-Sheet1!H51","v":-0.35149999999998727},{"$f":"Sheet1!U51-Sheet1!I51","v":-0.3860000000000099},{"$f":"Sheet1!V51-Sheet1!J51","v":-0.7562999999999818},{"$f":"Sheet1!W51-Sheet1!K51","v":-0.6165000000000163}]
[{"$f":"'[1]FR - Smoothed DUTL Left'!A52","v":900},{"$f":"Sheet1!N52-Sheet1!B52","v":-0.6443999999999903},{"$f":"Sheet1!O52-Sheet1!C52","v":-0.648200000000017},{"$f":"Sheet1!P52-Sheet1!D52","v":-0.0385999999999882},{"$f":"Sheet1!Q52-Sheet1!E52","v":0.01120000000000232},{"$f":"Sheet1!R52-Sheet1!F52","v":-0.1296999999999855},{"$f":"Sheet1!S52-Sheet1!G52","v":-0.06239999999998247},{"$f":"Sheet1!T52-Sheet1!H52","v":-0.5253000000000156},{"$f":"Sheet1!U52-Sheet1!I52","v":-0.5005999999999915},{"$f":"Sheet1!V52-Sheet1!J52","v":-0.8601999999999919},{"$f":"Sheet1!W52-Sheet1!K52","v":-0.7534000000000134}]
[{"$f":"'[1]FR - Smoothed DUTL Left'!A53","v":950},{"$f":"Sheet1!N53-Sheet1!B53","v":-0.6544999999999987},{"$f":"Sheet1!O53-Sheet1!C53","v":-0.6840999999999724},{"$f":"Sheet1!P53-Sheet1!D53","v":-0.045000000000001705},{"$f":"Sheet1!Q53-Sheet1!E53","v":0.043200000000013006},{"$f":"Sheet1!R53-Sheet1!F53","v":-0.1507999999999896},{"$f":"Sheet1!S53-Sheet1!G53","v":-0.030500000000003524},{"$f":"Sheet1!T53-Sheet1!H53","v":-0.625},{"$f":"Sheet1!U53-Sheet1!I53","v":-0.6013999999999982},{"$f":"Sheet1!V53-Sheet1!J53","v":-0.8660999999999888},{"$f":"Sheet1!W53-Sheet1!K53","v":-0.7917000000000058}]
[{"$f":"'[1]FR - Smoothed DUTL Left'!A54","v":1000},{"$f":"Sheet1!N54-Sheet1!B54","v":-0.6596000000000117},{"$f":"Sheet1!O54-Sheet1!C54","v":-0.7011999999999858},{"$f":"Sheet1!P54-Sheet1!D54","v":-0.11199999999999477},{"$f":"Sheet1!Q54-Sheet1!E54","v":0.05729999999999791},{"$f":"Sheet1!R54-Sheet1!F54","v":-0.2161000000000115},{"$f":"Sheet1!S54-Sheet1!G54","v":-0.026700000000005275},{"$f":"Sheet1!T54-Sheet1!H54","v":-0.6519999999999868},{"$f":"Sheet1!U54-Sheet1!I54","v":-0.6606000000000023},{"$f":"Sheet1!V54-Sheet1!J54","v":-0.8460000000000036},{"$f":"Sheet1!W54-Sheet1!K54","v":-0.797300000000007}]
[{"$f":"'[1]FR - Smoothed DUTL Left'!A55","v":1060},{"$f":"Sheet1!N55-Sheet1!B55","v":-0.6640999999999906},{"$f":"Sheet1!O55-Sheet1!C55","v":-0.694199999999995},{"$f":"Sheet1!P55-Sheet1!D55","v":-0.1769999999999925},{"$f":"Sheet1!Q55-Sheet1!E55","v":-0.02400000000000091},{"$f":"Sheet1!R55-Sheet1!F55","v":-0.2837000000000103},{"$f":"Sheet1!S55-Sheet1!G55","v":-0.11240000000000805},{"$f":"Sheet1!T55-Sheet1!H55","v":-0.6504999999999797},{"$f":"Sheet1!U55-Sheet1!I55","v":-0.6707000000000107},{"$f":"Sheet1!V55-Sheet1!J55","v":-0.8105000000000047},{"$f":"Sheet1!W55-Sheet1!K55","v":-0.7814999999999941}]
[{"$f":"'[1]FR - Smoothed DUTL Left'!A56","v":1120},{"$f":"Sheet1!N56-Sheet1!B56","v":-0.670100000000005},{"$f":"Sheet1!O56-Sheet1!C56","v":-0.7036999999999978},{"$f":"Sheet1!P56-Sheet1!D56","v":-0.18949999999999534},{"$f":"Sheet1!Q56-Sheet1!E56","v":-0.13489999999998759},{"$f":"Sheet1!R56-Sheet1!F56","v":-0.30690000000001305},{"$f":"Sheet1!S56-Sheet1!G56","v":-0.2312999999999903},{"$f":"Sheet1!T56-Sheet1!H56","v":-0.6458000000000084},{"$f":"Sheet1!U56-Sheet1!I56","v":-0.6584000000000003},{"$f":"Sheet1!V56-Sheet1!J56","v":-0.7690000000000197},{"$f":"Sheet1!W56-Sheet1!K56","v":-0.7749999999999915}]
[{"$f":"'[1]FR - Smoothed DUTL Left'!A57","v":1180},{"$f":"Sheet1!N57-Sheet1!B57","v":-0.7133000000000038},{"$f":"Sheet1!O57-Sheet1!C57","v":-0.7186999999999841},{"$f":"Sheet1!P57-Sheet1!D57","v":-0.18020000000001346},{"$f":"Sheet1!Q57-Sheet1!E57","v":-0.14560000000000173},{"$f":"Sheet1!R57-Sheet1!F57","v":-0.29359999999998365},{"$f":"Sheet1!S57-Sheet1!G57","v":-0.23610000000000753},{"$f":"Sheet1!T57-Sheet1!H57","v":-0.6870999999999867},{"$f":"Sheet1!U57-Sheet1!I57","v":-0.733799999999988},{"$f":"Sheet1!V57-Sheet1!J57","v":-0.7685999999999922},{"$f":"Sheet1!W57-Sheet1!K57","v":-0.8162000000000234}]
[{"$f":"'[1]FR - Smoothed DUTL Left'!A58","v":1250},{"$f":"Sheet1!N58-Sheet1!B58","v":-0.7436000000000007},{"$f":"Sheet1!O58-Sheet1!C58","v":-0.7651000000000039},{"$f":"Sheet1!P58-Sheet1!D58","v":-0.1624000000000052},{"$f":"Sheet1!Q58-Sheet1!E58","v":-0.11399999999999011},{"$f":"Sheet1!R58-Sheet1!F58","v":-0.26550000000000296},{"$f":"Sheet1!S58-Sheet1!G58","v":-0.20589999999998554},{"$f":"Sheet1!T58-Sheet1!H58","v":-0.7611000000000274},{"$f":"Sheet1!U58-Sheet1!I58","v":-0.9475000000000051},{"$f":"Sheet1!V58-Sheet1!J58","v":-0.8045999999999935},{"$f":"Sheet1!W58-Sheet1!K58","v":-0.8649999999999949}]
[{"$f":"'[1]FR - Smoothed DUTL Left'!A59","v":1320},{"$f":"Sheet1!N59-Sheet1!B59","v":-0.8013999999999868},{"$f":"Sheet1!O59-Sheet1!C59","v":-0.8297999999999774},{"$f":"Sheet1!P59-Sheet1!D59","v":-0.13699999999998624},{"$f":"Sheet1!Q59-Sheet1!E59","v":-0.07200000000001694},{"$f":"Sheet1!R59-Sheet1!F59","v":-0.231899999999996},{"$f":"Sheet1!S59-Sheet1!G59","v":-0.17850000000001387},{"$f":"Sheet1!T59-Sheet1!H59","v":-0.670400000000015},{"$f":"Sheet1!U59-Sheet1!I59","v":-1.133599999999987},{"$f":"Sheet1!V59-Sheet1!J59","v":-0.6881999999999948},{"$f":"Sheet1!W59-Sheet1!K59","v":-0.8107000000000113}]
[{"$f":"'[1]FR - Smoothed DUTL Left'!A60","v":1400},{"$f":"Sheet1!N60-Sheet1!B60","v":-0.8995999999999924},{"$f":"Sheet1!O60-Sheet1!C60","v":-0.814700000000002},{"$f":"Sheet1!P60-Sheet1!D60","v":-0.10830000000001405},{"$f":"Sheet1!Q60-Sheet1!E60","v":-0.02719999999999345},{"$f":"Sheet1!R60-Sheet1!F60","v":-0.2004000000000019},{"$f":"Sheet1!S60-Sheet1!G60","v":-0.15490000000001203},{"$f":"Sheet1!T60-Sheet1!H60","v":-0.07330000000000325},{"$f":"Sheet1!U60-Sheet1!I60","v":-1.0140000000000242},{"$f":"Sheet1!V60-Sheet1!J60","v":-0.30760000000000787},{"$f":"Sheet1!W60-Sheet1!K60","v":-0.5112999999999914}]
[{"$f":"'[1]FR - Smoothed DUTL Left'!A61","v":1500},{"$f":"Sheet1!N61-Sheet1!B61","v":-0.9513000000000034},{"$f":"Sheet1!O61-Sheet1!C61","v":-0.718599999999995},{"$f":"Sheet1!P61-Sheet1!D61","v":-0.08440000000001646},{"$f":"Sheet1!Q61-Sheet1!E61","v":0.009999999999990905},{"$f":"Sheet1!R61-Sheet1!F61","v":-0.19010000000000105},{"$f":"Sheet1!S61-Sheet1!G61","v":-0.13589999999999236},{"$f":"Sheet1!T61-Sheet1!H61","v":0.5108999999999924},{"$f":"Sheet1!U61-Sheet1!I61","v":-0.38999999999998636},{"$f":"Sheet1!V61-Sheet1!J61","v":-0.10470000000000823},{"$f":"Sheet1!W61-Sheet1!K61","v":-0.31579999999998165}]
[{"$f":"'[1]FR - Smoothed DUTL Left'!A62","v":1600},{"$f":"Sheet1!N62-Sheet1!B62","v":-1.0242000000000075},{"$f":"Sheet1!O62-Sheet1!C62","v":-0.5846000000000231},{"$f":"Sheet1!P62-Sheet1!D62","v":-0.07800000000000296},{"$f":"Sheet1!Q62-Sheet1!E62","v":0.015799999999998704},{"$f":"Sheet1!R62-Sheet1!F62","v":-0.20140000000000668},{"$f":"Sheet1!S62-Sheet1!G62","v":-0.13229999999998654},{"$f":"Sheet1!T62-Sheet1!H62","v":0.21580000000000155},{"$f":"Sheet1!U62-Sheet1!I62","v":-0.27350000000001273},{"$f":"Sheet1!V62-Sheet1!J62","v":-0.16339999999999577},{"$f":"Sheet1!W62-Sheet1!K62","v":-0.46469999999999345}]
[{"$f":"'[1]FR - Smoothed DUTL Left'!A63","v":1700},{"$f":"Sheet1!N63-Sheet1!B63","v":-1.0626000000000175},{"$f":"Sheet1!O63-Sheet1!C63","v":-0.3739000000000061},{"$f":"Sheet1!P63-Sheet1!D63","v":-0.0724000000000018},{"$f":"Sheet1!Q63-Sheet1!E63","v":1.0000000000047748E-3},{"$f":"Sheet1!R63-Sheet1!F63","v":-0.19469999999999743},{"$f":"Sheet1!S63-Sheet1!G63","v":-0.13220000000001164},{"$f":"Sheet1!T63-Sheet1!H63","v":-0.393100000000004},{"$f":"Sheet1!U63-Sheet1!I63","v":-0.9412999999999982},{"$f":"Sheet1!V63-Sheet1!J63","v":-0.1595000000000084},{"$f":"Sheet1!W63-Sheet1!K63","v":-0.4145000000000181}]
[{"$f":"'[1]FR - Smoothed DUTL Left'!A64","v":1800},{"$f":"Sheet1!N64-Sheet1!B64","v":-0.9658000000000158},{"$f":"Sheet1!O64-Sheet1!C64","v":-0.07719999999999061},{"$f":"Sheet1!P64-Sheet1!D64","v":-0.050299999999992906},{"$f":"Sheet1!Q64-Sheet1!E64","v":-8.0000000001234639E-4},{"$f":"Sheet1!R64-Sheet1!F64","v":-0.16389999999998395},{"$f":"Sheet1!S64-Sheet1!G64","v":-0.11510000000001241},{"$f":"Sheet1!T64-Sheet1!H64","v":-0.832099999999997},{"$f":"Sheet1!U64-Sheet1!I64","v":-1.1875000000000142},{"$f":"Sheet1!V64-Sheet1!J64","v":0.08589999999995257},{"$f":"Sheet1!W64-Sheet1!K64","v":-0.05719999999999459}]
[{"$f":"'[1]FR - Smoothed DUTL Left'!A65","v":1900},{"$f":"Sheet1!N65-Sheet1!B65","v":-0.8684999999999832},{"$f":"Sheet1!O65-Sheet1!C65","v":0.15359999999998308},{"$f":"Sheet1!P65-Sheet1!D65","v":-0.024799999999999045},{"$f":"Sheet1!Q65-Sheet1!E65","v":0.013799999999989154},{"$f":"Sheet1!R65-Sheet1!F65","v":-0.12950000000000728},{"$f":"Sheet1!S65-Sheet1!G65","v":-0.08109999999999218},{"$f":"Sheet1!T65-Sheet1!H65","v":-1.0795999999999992},{"$f":"Sheet1!U65-Sheet1!I65","v":-1.139700000000019},{"$f":"Sheet1!V65-Sheet1!J65","v":0.2533999999999992},{"$f":"Sheet1!W65-Sheet1!K65","v":0.21420000000000528}]
[{"$f":"'[1]FR - Smoothed DUTL Left'!A66","v":2000},{"$f":"Sheet1!N66-Sheet1!B66","v":-0.8241000000000156},{"$f":"Sheet1!O66-Sheet1!C66","v":0.24689999999999657},{"$f":"Sheet1!P66-Sheet1!D66","v":-0.018100000000018213},{"$f":"Sheet1!Q66-Sheet1!E66","v":0.03609999999999047},{"$f":"Sheet1!R66-Sheet1!F66","v":-0.12130000000000507},{"$f":"Sheet1!S66-Sheet1!G66","v":-0.04539999999998656},{"$f":"Sheet1!T66-Sheet1!H66","v":-1.2397000000000133},{"$f":"Sheet1!U66-Sheet1!I66","v":-1.0300999999999902},{"$f":"Sheet1!V66-Sheet1!J66","v":0.18989999999996598},{"$f":"Sheet1!W66-Sheet1!K66","v":0.263300000000001}]
[{"$f":"'[1]FR - Smoothed DUTL Left'!A67","v":2120},{"$f":"Sheet1!N67-Sheet1!B67","v":-0.8355999999999995},{"$f":"Sheet1!O67-Sheet1!C67","v":0.2796999999999912},{"$f":"Sheet1!P67-Sheet1!D67","v":-0.039500000000003865},{"$f":"Sheet1!Q67-Sheet1!E67","v":0.052399999999991564},{"$f":"Sheet1!R67-Sheet1!F67","v":-0.1577000000000055},{"$f":"Sheet1!S67-Sheet1!G67","v":-0.041400000000010095},{"$f":"Sheet1!T67-Sheet1!H67","v":-1.3253000000000128},{"$f":"Sheet1!U67-Sheet1!I67","v":-0.883499999999998},{"$f":"Sheet1!V67-Sheet1!J67","v":0.06110000000002458},{"$f":"Sheet1!W67-Sheet1!K67","v":0.1705000000000041}]
[{"$f":"'[1]FR - Smoothed DUTL Left'!A68","v":2240},{"$f":"Sheet1!N68-Sheet1!B68","v":-0.9250000000000114},{"$f":"Sheet1!O68-Sheet1!C68","v":0.3644000000000034},{"$f":"Sheet1!P68-Sheet1!D68","v":-0.07550000000000523},{"$f":"Sheet1!Q68-Sheet1!E68","v":0.050800000000009504},{"$f":"Sheet1!R68-Sheet1!F68","v":-0.21450000000000102},{"$f":"Sheet1!S68-Sheet1!G68","v":-0.07720000000000482},{"$f":"Sheet1!T68-Sheet1!H68","v":-1.2062999999999988},{"$f":"Sheet1!U68-Sheet1!I68","v":-0.6749999999999972},{"$f":"Sheet1!V68-Sheet1!J68","v":-1.5999999999820602E-3},{"$f":"Sheet1!W68-Sheet1!K68","v":-3.0999999999892225E-3}]
[{"$f":"'[1]FR - Smoothed DUTL Left'!A69","v":2360},{"$f":"Sheet1!N69-Sheet1!B69","v":-1.171199999999999},{"$f":"Sheet1!O69-Sheet1!C69","v":0.4306999999999874},{"$f":"Sheet1!P69-Sheet1!D69","v":-0.10580000000001633},{"$f":"Sheet1!Q69-Sheet1!E69","v":0.03279999999999461},{"$f":"Sheet1!R69-Sheet1!F69","v":-0.24750000000000227},{"$f":"Sheet1!S69-Sheet1!G69","v":-0.11930000000000973},{"$f":"Sheet1!T69-Sheet1!H69","v":-0.7775000000000176},{"$f":"Sheet1!U69-Sheet1!I69","v":-0.5150000000000148},{"$f":"Sheet1!V69-Sheet1!J69","v":0.07799999999998875},{"$f":"Sheet1!W69-Sheet1!K69","v":-0.03359999999999275}]
[{"$f":"'[1]FR - Smoothed DUTL Left'!A70","v":2500},{"$f":"Sheet1!N70-Sheet1!B70","v":-1.43810000000002},{"$f":"Sheet1!O70-Sheet1!C70","v":0.3739000000000203},{"$f":"Sheet1!P70-Sheet1!D70","v":-0.1361000000000132},{"$f":"Sheet1!Q70-Sheet1!E70","v":0.006500000000002615},{"$f":"Sheet1!R70-Sheet1!F70","v":-0.24679999999996483},{"$f":"Sheet1!S70-Sheet1!G70","v":-0.1343999999999994},{"$f":"Sheet1!T70-Sheet1!H70","v":-0.18060000000001253},{"$f":"Sheet1!U70-Sheet1!I70","v":-0.6551999999999936},{"$f":"Sheet1!V70-Sheet1!J70","v":0.13150000000000261},{"$f":"Sheet1!W70-Sheet1!K70","v":0.2916000000000025}]
[{"$f":"'[1]FR - Smoothed DUTL Left'!A71","v":2650},{"$f":"Sheet1!N71-Sheet1!B71","v":-0.02909999999999968},{"$f":"Sheet1!O71-Sheet1!C71","v":0.2951999999999799},{"$f":"Sheet1!P71-Sheet1!D71","v":-0.17479999999999052},{"$f":"Sheet1!Q71-Sheet1!E71","v":-0.005299999999991201},{"$f":"Sheet1!R71-Sheet1!F71","v":-0.2254999999999825},{"$f":"Sheet1!S71-Sheet1!G71","v":-0.10909999999999798},{"$f":"Sheet1!T71-Sheet1!H71","v":0.04100000000001103},{"$f":"Sheet1!U71-Sheet1!I71","v":-0.8158999999999992},{"$f":"Sheet1!V71-Sheet1!J71","v":0.028999999999996362},{"$f":"Sheet1!W71-Sheet1!K71","v":0.45690000000001874}]
[{"$f":"'[1]FR - Smoothed DUTL Left'!A72","v":2800},{"$f":"Sheet1!N72-Sheet1!B72","v":0.5382000000000033},{"$f":"Sheet1!O72-Sheet1!C72","v":0.14339999999999975},{"$f":"Sheet1!P72-Sheet1!D72","v":-0.1710999999999956},{"$f":"Sheet1!Q72-Sheet1!E72","v":0.004499999999993065},{"$f":"Sheet1!R72-Sheet1!F72","v":-0.19830000000000325},{"$f":"Sheet1!S72-Sheet1!G72","v":-0.06099999999997863},{"$f":"Sheet1!T72-Sheet1!H72","v":-0.4490999999999872},{"$f":"Sheet1!U72-Sheet1!I72","v":-0.6954999999999814},{"$f":"Sheet1!V72-Sheet1!J72","v":0.057999999999992724},{"$f":"Sheet1!W72-Sheet1!K72","v":0.3083000000000169}]
[{"$f":"'[1]FR - Smoothed DUTL Left'!A73","v":3000},{"$f":"Sheet1!N73-Sheet1!B73","v":0.5438000000000045},{"$f":"Sheet1!O73-Sheet1!C73","v":-0.04220000000000823},{"$f":"Sheet1!P73-Sheet1!D73","v":-0.13630000000000564},{"$f":"Sheet1!Q73-Sheet1!E73","v":5.0000000001659828E-4},{"$f":"Sheet1!R73-Sheet1!F73","v":-0.17760000000001241},{"$f":"Sheet1!S73-Sheet1!G73","v":-0.05559999999998411},{"$f":"Sheet1!T73-Sheet1!H73","v":-0.8055000000000092},{"$f":"Sheet1!U73-Sheet1!I73","v":-0.36950000000000216},{"$f":"Sheet1!V73-Sheet1!J73","v":-0.11240000000000805},{"$f":"Sheet1!W73-Sheet1!K73","v":-0.040300000000002}]
[{"$f":"'[1]FR - Smoothed DUTL Left'!A74","v":3150},{"$f":"Sheet1!N74-Sheet1!B74","v":0.48399999999999466},{"$f":"Sheet1!O74-Sheet1!C74","v":-0.22680000000001144},{"$f":"Sheet1!P74-Sheet1!D74","v":-0.11469999999999914},{"$f":"Sheet1!Q74-Sheet1!E74","v":-0.019800000000003593},{"$f":"Sheet1!R74-Sheet1!F74","v":-0.17329999999999757},{"$f":"Sheet1!S74-Sheet1!G74","v":-0.13350000000001216},{"$f":"Sheet1!T74-Sheet1!H74","v":-0.48149999999999693},{"$f":"Sheet1!U74-Sheet1!I74","v":-0.01190000000000424},{"$f":"Sheet1!V74-Sheet1!J74","v":-0.3503999999999792},{"$f":"Sheet1!W74-Sheet1!K74","v":-0.5489999999999782}]
[{"$f":"'[1]FR - Smoothed DUTL Left'!A75","v":3350},{"$f":"Sheet1!N75-Sheet1!B75","v":0.38100000000001444},{"$f":"Sheet1!O75-Sheet1!C75","v":-0.4269999999999925},{"$f":"Sheet1!P75-Sheet1!D75","v":-0.11169999999999902},{"$f":"Sheet1!Q75-Sheet1!E75","v":-0.059899999999998954},{"$f":"Sheet1!R75-Sheet1!F75","v":-0.17749999999998067},{"$f":"Sheet1!S75-Sheet1!G75","v":-0.19400000000001683},{"$f":"Sheet1!T75-Sheet1!H75","v":0.34250000000000824},{"$f":"Sheet1!U75-Sheet1!I75","v":0.0660999999999845},{"$f":"Sheet1!V75-Sheet1!J75","v":-0.5364999999999895},{"$f":"Sheet1!W75-Sheet1!K75","v":-0.7202999999999946}]
[{"$f":"'[1]FR - Smoothed DUTL Left'!A76","v":3550},{"$f":"Sheet1!N76-Sheet1!B76","v":0.41509999999999536},{"$f":"Sheet1!O76-Sheet1!C76","v":-0.6193000000000097},{"$f":"Sheet1!P76-Sheet1!D76","v":-0.10080000000000666},{"$f":"Sheet1!Q76-Sheet1!E76","v":-0.07429999999999382},{"$f":"Sheet1!R76-Sheet1!F76","v":-0.177599999999984},{"$f":"Sheet1!S76-Sheet1!G76","v":-0.20289999999999964},{"$f":"Sheet1!T76-Sheet1!H76","v":0.6974000000000018},{"$f":"Sheet1!U76-Sheet1!I76","v":-0.16489999999998872},{"$f":"Sheet1!V76-Sheet1!J76","v":-0.7225999999999999},{"$f":"Sheet1!W76-Sheet1!K76","v":-0.37829999999998165}]
[{"$f":"'[1]FR - Smoothed DUTL Left'!A77","v":3750},{"$f":"Sheet1!N77-Sheet1!B77","v":0.3842999999999961},{"$f":"Sheet1!O77-Sheet1!C77","v":-0.7132000000000005},{"$f":"Sheet1!P77-Sheet1!D77","v":-0.07149999999998613},{"$f":"Sheet1!Q77-Sheet1!E77","v":-0.041099999999985926},{"$f":"Sheet1!R77-Sheet1!F77","v":-0.17310000000001935},{"$f":"Sheet1!S77-Sheet1!G77","v":-0.1782000000000039},{"$f":"Sheet1!T77-Sheet1!H77","v":0.5126999999999953},{"$f":"Sheet1!U77-Sheet1!I77","v":-0.30800000000000693},{"$f":"Sheet1!V77-Sheet1!J77","v":-1.0522000000000276},{"$f":"Sheet1!W77-Sheet1!K77","v":-0.1519999999999868}]
[{"$f":"'[1]FR - Smoothed DUTL Left'!A78","v":4000},{"$f":"Sheet1!N78-Sheet1!B78","v":0.2490999999999559},{"$f":"Sheet1!O78-Sheet1!C78","v":-0.6719999999999828},{"$f":"Sheet1!P78-Sheet1!D78","v":-0.025000000000005684},{"$f":"Sheet1!Q78-Sheet1!E78","v":0.024600000000020827},{"$f":"Sheet1!R78-Sheet1!F78","v":-0.18060000000001253},{"$f":"Sheet1!S78-Sheet1!G78","v":-0.13060000000000116},{"$f":"Sheet1!T78-Sheet1!H78","v":0.19830000000000325},{"$f":"Sheet1!U78-Sheet1!I78","v":-0.2710999999999899},{"$f":"Sheet1!V78-Sheet1!J78","v":-1.0169000000000068},{"$f":"Sheet1!W78-Sheet1!K78","v":-0.20289999999999964}]
[{"$f":"'[1]FR - Smoothed DUTL Left'!A79","v":4250},{"$f":"Sheet1!N79-Sheet1!B79","v":0.08210000000002537},{"$f":"Sheet1!O79-Sheet1!C79","v":-0.6414999999999935},{"$f":"Sheet1!P79-Sheet1!D79","v":-0.005900000000011119},{"$f":"Sheet1!Q79-Sheet1!E79","v":0.0992999999999995},{"$f":"Sheet1!R79-Sheet1!F79","v":-0.2131999999999863},{"$f":"Sheet1!S79-Sheet1!G79","v":-0.08549999999998192},{"$f":"Sheet1!T79-Sheet1!H79","v":-0.15729999999999222},{"$f":"Sheet1!U79-Sheet1!I79","v":-0.14809999999998524},{"$f":"Sheet1!V79-Sheet1!J79","v":-0.777000000000001},{"$f":"Sheet1!W79-Sheet1!K79","v":-0.3503999999999792}]
[{"$f":"'[1]FR - Smoothed DUTL Left'!A80","v":4500},{"$f":"Sheet1!N80-Sheet1!B80","v":0.007999999999995566},{"$f":"Sheet1!O80-Sheet1!C80","v":-0.6415000000000077},{"$f":"Sheet1!P80-Sheet1!D80","v":-0.046399999999977126},{"$f":"Sheet1!Q80-Sheet1!E80","v":0.1377000000000379},{"$f":"Sheet1!R80-Sheet1!F80","v":-0.28360000000000696},{"$f":"Sheet1!S80-Sheet1!G80","v":-0.04770000000002028},{"$f":"Sheet1!T80-Sheet1!H80","v":-0.2815999999999974},{"$f":"Sheet1!U80-Sheet1!I80","v":-0.014799999999993929},{"$f":"Sheet1!V80-Sheet1!J80","v":-0.6316000000000059},{"$f":"Sheet1!W80-Sheet1!K80","v":-0.4999999999999716}]
[{"$f":"'[1]FR - Smoothed DUTL Left'!A81","v":4750},{"$f":"Sheet1!N81-Sheet1!B81","v":-0.01310000000000855},{"$f":"Sheet1!O81-Sheet1!C81","v":-0.5794999999999959},{"$f":"Sheet1!P81-Sheet1!D81","v":-0.12339999999997531},{"$f":"Sheet1!Q81-Sheet1!E81","v":0.10379999999999256},{"$f":"Sheet1!R81-Sheet1!F81","v":-0.3148999999999944},{"$f":"Sheet1!S81-Sheet1!G81","v":-0.08869999999998868},{"$f":"Sheet1!T81-Sheet1!H81","v":-0.07149999999998613},{"$f":"Sheet1!U81-Sheet1!I81","v":0.15620000000001255},{"$f":"Sheet1!V81-Sheet1!J81","v":-0.4680000000000035},{"$f":"Sheet1!W81-Sheet1!K81","v":-0.6925999999999846}]
[{"$f":"'[1]FR - Smoothed DUTL Left'!A82","v":5000},{"$f":"Sheet1!N82-Sheet1!B82","v":3.4999999999740794E-3},{"$f":"Sheet1!O82-Sheet1!C82","v":-0.5365999999999929},{"$f":"Sheet1!P82-Sheet1!D82","v":-0.1728000000000094},{"$f":"Sheet1!Q82-Sheet1!E82","v":-0.02549999999999386},{"$f":"Sheet1!R82-Sheet1!F82","v":-0.3037999999999812},{"$f":"Sheet1!S82-Sheet1!G82","v":-0.15380000000000393},{"$f":"Sheet1!T82-Sheet1!H82","v":0.23970000000001335},{"$f":"Sheet1!U82-Sheet1!I82","v":0.27080000000000837},{"$f":"Sheet1!V82-Sheet1!J82","v":-0.22769999999998447},{"$f":"Sheet1!W82-Sheet1!K82","v":-0.8756999999999948}]
[{"$f":"'[1]FR - Smoothed DUTL Left'!A83","v":5300},{"$f":"Sheet1!N83-Sheet1!B83","v":0.09709999999999752},{"$f":"Sheet1!O83-Sheet1!C83","v":-0.568799999999996},{"$f":"Sheet1!P83-Sheet1!D83","v":-0.1693000000000069},{"$f":"Sheet1!Q83-Sheet1!E83","v":-0.1238999999999919},{"$f":"Sheet1!R83-Sheet1!F83","v":-0.2931999999999846},{"$f":"Sheet1!S83-Sheet1!G83","v":-0.14679999999999893},{"$f":"Sheet1!T83-Sheet1!H83","v":0.3902000000000072},{"$f":"Sheet1!U83-Sheet1!I83","v":0.24910000000001276},{"$f":"Sheet1!V83-Sheet1!J83","v":0.035600000000002296},{"$f":"Sheet1!W83-Sheet1!K83","v":-0.9211999999999989}]
[{"$f":"'[1]FR - Smoothed DUTL Left'!A84","v":5600},{"$f":"Sheet1!N84-Sheet1!B84","v":0.2271999999999963},{"$f":"Sheet1!O84-Sheet1!C84","v":-0.5816999999999979},{"$f":"Sheet1!P84-Sheet1!D84","v":-0.1489000000000118},{"$f":"Sheet1!Q84-Sheet1!E84","v":-0.12870000000000914},{"$f":"Sheet1!R84-Sheet1!F84","v":-0.28599999999998715},{"$f":"Sheet1!S84-Sheet1!G84","v":-0.1466000000000065},{"$f":"Sheet1!T84-Sheet1!H84","v":0.36650000000003047},{"$f":"Sheet1!U84-Sheet1!I84","v":0.16729999999999734},{"$f":"Sheet1!V84-Sheet1!J84","v":0.23519999999999186},{"$f":"Sheet1!W84-Sheet1!K84","v":-0.6222000000000065}]
[{"$f":"'[1]FR - Smoothed DUTL Left'!A85","v":6000},{"$f":"Sheet1!N85-Sheet1!B85","v":0.33969999999999345},{"$f":"Sheet1!O85-Sheet1!C85","v":-0.5744999999999862},{"$f":"Sheet1!P85-Sheet1!D85","v":-0.1776999999999873},{"$f":"Sheet1!Q85-Sheet1!E85","v":-0.10880000000001644},{"$f":"Sheet1!R85-Sheet1!F85","v":-0.3171000000000106},{"$f":"Sheet1!S85-Sheet1!G85","v":-0.17069999999999652},{"$f":"Sheet1!T85-Sheet1!H85","v":0.352099999999993},{"$f":"Sheet1!U85-Sheet1!I85","v":0.12510000000001753},{"$f":"Sheet1!V85-Sheet1!J85","v":0.41850000000000875},{"$f":"Sheet1!W85-Sheet1!K85","v":-0.17959999999999354}]
[{"$f":"'[1]FR - Smoothed DUTL Left'!A86","v":6300},{"$f":"Sheet1!N86-Sheet1!B86","v":0.42449999999998056},{"$f":"Sheet1!O86-Sheet1!C86","v":-0.4778999999999911},{"$f":"Sheet1!P86-Sheet1!D86","v":-0.26019999999999754},{"$f":"Sheet1!Q86-Sheet1!E86","v":-0.0969000000000051},{"$f":"Sheet1!R86-Sheet1!F86","v":-0.34559999999999036},{"$f":"Sheet1!S86-Sheet1!G86","v":-0.22620000000000573},{"$f":"Sheet1!T86-Sheet1!H86","v":0.36709999999999354},{"$f":"Sheet1!U86-Sheet1!I86","v":0.27139999999998565},{"$f":"Sheet1!V86-Sheet1!J86","v":0.6872000000000043},{"$f":"Sheet1!W86-Sheet1!K86","v":-0.11889999999998224}]
[{"$f":"'[1]FR - Smoothed DUTL Left'!A87","v":6700},{"$f":"Sheet1!N87-Sheet1!B87","v":0.5153000000000105},{"$f":"Sheet1!O87-Sheet1!C87","v":-0.29520000000002256},{"$f":"Sheet1!P87-Sheet1!D87","v":-0.2330000000000041},{"$f":"Sheet1!Q87-Sheet1!E87","v":-0.11810000000002674},{"$f":"Sheet1!R87-Sheet1!F87","v":-0.2768999999999977},{"$f":"Sheet1!S87-Sheet1!G87","v":-0.2995999999999839},{"$f":"Sheet1!T87-Sheet1!H87","v":0.03549999999999898},{"$f":"Sheet1!U87-Sheet1!I87","v":0.748299999999972},{"$f":"Sheet1!V87-Sheet1!J87","v":1.1520999999999901},{"$f":"Sheet1!W87-Sheet1!K87","v":-0.08539999999999281}]
[{"$f":"'[1]FR - Smoothed DUTL Left'!A88","v":7100},{"$f":"Sheet1!N88-Sheet1!B88","v":0.5374999999999943},{"$f":"Sheet1!O88-Sheet1!C88","v":-0.11520000000001573},{"$f":"Sheet1!P88-Sheet1!D88","v":-0.15800000000000125},{"$f":"Sheet1!Q88-Sheet1!E88","v":-0.18909999999999627},{"$f":"Sheet1!R88-Sheet1!F88","v":-0.21949999999999648},{"$f":"Sheet1!S88-Sheet1!G88","v":-0.35430000000000916},{"$f":"Sheet1!T88-Sheet1!H88","v":-0.6786999999999921},{"$f":"Sheet1!U88-Sheet1!I88","v":1.087299999999999},{"$f":"Sheet1!V88-Sheet1!J88","v":1.4585000000000008},{"$f":"Sheet1!W88-Sheet1!K88","v":0.18290000000001783}]
[{"$f":"'[1]FR - Smoothed DUTL Left'!A89","v":7500},{"$f":"Sheet1!N89-Sheet1!B89","v":0.5074999999999932},{"$f":"Sheet1!O89-Sheet1!C89","v":-0.011700000000018917},{"$f":"Sheet1!P89-Sheet1!D89","v":-0.1414000000000044},{"$f":"Sheet1!Q89-Sheet1!E89","v":-0.23720000000001562},{"$f":"Sheet1!R89-Sheet1!F89","v":-0.23050000000000637},{"$f":"Sheet1!S89-Sheet1!G89","v":-0.3486000000000047},{"$f":"Sheet1!T89-Sheet1!H89","v":-1.0641999999999996},{"$f":"Sheet1!U89-Sheet1!I89","v":0.8804999999999978},{"$f":"Sheet1!V89-Sheet1!J89","v":1.183400000000006},{"$f":"Sheet1!W89-Sheet1!K89","v":0.30999999999998806}]
[{"$f":"'[1]FR - Smoothed DUTL Left'!A90","v":8000},{"$f":"Sheet1!N90-Sheet1!B90","v":0.49499999999999034},{"$f":"Sheet1!O90-Sheet1!C90","v":-0.055999999999983174},{"$f":"Sheet1!P90-Sheet1!D90","v":-0.22220000000000084},{"$f":"Sheet1!Q90-Sheet1!E90","v":-0.2798000000000229},{"$f":"Sheet1!R90-Sheet1!F90","v":-0.323599999999999},{"$f":"Sheet1!S90-Sheet1!G90","v":-0.30630000000000734},{"$f":"Sheet1!T90-Sheet1!H90","v":-1.0374000000000052},{"$f":"Sheet1!U90-Sheet1!I90","v":0.2926999999999964},{"$f":"Sheet1!V90-Sheet1!J90","v":0.8126999999999782},{"$f":"Sheet1!W90-Sheet1!K90","v":0.018900000000002137}]
[{"$f":"'[1]FR - Smoothed DUTL Left'!A91","v":8500},{"$f":"Sheet1!N91-Sheet1!B91","v":0.48099999999999454},{"$f":"Sheet1!O91-Sheet1!C91","v":-0.13590000000000657},{"$f":"Sheet1!P91-Sheet1!D91","v":-0.2533999999999992},{"$f":"Sheet1!Q91-Sheet1!E91","v":-0.34559999999999036},{"$f":"Sheet1!R91-Sheet1!F91","v":-0.3587000000000131},{"$f":"Sheet1!S91-Sheet1!G91","v":-0.2325000000000017},{"$f":"Sheet1!T91-Sheet1!H91","v":-0.86490000000002},{"$f":"Sheet1!U91-Sheet1!I91","v":-0.25379999999999825},{"$f":"Sheet1!V91-Sheet1!J91","v":0.5687000000000211},{"$f":"Sheet1!W91-Sheet1!K91","v":-0.477099999999993}]
[{"$f":"'[1]FR - Smoothed DUTL Left'!A92","v":9000},{"$f":"Sheet1!N92-Sheet1!B92","v":0.47289999999999566},{"$f":"Sheet1!O92-Sheet1!C92","v":-0.07020000000001403},{"$f":"Sheet1!P92-Sheet1!D92","v":-0.21700000000001296},{"$f":"Sheet1!Q92-Sheet1!E92","v":-0.3083999999999918},{"$f":"Sheet1!R92-Sheet1!F92","v":-0.34919999999998197},{"$f":"Sheet1!S92-Sheet1!G92","v":-0.17610000000001946},{"$f":"Sheet1!T92-Sheet1!H92","v":-0.5537999999999954},{"$f":"Sheet1!U92-Sheet1!I92","v":-0.20579999999999643},{"$f":"Sheet1!V92-Sheet1!J92","v":0.6565999999999974},{"$f":"Sheet1!W92-Sheet1!K92","v":-1.0457000000000107}]
[{"$f":"'[1]FR - Smoothed DUTL Left'!A93","v":9500},{"$f":"Sheet1!N93-Sheet1!B93","v":0.5217000000000098},{"$f":"Sheet1!O93-Sheet1!C93","v":0.021399999999985653},{"$f":"Sheet1!P93-Sheet1!D93","v":-0.25669999999999504},{"$f":"Sheet1!Q93-Sheet1!E93","v":-0.2038999999999902},{"$f":"Sheet1!R93-Sheet1!F93","v":-0.36249999999998295},{"$f":"Sheet1!S93-Sheet1!G93","v":-0.2278000000000162},{"$f":"Sheet1!T93-Sheet1!H93","v":-0.043600000000012074},{"$f":"Sheet1!U93-Sheet1!I93","v":0.2014999999999958},{"$f":"Sheet1!V93-Sheet1!J93","v":0.5988000000000113},{"$f":"Sheet1!W93-Sheet1!K93","v":-1.0305999999999926}]
[{"$f":"'[1]FR - Smoothed DUTL Left'!A94","v":10000},{"$f":"Sheet1!N94-Sheet1!B94","v":0.4614000000000118},{"$f":"Sheet1!O94-Sheet1!C94","v":-0.005200000000002092},{"$f":"Sheet1!P94-Sheet1!D94","v":-0.31219999999997583},{"$f":"Sheet1!Q94-Sheet1!E94","v":-0.15560000000000684},{"$f":"Sheet1!R94-Sheet1!F94","v":-0.3424999999999869},{"$f":"Sheet1!S94-Sheet1!G94","v":-0.31810000000001537},{"$f":"Sheet1!T94-Sheet1!H94","v":0.31380000000001473},{"$f":"Sheet1!U94-Sheet1!I94","v":0.3751000000000033},{"$f":"Sheet1!V94-Sheet1!J94","v":-0.06799999999999784},{"$f":"Sheet1!W94-Sheet1!K94","v":-0.3932000000000073}]
[{"$f":"'[1]FR - Smoothed DUTL Left'!A95","v":10600},{"$f":"Sheet1!N95-Sheet1!B95","v":0.30180000000000007},{"$f":"Sheet1!O95-Sheet1!C95","v":-0.12330000000000041},{"$f":"Sheet1!P95-Sheet1!D95","v":-0.25159999999999627},{"$f":"Sheet1!Q95-Sheet1!E95","v":-0.0671999999999997},{"$f":"Sheet1!R95-Sheet1!F95","v":-0.2763000000000204},{"$f":"Sheet1!S95-Sheet1!G95","v":-0.3353999999999928},{"$f":"Sheet1!T95-Sheet1!H95","v":0.4724000000000075},{"$f":"Sheet1!U95-Sheet1!I95","v":0.5891999999999911},{"$f":"Sheet1!V95-Sheet1!J95","v":-0.9376999999999924},{"$f":"Sheet1!W95-Sheet1!K95","v":0.6966000000000037}]
[{"$f":"'[1]FR - Smoothed DUTL Left'!A96","v":11200},{"$f":"Sheet1!N96-Sheet1!B96","v":0.21699999999998454},{"$f":"Sheet1!O96-Sheet1!C96","v":-0.2569999999999766},{"$f":"Sheet1!P96-Sheet1!D96","v":-0.20990000000000464},{"$f":"Sheet1!Q96-Sheet1!E96","v":0.061700000000016075},{"$f":"Sheet1!R96-Sheet1!F96","v":-0.33500000000002217},{"$f":"Sheet1!S96-Sheet1!G96","v":-0.29189999999999827},{"$f":"Sheet1!T96-Sheet1!H96","v":0.579199999999986},{"$f":"Sheet1!U96-Sheet1!I96","v":0.8096999999999923},{"$f":"Sheet1!V96-Sheet1!J96","v":-1.2538999999999731},{"$f":"Sheet1!W96-Sheet1!K96","v":1.1503000000000156}]
[{"$f":"'[1]FR - Smoothed DUTL Left'!A97","v":11800},{"$f":"Sheet1!N97-Sheet1!B97","v":0.16199999999997772},{"$f":"Sheet1!O97-Sheet1!C97","v":-0.46239999999998815},{"$f":"Sheet1!P97-Sheet1!D97","v":-0.2633999999999901},{"$f":"Sheet1!Q97-Sheet1!E97","v":-0.0234999999999701},{"$f":"Sheet1!R97-Sheet1!F97","v":-0.442799999999977},{"$f":"Sheet1!S97-Sheet1!G97","v":-0.29169999999999163},{"$f":"Sheet1!T97-Sheet1!H97","v":0.35530000000001394},{"$f":"Sheet1!U97-Sheet1!I97","v":0.5417999999999807},{"$f":"Sheet1!V97-Sheet1!J97","v":-0.8188999999999851},{"$f":"Sheet1!W97-Sheet1!K97","v":9.3000000000103E-3}]
[{"$f":"'[1]FR - Smoothed DUTL Left'!A98","v":12500},{"$f":"Sheet1!N98-Sheet1!B98","v":0.20160000000001332},{"$f":"Sheet1!O98-Sheet1!C98","v":-0.556699999999978},{"$f":"Sheet1!P98-Sheet1!D98","v":-0.36810000000001253},{"$f":"Sheet1!Q98-Sheet1!E98","v":-0.2774000000000285},{"$f":"Sheet1!R98-Sheet1!F98","v":-0.4860000000000184},{"$f":"Sheet1!S98-Sheet1!G98","v":-0.34149999999999636},{"$f":"Sheet1!T98-Sheet1!H98","v":0.006899999999987472},{"$f":"Sheet1!U98-Sheet1!I98","v":0.0595000000000141},{"$f":"Sheet1!V98-Sheet1!J98","v":-0.3703000000000145},{"$f":"Sheet1!W98-Sheet1!K98","v":-1.4472999999999985}]
[{"$f":"'[1]FR - Smoothed DUTL Left'!A99","v":13200},{"$f":"Sheet1!N99-Sheet1!B99","v":0.29240000000000066},{"$f":"Sheet1!O99-Sheet1!C99","v":-0.4660999999999831},{"$f":"Sheet1!P99-Sheet1!D99","v":-0.4543000000000035},{"$f":"Sheet1!Q99-Sheet1!E99","v":-0.45019999999998106},{"$f":"Sheet1!R99-Sheet1!F99","v":-0.5459999999999923},{"$f":"Sheet1!S99-Sheet1!G99","v":-0.43080000000000496},{"$f":"Sheet1!T99-Sheet1!H99","v":-0.1658000000000044},{"$f":"Sheet1!U99-Sheet1!I99","v":-0.1483000000000061},{"$f":"Sheet1!V99-Sheet1!J99","v":-0.28340000000001453},{"$f":"Sheet1!W99-Sheet1!K99","v":-2.1199000000000012}]
[{"$f":"'[1]FR - Smoothed DUTL Left'!A100","v":14000},{"$f":"Sheet1!N100-Sheet1!B100","v":0.2966000000000122},{"$f":"Sheet1!O100-Sheet1!C100","v":-0.3960000000000008},{"$f":"Sheet1!P100-Sheet1!D100","v":-0.4801999999999964},{"$f":"Sheet1!Q100-Sheet1!E100","v":-0.5997000000000128},{"$f":"Sheet1!R100-Sheet1!F100","v":-0.7689000000000021},{"$f":"Sheet1!S100-Sheet1!G100","v":-0.4649000000000001},{"$f":"Sheet1!T100-Sheet1!H100","v":-0.14950000000003172},{"$f":"Sheet1!U100-Sheet1!I100","v":-0.28129999999998745},{"$f":"Sheet1!V100-Sheet1!J100","v":-0.5589999999999691},{"$f":"Sheet1!W100-Sheet1!K100","v":-1.8653000000000048}]
[{"$f":"'[1]FR - Smoothed DUTL Left'!A101","v":15000},{"$f":"Sheet1!N101-Sheet1!B101","v":0.19999999999998863},{"$f":"Sheet1!O101-Sheet1!C101","v":-0.2721000000000089},{"$f":"Sheet1!P101-Sheet1!D101","v":-0.49389999999998224},{"$f":"Sheet1!Q101-Sheet1!E101","v":-0.8044999999999618},{"$f":"Sheet1!R101-Sheet1!F101","v":-0.7883999999999816},{"$f":"Sheet1!S101-Sheet1!G101","v":-0.4280000000000115},{"$f":"Sheet1!T101-Sheet1!H101","v":0.09949999999999193},{"$f":"Sheet1!U101-Sheet1!I101","v":-0.6257000000000374},{"$f":"Sheet1!V101-Sheet1!J101","v":-1.248199999999997},{"$f":"Sheet1!W101-Sheet1!K101","v":-1.1098000000000212}]
[{"$f":"'[1]FR - Smoothed DUTL Left'!A102","v":16000},{"$f":"Sheet1!N102-Sheet1!B102","v":0.2044000000000068},{"$f":"Sheet1!O102-Sheet1!C102","v":-0.24109999999997456},{"$f":"Sheet1!P102-Sheet1!D102","v":-0.4346000000000316},{"$f":"Sheet1!Q102-Sheet1!E102","v":-0.7677999999999798},{"$f":"Sheet1!R102-Sheet1!F102","v":-0.5437000000000012},{"$f":"Sheet1!S102-Sheet1!G102","v":-0.24970000000000425},{"$f":"Sheet1!T102-Sheet1!H102","v":0.5071999999999832},{"$f":"Sheet1!U102-Sheet1!I102","v":-0.9612999999999943},{"$f":"Sheet1!V102-Sheet1!J102","v":-1.7043000000000035},{"$f":"Sheet1!W102-Sheet1!K102","v":-0.5253000000000299}]
[{"$f":"'[1]FR - Smoothed DUTL Left'!A103","v":17000},{"$f":"Sheet1!N103-Sheet1!B103","v":0.31799999999998363},{"$f":"Sheet1!O103-Sheet1!C103","v":-0.25310000000000343},{"$f":"Sheet1!P103-Sheet1!D103","v":-0.3965999999999781},{"$f":"Sheet1!Q103-Sheet1!E103","v":-0.5700000000000074},{"$f":"Sheet1!R103-Sheet1!F103","v":-0.231899999999996},{"$f":"Sheet1!S103-Sheet1!G103","v":-0.05559999999998411},{"$f":"Sheet1!T103-Sheet1!H103","v":0.6640999999999906},{"$f":"Sheet1!U103-Sheet1!I103","v":-0.8992999999999967},{"$f":"Sheet1!V103-Sheet1!J103","v":-1.5028999999999968},{"$f":"Sheet1!W103-Sheet1!K103","v":-0.1700999999999766}]
[{"$f":"'[1]FR - Smoothed DUTL Left'!A104","v":18000},{"$f":"Sheet1!N104-Sheet1!B104","v":0.42430000000001655},{"$f":"Sheet1!O104-Sheet1!C104","v":-0.2434000000000225},{"$f":"Sheet1!P104-Sheet1!D104","v":-0.35540000000001726},{"$f":"Sheet1!Q104-Sheet1!E104","v":-0.32269999999999754},{"$f":"Sheet1!R104-Sheet1!F104","v":0.020699999999990837},{"$f":"Sheet1!S104-Sheet1!G104","v":0.09909999999999286},{"$f":"Sheet1!T104-Sheet1!H104","v":0.6085000000000065},{"$f":"Sheet1!U104-Sheet1!I104","v":-0.5554000000000059},{"$f":"Sheet1!V104-Sheet1!J104","v":-1.0230999999999995},{"$f":"Sheet1!W104-Sheet1!K104","v":0.012200000000021305}]
[{"$f":"'[1]FR - Smoothed DUTL Left'!A105","v":19000},{"$f":"Sheet1!N105-Sheet1!B105","v":0.5922000000000054},{"$f":"Sheet1!O105-Sheet1!C105","v":-0.2639000000000067},{"$f":"Sheet1!P105-Sheet1!D105","v":-0.2673000000000201},{"$f":"Sheet1!Q105-Sheet1!E105","v":-0.04290000000003147},{"$f":"Sheet1!R105-Sheet1!F105","v":0.18619999999999948},{"$f":"Sheet1!S105-Sheet1!G105","v":0.2132999999999896},{"$f":"Sheet1!T105-Sheet1!H105","v":0.44880000000000564},{"$f":"Sheet1!U105-Sheet1!I105","v":-0.07040000000000646},{"$f":"Sheet1!V105-Sheet1!J105","v":-0.42620000000000857},{"$f":"Sheet1!W105-Sheet1!K105","v":-0.09799999999999898}]
[{"$f":"'[1]FR - Smoothed DUTL Left'!A106","v":20000},{"$f":"Sheet1!N106-Sheet1!B106","v":0.8718000000000359},{"$f":"Sheet1!O106-Sheet1!C106","v":-0.23169999999998936},{"$f":"Sheet1!P106-Sheet1!D106","v":-0.15250000000001762},{"$f":"Sheet1!Q106-Sheet1!E106","v":0.22639999999999816},{"$f":"Sheet1!R106-Sheet1!F106","v":0.2804000000000002},{"$f":"Sheet1!S106-Sheet1!G106","v":0.27199999999996294},{"$f":"Sheet1!T106-Sheet1!H106","v":0.059899999999998954},{"$f":"Sheet1!U106-Sheet1!I106","v":0.49280000000000257},{"$f":"Sheet1!V106-Sheet1!J106","v":3.9999999999906777E-4},{"$f":"Sheet1!W106-Sheet1!K106","v":-0.8696999999999804}]
[{"$f":"'[1]FR - Smoothed DUTL Left'!A107","v":21200},{"$f":"Sheet1!N107-Sheet1!B107","v":0.5237999999999943},{"$f":"Sheet1!O107-Sheet1!C107","v":-0.911399999999972},{"$f":"Sheet1!P107-Sheet1!D107","v":0.005700000000004479},{"$f":"Sheet1!Q107-Sheet1!E107","v":0.4735000000000156},{"$f":"Sheet1!R107-Sheet1!F107","v":0.3890999999999991},{"$f":"Sheet1!S107-Sheet1!G107","v":0.2821999999999889},{"$f":"Sheet1!T107-Sheet1!H107","v":-1.761899999999983},{"$f":"Sheet1!U107-Sheet1!I107","v":-0.8529000000000053},{"$f":"Sheet1!V107-Sheet1!J107","v":-1.345399999999998},{"$f":"Sheet1!W107-Sheet1!K107","v":-1.366199999999992}]
[{"$f":"'[1]FR - Smoothed DUTL Left'!A108","v":22400},{"$f":"Sheet1!N108-Sheet1!B108","v":-4.1288000000000125},{"$f":"Sheet1!O108-Sheet1!C108","v":-4.29460000000001},{"$f":"Sheet1!P108-Sheet1!D108","v":-0.06340000000000146},{"$f":"Sheet1!Q108-Sheet1!E108","v":0.9431999999999761},{"$f":"Sheet1!R108-Sheet1!F108","v":0.5245999999999924},{"$f":"Sheet1!S108-Sheet1!G108","v":1.0650000000000261},{"$f":"Sheet1!T108-Sheet1!H108","v":-5.503099999999996},{"$f":"Sheet1!U108-Sheet1!I108","v":-4.964100000000016},{"$f":"Sheet1!V108-Sheet1!J108","v":-7.078199999999995},{"$f":"Sheet1!W108-Sheet1!K108","v":-5.701899999999995}]

{"sheet":"Post Delta","index":2,"n_rows":108,"n_cols":11,"rows_kept":108}
[{"$f":"'FR - Smoothed DUTL Left'!A1","v":"Frequecy"},{"$f":"'FR - Smoothed DUTL Left'!B1","v":"Post DUTL L"},{"$f":"'FR - Smoothed DUTL Right'!B1","v":"Post DUTL R"},{"$f":"'FR - Smoothed DUTL Mic1'!B1","v":"Post Mic1"},{"$f":"'FR - Smoothed DUTL Mic2'!B1","v":"Post Mic2"},{"$f":"'FR - Smoothed DUTL Mic3'!B1","v":"Post Mic3"},{"$f":"'FR - Smoothed DUTL Mic4'!B1","v":"Post Mic4"},{"$f":"'FR - Smoothed Self DUTL Mic1'!B1","v":"Post Self Mic1"},{"$f":"'FR - Smoothed Self DUTL Mic2'!B1","v":"Post Self Mic2"},{"$f":"'FR - Smoothed Self DUTL Mic3'!B1","v":"Post Self Mic3"},{"$f":"'FR - Smoothed Self DUTL Mic4'!B1","v":"Post Self Mic4"}]
[{"$f":"'FR - Smoothed DUTL Left'!A2","v":50},{"$f":"'FR - Smoothed DUTL Left'!B2","v":-0.44700000000000273},{"$f":"'FR - Smoothed DUTL Right'!B2","v":-0.34499999999999886},{"$f":"'FR - Smoothed DUTL Mic1'!B2","v":0.09000000000000341},{"$f":"'FR - Smoothed DUTL Mic2'!B2","v":0.09900000000000375},{"$f":"'FR - Smoothed DUTL Mic3'!B2","v":-0.10299999999999443},{"$f":"'FR - Smoothed DUTL Mic4'!B2","v":0.0689999999999884},{"$f":"'FR - Smoothed Self DUTL Mic1'!B2","v":0.02200000000000557},{"$f":"'FR - Smoothed Self DUTL Mic2'!B2","v":-0.11400000000000432},{"$f":"'FR - Smoothed Self DUTL Mic3'!B2","v":-0.39800000000001035},{"$f":"'FR - Smoothed Self DUTL Mic4'!B2","v":-0.09900000000000375}]
[{"$f":"'FR - Smoothed DUTL Left'!A3","v":53},{"$f":"'FR - Smoothed DUTL Left'!B3","v":-0.18999999999999773},{"$f":"'FR - Smoothed DUTL Right'!B3","v":-0.18099999999999739},{"$f":"'FR - Smoothed DUTL Mic1'!B3","v":0.06300000000000239},{"$f":"'FR - Smoothed DUTL Mic2'!B3","v":0.08399999999998897},{"$f":"'FR - Smoothed DUTL Mic3'!B3","v":-0.11800000000000921},{"$f":"'FR - Smoothed DUTL Mic4'!B3","v":0.0519999999999925},{"$f":"'FR - Smoothed Self DUTL Mic1'!B3","v":0.132000000000005},{"$f":"'FR - Smoothed Self DUTL Mic2'!B3","v":0.0689999999999884},{"$f":"'FR - Smoothed Self DUTL Mic3'!B3","v":-0.23599999999999},{"$f":"'FR - Smoothed Self DUTL Mic4'!B3","v":0.055999999999997385}]
[{"$f":"'FR - Smoothed DUTL Left'!A4","v":56},{"$f":"'FR - Smoothed DUTL Left'!B4","v":-0.06099999999999284},{"$f":"'FR - Smoothed DUTL Right'!B4","v":-0.057999999999992724},{"$f":"'FR - Smoothed DUTL Mic1'!B4","v":0.033999999999991815},{"$f":"'FR - Smoothed DUTL Mic2'!B4","v":0.07299999999999329},{"$f":"'FR - Smoothed DUTL Mic3'!B4","v":-0.12699999999999534},{"$f":"'FR - Smoothed DUTL Mic4'!B4","v":0.03900000000000148},{"$f":"'FR - Smoothed Self DUTL Mic1'!B4","v":0.23000000000000398},{"$f":"'FR - Smoothed Self DUTL Mic2'!B4","v":0.2079999999999984},{"$f":"'FR - Smoothed Self DUTL Mic3'!B4","v":-0.11499999999999488},{"$f":"'FR - Smoothed Self DUTL Mic4'!B4","v":0.1769999999999925}]
[{"$f":"'FR - Smoothed DUTL Left'!A5","v":60},{"$f":"'FR - Smoothed DUTL Left'!B5","v":-0.008000000000009777},{"$f":"'FR - Smoothed DUTL Right'!B5","v":-0.008000000000009777},{"$f":"'FR - Smoothed DUTL Mic1'!B5","v":-0.02400000000000091},{"$f":"'FR - Smoothed DUTL Mic2'!B5","v":0.0589999999999975},{"$f":"'FR - Smoothed DUTL Mic3'!B5","v":-0.1419999999999959},{"$f":"'FR - Smoothed DUTL Mic4'!B5","v":0.019000000000005457},{"$f":"'FR - Smoothed Self DUTL Mic1'!B5","v":0.29999999999999716},{"$f":"'FR - Smoothed Self DUTL Mic2'!B5","v":0.3090000000000117},{"$f":"'FR - Smoothed Self DUTL Mic3'!B5","v":-0.03100000000000591},{"$f":"'FR - Smoothed Self DUTL Mic4'!B5","v":0.2680000000000007}]
[{"$f":"'FR - Smoothed DUTL Left'!A6","v":63},{"$f":"'FR - Smoothed DUTL Left'!B6","v":0.009000000000000341},{"$f":"'FR - Smoothed DUTL Right'!B6","v":0.01300000000000523},{"$f":"'FR - Smoothed DUTL Mic1'!B6","v":-0.07099999999999795},{"$f":"'FR - Smoothed DUTL Mic2'!B6","v":0.054000000000002046},{"$f":"'FR - Smoothed DUTL Mic3'!B6","v":-0.14799999999999613},{"$f":"'FR - Smoothed DUTL Mic4'!B6","v":0.007999999999995566},{"$f":"'FR - Smoothed Self DUTL Mic1'!B6","v":0.29599999999999227},{"$f":"'FR - Smoothed Self DUTL Mic2'!B6","v":0.34600000000000364},{"$f":"'FR - Smoothed Self DUTL Mic3'!B6","v":-0.021000000000000796},{"$f":"'FR - Smoothed Self DUTL Mic4'!B6","v":0.2920000000000016}]
[{"$f":"'FR - Smoothed DUTL Left'!A7","v":67},{"$f":"'FR - Smoothed DUTL Left'!B7","v":0.003999999999990678},{"$f":"'FR - Smoothed DUTL Right'!B7","v":0.006000000000000227},{"$f":"'FR - Smoothed DUTL Mic1'!B7","v":-0.08599999999999852},{"$f":"'FR - Smoothed DUTL Mic2'!B7","v":0.06400000000000716},{"$f":"'FR - Smoothed DUTL Mic3'!B7","v":-0.14099999999999113},{"$f":"'FR - Smoothed DUTL Mic4'!B7","v":0.01099999999999568},{"$f":"'FR - Smoothed Self DUTL Mic1'!B7","v":0.2179999999999893},{"$f":"'FR - Smoothed Self DUTL Mic2'!B7","v":0.29399999999999693},{"$f":"'FR - Smoothed Self DUTL Mic3'!B7","v":-0.0799999999999983},{"$f":"'FR - Smoothed Self DUTL Mic4'!B7","v":0.23099999999999454}]
[{"$f":"'FR - Smoothed DUTL Left'!A8","v":71},{"$f":"'FR - Smoothed DUTL Left'!B8","v":-0.013999999999995794},{"$f":"'FR - Smoothed DUTL Right'!B8","v":-0.01999999999999602},{"$f":"'FR - Smoothed DUTL Mic1'!B8","v":-0.0589999999999975},{"$f":"'FR - Smoothed DUTL Mic2'!B8","v":0.07200000000000273},{"$f":"'FR - Smoothed DUTL Mic3'!B8","v":-0.13400000000000034},{"$f":"'FR - Smoothed DUTL Mic4'!B8","v":0.013999999999995794},{"$f":"'FR - Smoothed Self DUTL Mic1'!B8","v":0.13400000000000034},{"$f":"'FR - Smoothed Self DUTL Mic2'!B8","v":0.21699999999999875},{"$f":"'FR - Smoothed Self DUTL Mic3'!B8","v":-0.14400000000000546},{"$f":"'FR - Smoothed Self DUTL Mic4'!B8","v":0.1460000000000008}]
[{"$f":"'FR - Smoothed DUTL Left'!A9","v":75},{"$f":"'FR - Smoothed DUTL Left'!B9","v":-0.03900000000000148},{"$f":"'FR - Smoothed DUTL Right'!B9","v":-0.045000000000001705},{"$f":"'FR - Smoothed DUTL Mic1'!B9","v":-0.034000000000006025},{"$f":"'FR - Smoothed DUTL Mic2'!B9","v":0.060000000000002274},{"$f":"'FR - Smoothed DUTL Mic3'!B9","v":-0.14300000000000068},{"$f":"'FR - Smoothed DUTL Mic4'!B9","v":-4.0000000000048885E-3},{"$f":"'FR - Smoothed Self DUTL Mic1'!B9","v":0.07699999999999818},{"$f":"'FR - Smoothed Self DUTL Mic2'!B9","v":0.15899999999999181},{"$f":"'FR - Smoothed Self DUTL Mic3'!B9","v":-0.1839999999999975},{"$f":"'FR - Smoothed Self DUTL Mic4'!B9","v":0.0799999999999983}]
[{"$f":"'FR - Smoothed DUTL Left'!A10","v":80},{"$f":"'FR - Smoothed DUTL Left'!B10","v":-0.05700000000000216},{"$f":"'FR - Smoothed DUTL Right'!B10","v":-0.06700000000000728},{"$f":"'FR - Smoothed DUTL Mic1'!B10","v":-0.03999999999999204},{"$f":"'FR - Smoothed DUTL Mic2'!B10","v":0.03300000000000125},{"$f":"'FR - Smoothed DUTL Mic3'!B10","v":-0.16599999999999682},{"$f":"'FR - Smoothed DUTL Mic4'!B10","v":-0.033999999999991815},{"$f":"'FR - Smoothed Self DUTL Mic1'!B10","v":0.04399999999999693},{"$f":"'FR - Smoothed Self DUTL Mic2'!B10","v":0.12400000000000944},{"$f":"'FR - Smoothed Self DUTL Mic3'!B10","v":-0.20399999999999352},{"$f":"'FR - Smoothed Self DUTL Mic4'!B10","v":0.038000000000010914}]
[{"$f":"'FR - Smoothed DUTL Left'!A11","v":85},{"$f":"'FR - Smoothed DUTL Left'!B11","v":-0.07699999999999818},{"$f":"'FR - Smoothed DUTL Right'!B11","v":-0.09000000000000341},{"$f":"'FR - Smoothed DUTL Mic1'!B11","v":-0.045000000000001705},{"$f":"'FR - Smoothed DUTL Mic2'!B11","v":0.018000000000000682},{"$f":"'FR - Smoothed DUTL Mic3'!B11","v":-0.17799999999999727},{"$f":"'FR - Smoothed DUTL Mic4'!B11","v":-0.05200000000000671},{"$f":"'FR - Smoothed Self DUTL Mic1'!B11","v":0.018999999999991246},{"$f":"'FR - Smoothed Self DUTL Mic2'!B11","v":0.10600000000000875},{"$f":"'FR - Smoothed Self DUTL Mic3'!B11","v":-0.22000000000001307},{"$f":"'FR - Smoothed Self DUTL Mic4'!B11","v":0.009000000000000341}]
[{"$f":"'FR - Smoothed DUTL Left'!A12","v":90},{"$f":"'FR - Smoothed DUTL Left'!B12","v":-0.10699999999999932},{"$f":"'FR - Smoothed DUTL Right'!B12","v":-0.11999999999999034},{"$f":"'FR - Smoothed DUTL Mic1'!B12","v":-0.03900000000000148},{"$f":"'FR - Smoothed DUTL Mic2'!B12","v":0.030000000000001137},{"$f":"'FR - Smoothed DUTL Mic3'!B12","v":-0.16300000000001091},{"$f":"'FR - Smoothed DUTL Mic4'!B12","v":-0.04099999999999682},{"$f":"'FR - Smoothed Self DUTL Mic1'!B12","v":-0.005000000000009663},{"$f":"'FR - Smoothed Self DUTL Mic2'!B12","v":0.09099999999999397},{"$f":"'FR - Smoothed Self DUTL Mic3'!B12","v":-0.23999999999999488},{"$f":"'FR - Smoothed Self DUTL Mic4'!B12","v":-0.018000000000000682}]
[{"$f":"'FR - Smoothed DUTL Left'!A13","v":95},{"$f":"'FR - Smoothed DUTL Left'!B13","v":-0.15000000000000568},{"$f":"'FR - Smoothed DUTL Right'!B13","v":-0.16199999999999193},{"$f":"'FR - Smoothed DUTL Mic1'!B13","v":-0.02599999999999625},{"$f":"'FR - Smoothed DUTL Mic2'!B13","v":0.049000000000006594},{"$f":"'FR - Smoothed DUTL Mic3'!B13","v":-0.14099999999999113},{"$f":"'FR - Smoothed DUTL Mic4'!B13","v":-0.021000000000000796},{"$f":"'FR - Smoothed Self DUTL Mic1'!B13","v":-0.036000000000001364},{"$f":"'FR - Smoothed Self DUTL Mic2'!B13","v":0.07899999999999352},{"$f":"'FR - Smoothed Self DUTL Mic3'!B13","v":-0.269999999999996},{"$f":"'FR - Smoothed Self DUTL Mic4'!B13","v":-0.04400000000001114}]
[{"$f":"'FR - Smoothed DUTL Left'!A14","v":100},{"$f":"'FR - Smoothed DUTL Left'!B14","v":-0.23100000000000875},{"$f":"'FR - Smoothed DUTL Right'!B14","v":-0.22699999999998965},{"$f":"'FR - Smoothed DUTL Mic1'!B14","v":3.0000000000001137E-3},{"$f":"'FR - Smoothed DUTL Mic2'!B14","v":0.07200000000000273},{"$f":"'FR - Smoothed DUTL Mic3'!B14","v":-0.11899999999999977},{"$f":"'FR - Smoothed DUTL Mic4'!B14","v":2.0000000000095497E-3},{"$f":"'FR - Smoothed Self DUTL Mic1'!B14","v":-0.07800000000000296},{"$f":"'FR - Smoothed Self DUTL Mic2'!B14","v":0.06499999999999773},{"$f":"'FR - Smoothed Self DUTL Mic3'!B14","v":-0.3130000000000024},{"$f":"'FR - Smoothed Self DUTL Mic4'!B14","v":-0.07499999999998863}]
[{"$f":"'FR - Smoothed DUTL Left'!A15","v":106},{"$f":"'FR - Smoothed DUTL Left'!B15","v":-0.34900000000000375},{"$f":"'FR - Smoothed DUTL Right'!B15","v":-0.3049999999999926},{"$f":"'FR - Smoothed DUTL Mic1'!B15","v":0.030000000000001137},{"$f":"'FR - Smoothed DUTL Mic2'!B15","v":0.0870000000000033},{"$f":"'FR - Smoothed DUTL Mic3'!B15","v":-0.10999999999999943},{"$f":"'FR - Smoothed DUTL Mic4'!B15","v":0.012000000000000455},{"$f":"'FR - Smoothed Self DUTL Mic1'!B15","v":-0.1460000000000008},{"$f":"'FR - Smoothed Self DUTL Mic2'!B15","v":0.01999999999999602},{"$f":"'FR - Smoothed Self DUTL Mic3'!B15","v":-0.38700000000000045},{"$f":"'FR - Smoothed Self DUTL Mic4'!B15","v":-0.13700000000000045}]
[{"$f":"'FR - Smoothed DUTL Left'!A16","v":112},{"$f":"'FR - Smoothed DUTL Left'!B16","v":-0.44199999999999307},{"$f":"'FR - Smoothed DUTL Right'!B16","v":-0.35200000000000387},{"$f":"'FR - Smoothed DUTL Mic1'!B16","v":0.023000000000010346},{"$f":"'FR - Smoothed DUTL Mic2'!B16","v":0.07399999999999807},{"$f":"'FR - Smoothed DUTL Mic3'!B16","v":-0.1280000000000001},{"$f":"'FR - Smoothed DUTL Mic4'!B16","v":-0.006000000000000227},{"$f":"'FR - Smoothed Self DUTL Mic1'!B16","v":-0.23199999999999932},{"$f":"'FR - Smoothed Self DUTL Mic2'!B16","v":-0.07800000000000296},{"$f":"'FR - Smoothed Self DUTL Mic3'!B16","v":-0.4759999999999991},{"$f":"'FR - Smoothed Self DUTL Mic4'!B16","v":-0.2510000000000048}]
[{"$f":"'FR - Smoothed DUTL Left'!A17","v":118},{"$f":"'FR - Smoothed DUTL Left'!B17","v":-0.4520000000000124},{"$f":"'FR - Smoothed DUTL Right'!B17","v":-0.33800000000000807},{"$f":"'FR - Smoothed DUTL Mic1'!B17","v":-0.007000000000005002},{"$f":"'FR - Smoothed DUTL Mic2'!B17","v":0.036000000000001364},{"$f":"'FR - Smoothed DUTL Mic3'!B17","v":-0.16100000000000136},{"$f":"'FR - Smoothed DUTL Mic4'!B17","v":-0.04200000000000159},{"$f":"'FR - Smoothed Self DUTL Mic1'!B17","v":-0.269999999999996},{"$f":"'FR - Smoothed Self DUTL Mic2'!B17","v":-0.15899999999999181},{"$f":"'FR - Smoothed Self DUTL Mic3'!B17","v":-0.5210000000000008},{"$f":"'FR - Smoothed Self DUTL Mic4'!B17","v":-0.34900000000000375}]
[{"$f":"'FR - Smoothed DUTL Left'!A18","v":125},{"$f":"'FR - Smoothed DUTL Left'!B18","v":-0.340999999999994},{"$f":"'FR - Smoothed DUTL Right'!B18","v":-0.2740000000000009},{"$f":"'FR - Smoothed DUTL Mic1'!B18","v":-0.03699999999999193},{"$f":"'FR - Smoothed DUTL Mic2'!B18","v":0.012000000000000455},{"$f":"'FR - Smoothed DUTL Mic3'!B18","v":-0.1700000000000017},{"$f":"'FR - Smoothed DUTL Mic4'!B18","v":-0.06100000000000705},{"$f":"'FR - Smoothed Self DUTL Mic1'!B18","v":-0.2219999999999942},{"$f":"'FR - Smoothed Self DUTL Mic2'!B18","v":-0.11299999999999955},{"$f":"'FR - Smoothed Self DUTL Mic3'!B18","v":-0.492999999999995},{"$f":"'FR - Smoothed Self DUTL Mic4'!B18","v":-0.3430000000000035}]
[{"$f":"'FR - Smoothed DUTL Left'!A19","v":132},{"$f":"'FR - Smoothed DUTL Left'!B19","v":-0.10999999999999943},{"$f":"'FR - Smoothed DUTL Right'!B19","v":-0.17300000000000182},{"$f":"'FR - Smoothed DUTL Mic1'!B19","v":-0.03300000000000125},{"$f":"'FR - Smoothed DUTL Mic2'!B19","v":0.03599999999998715},{"$f":"'FR - Smoothed DUTL Mic3'!B19","v":-0.13799999999999102},{"$f":"'FR - Smoothed DUTL Mic4'!B19","v":-0.036000000000001364},{"$f":"'FR - Smoothed Self DUTL Mic1'!B19","v":-0.11199999999999477},{"$f":"'FR - Smoothed Self DUTL Mic2'!B19","v":0.055999999999997385},{"$f":"'FR - Smoothed Self DUTL Mic3'!B19","v":-0.41899999999999693},{"$f":"'FR - Smoothed Self DUTL Mic4'!B19","v":-0.23999999999999488}]
[{"$f":"'FR - Smoothed DUTL Left'!A20","v":140},{"$f":"'FR - Smoothed DUTL Left'!B20","v":0.10899999999999466},{"$f":"'FR - Smoothed DUTL Right'!B20","v":-0.07100000000001216},{"$f":"'FR - Smoothed DUTL Mic1'!B20","v":-0.009000000000000341},{"$f":"'FR - Smoothed DUTL Mic2'!B20","v":0.07500000000000284},{"$f":"'FR - Smoothed DUTL Mic3'!B20","v":-0.1039999999999992},{"$f":"'FR - Smoothed DUTL Mic4'!B20","v":-0.003999999999990678},{"$f":"'FR - Smoothed Self DUTL Mic1'!B20","v":-0.001999999999995339},{"$f":"'FR - Smoothed Self DUTL Mic2'!B20","v":0.20700000000000784},{"$f":"'FR - Smoothed Self DUTL Mic3'!B20","v":-0.3059999999999974},{"$f":"'FR - Smoothed Self DUTL Mic4'!B20","v":-0.1110000000000042}]
[{"$f":"'FR - Smoothed DUTL Left'!A21","v":150},{"$f":"'FR - Smoothed DUTL Left'!B21","v":0.12299999999999045},{"$f":"'FR - Smoothed DUTL Right'!B21","v":-0.049000000000006594},{"$f":"'FR - Smoothed DUTL Mic1'!B21","v":-0.006000000000000227},{"$f":"'FR - Smoothed DUTL Mic2'!B21","v":0.07500000000000284},{"$f":"'FR - Smoothed DUTL Mic3'!B21","v":-0.10699999999999932},{"$f":"'FR - Smoothed DUTL Mic4'!B21","v":-0.009000000000000341},{"$f":"'FR - Smoothed Self DUTL Mic1'!B21","v":0.05499999999999261},{"$f":"'FR - Smoothed Self DUTL Mic2'!B21","v":0.17799999999999727},{"$f":"'FR - Smoothed Self DUTL Mic3'!B21","v":-0.13300000000000978},{"$f":"'FR - Smoothed Self DUTL Mic4'!B21","v":-1.0000000000047748E-3}]
[{"$f":"'FR - Smoothed DUTL Left'!A22","v":160},{"$f":"'FR - Smoothed DUTL Left'!B22","v":-0.14699999999999136},{"$f":"'FR - Smoothed DUTL Right'!B22","v":-0.14699999999999136},{"$f":"'FR - Smoothed DUTL Mic1'!B22","v":-0.028999999999996362},{"$f":"'FR - Smoothed DUTL Mic2'!B22","v":0.04899999999999238},{"$f":"'FR - Smoothed DUTL Mic3'!B22","v":-0.13500000000000512},{"$f":"'FR - Smoothed DUTL Mic4'!B22","v":-0.038000000000010914},{"$f":"'FR - Smoothed Self DUTL Mic1'!B22","v":0.027000000000001023},{"$f":"'FR - Smoothed Self DUTL Mic2'!B22","v":-0.0309999999999917},{"$f":"'FR - Smoothed Self DUTL Mic3'!B22","v":0.05100000000000193},{"$f":"'FR - Smoothed Self DUTL Mic4'!B22","v":0.07200000000000273}]
[{"$f":"'FR - Smoothed DUTL Left'!A23","v":170},{"$f":"'FR - Smoothed DUTL Left'!B23","v":-0.49500000000000455},{"$f":"'FR - Smoothed DUTL Right'!B23","v":-0.29699999999999704},{"$f":"'FR - Smoothed DUTL Mic1'!B23","v":-0.04999999999999716},{"$f":"'FR - Smoothed DUTL Mic2'!B23","v":0.03300000000000125},{"$f":"'FR - Smoothed DUTL Mic3'!B23","v":-0.15200000000000102},{"$f":"'FR - Smoothed DUTL Mic4'!B23","v":-0.05499999999999261},{"$f":"'FR - Smoothed Self DUTL Mic1'!B23","v":-0.06400000000000716},{"$f":"'FR - Smoothed Self DUTL Mic2'!B23","v":-0.26500000000000057},{"$f":"'FR - Smoothed Self DUTL Mic3'!B23","v":0.11899999999999977},{"$f":"'FR - Smoothed Self DUTL Mic4'!B23","v":0.04800000000000182}]
[{"$f":"'FR - Smoothed DUTL Left'!A24","v":180},{"$f":"'FR - Smoothed DUTL Left'!B24","v":-0.605000000000004},{"$f":"'FR - Smoothed DUTL Right'!B24","v":-0.4299999999999926},{"$f":"'FR - Smoothed DUTL Mic1'!B24","v":-0.03999999999999204},{"$f":"'FR - Smoothed DUTL Mic2'!B24","v":0.04599999999999227},{"$f":"'FR - Smoothed DUTL Mic3'!B24","v":-0.13700000000000045},{"$f":"'FR - Smoothed DUTL Mic4'!B24","v":-0.04400000000001114},{"$f":"'FR - Smoothed Self DUTL Mic1'!B24","v":-0.13700000000000045},{"$f":"'FR - Smoothed Self DUTL Mic2'!B24","v":-0.3860000000000099},{"$f":"'FR - Smoothed Self DUTL Mic3'!B24","v":0.0309999999999917},{"$f":"'FR - Smoothed Self DUTL Mic4'!B24","v":-0.09600000000000364}]
[{"$f":"'FR - Smoothed DUTL Left'!A25","v":190},{"$f":"'FR - Smoothed DUTL Left'!B25","v":-0.5229999999999961},{"$f":"'FR - Smoothed DUTL Right'!B25","v":-0.4989999999999952},{"$f":"'FR - Smoothed DUTL Mic1'!B25","v":-0.01999999999999602},{"$f":"'FR - Smoothed DUTL Mic2'!B25","v":0.05699999999998795},{"$f":"'FR - Smoothed DUTL Mic3'!B25","v":-0.11899999999999977},{"$f":"'FR - Smoothed DUTL Mic4'!B25","v":-0.034000000000006025},{"$f":"'FR - Smoothed Self DUTL Mic1'!B25","v":-0.132000000000005},{"$f":"'FR - Smoothed Self DUTL Mic2'!B25","v":-0.37300000000000466},{"$f":"'FR - Smoothed Self DUTL Mic3'!B25","v":-0.08599999999999852},{"$f":"'FR - Smoothed Self DUTL Mic4'!B25","v":-0.25}]
[{"$f":"'FR - Smoothed DUTL Left'!A26","v":200},{"$f":"'FR - Smoothed DUTL Left'!B26","v":-0.42600000000000193},{"$f":"'FR - Smoothed DUTL Right'!B26","v":-0.4549999999999983},{"$f":"'FR - Smoothed DUTL Mic1'!B26","v":-0.02400000000000091},{"$f":"'FR - Smoothed DUTL Mic2'!B26","v":0.04999999999999716},{"$f":"'FR - Smoothed DUTL Mic3'!B26","v":-0.12599999999999056},{"$f":"'FR - Smoothed DUTL Mic4'!B26","v":-0.04099999999999682},{"$f":"'FR - Smoothed Self DUTL Mic1'!B26","v":-0.09499999999999886},{"$f":"'FR - Smoothed Self DUTL Mic2'!B26","v":-0.3130000000000024},{"$f":"'FR - Smoothed Self DUTL Mic3'!B26","v":-0.1600000000000108},{"$f":"'FR - Smoothed Self DUTL Mic4'!B26","v":-0.33800000000000807}]
[{"$f":"'FR - Smoothed DUTL Left'!A27","v":212},{"$f":"'FR - Smoothed DUTL Left'!B27","v":-0.3430000000000035},{"$f":"'FR - Smoothed DUTL Right'!B27","v":-0.355000000000004},{"$f":"'FR - Smoothed DUTL Mic1'!B27","v":-0.036000000000001364},{"$f":"'FR - Smoothed DUTL Mic2'!B27","v":0.05100000000000193},{"$f":"'FR - Smoothed DUTL Mic3'!B27","v":-0.14300000000000068},{"$f":"'FR - Smoothed DUTL Mic4'!B27","v":-0.04099999999999682},{"$f":"'FR - Smoothed Self DUTL Mic1'!B27","v":-0.08500000000000796},{"$f":"'FR - Smoothed Self DUTL Mic2'!B27","v":-0.2749999999999915},{"$f":"'FR - Smoothed Self DUTL Mic3'!B27","v":-0.20600000000000307},{"$f":"'FR - Smoothed Self DUTL Mic4'!B27","v":-0.3739999999999952}]
[{"$f":"'FR - Smoothed DUTL Left'!A28","v":224},{"$f":"'FR - Smoothed DUTL Left'!B28","v":-0.2819999999999965},{"$f":"'FR - Smoothed DUTL Right'!B28","v":-0.28000000000000114},{"$f":"'FR - Smoothed DUTL Mic1'!B28","v":-0.03100000000000591},{"$f":"'FR - Smoothed DUTL Mic2'!B28","v":0.0660000000000025},{"$f":"'FR - Smoothed DUTL Mic3'!B28","v":-0.13700000000000045},{"$f":"'FR - Smoothed DUTL Mic4'!B28","v":-0.028000000000005798},{"$f":"'FR - Smoothed Self DUTL Mic1'!B28","v":-0.0940000000000083},{"$f":"'FR - Smoothed Self DUTL Mic2'!B28","v":-0.23299999999998988},{"$f":"'FR - Smoothed Self DUTL Mic3'!B28","v":-0.22400000000000375},{"$f":"'FR - Smoothed Self DUTL Mic4'!B28","v":-0.3499999999999943}]
[{"$f":"'FR - Smoothed DUTL Left'!A29","v":236},{"$f":"'FR - Smoothed DUTL Left'!B29","v":-0.2149999999999892},{"$f":"'FR - Smoothed DUTL Right'!B29","v":-0.21300000000000807},{"$f":"'FR - Smoothed DUTL Mic1'!B29","v":-0.016999999999995907},{"$f":"'FR - Smoothed DUTL Mic2'!B29","v":0.08500000000000796},{"$f":"'FR - Smoothed DUTL Mic3'!B29","v":-0.11199999999999477},{"$f":"'FR - Smoothed DUTL Mic4'!B29","v":-0.012000000000000455},{"$f":"'FR - Smoothed Self DUTL Mic1'!B29","v":-0.0799999999999983},{"$f":"'FR - Smoothed Self DUTL Mic2'!B29","v":-0.14100000000000534},{"$f":"'FR - Smoothed Self DUTL Mic3'!B29","v":-0.20399999999999352},{"$f":"'FR - Smoothed Self DUTL Mic4'!B29","v":-0.2580000000000098}]
[{"$f":"'FR - Smoothed DUTL Left'!A30","v":250},{"$f":"'FR - Smoothed DUTL Left'!B30","v":-0.1360000000000099},{"$f":"'FR - Smoothed DUTL Right'!B30","v":-0.1419999999999959},{"$f":"'FR - Smoothed DUTL Mic1'!B30","v":-0.012999999999991019},{"$f":"'FR - Smoothed DUTL Mic2'!B30","v":0.09199999999999875},{"$f":"'FR - Smoothed DUTL Mic3'!B30","v":-0.10099999999999909},{"$f":"'FR - Smoothed DUTL Mic4'!B30","v":-0.009000000000000341},{"$f":"'FR - Smoothed Self DUTL Mic1'!B30","v":-0.04399999999999693},{"$f":"'FR - Smoothed Self DUTL Mic2'!B30","v":-0.02599999999999625},{"$f":"'FR - Smoothed Self DUTL Mic3'!B30","v":-0.16499999999999204},{"$f":"'FR - Smoothed Self DUTL Mic4'!B30","v":-0.1419999999999959}]
[{"$f":"'FR - Smoothed DUTL Left'!A31","v":265},{"$f":"'FR - Smoothed DUTL Left'!B31","v":-0.07299999999999329},{"$f":"'FR - Smoothed DUTL Right'!B31","v":-0.0899999999999892},{"$f":"'FR - Smoothed DUTL Mic1'!B31","v":-0.018999999999991246},{"$f":"'FR - Smoothed DUTL Mic2'!B31","v":0.08300000000001262},{"$f":"'FR - Smoothed DUTL Mic3'!B31","v":-0.1110000000000042},{"$f":"'FR - Smoothed DUTL Mic4'!B31","v":-0.021000000000000796},{"$f":"'FR - Smoothed Self DUTL Mic1'!B31","v":-0.016999999999995907},{"$f":"'FR - Smoothed Self DUTL Mic2'!B31","v":0.055999999999997385},{"$f":"'FR - Smoothed Self DUTL Mic3'!B31","v":-0.13500000000000512},{"$f":"'FR - Smoothed Self DUTL Mic4'!B31","v":-0.056000000000011596}]
[{"$f":"'FR - Smoothed DUTL Left'!A32","v":280},{"$f":"'FR - Smoothed DUTL Left'!B32","v":-0.04400000000001114},{"$f":"'FR - Smoothed DUTL Right'!B32","v":-0.06800000000001205},{"$f":"'FR - Smoothed DUTL Mic1'!B32","v":-0.025000000000005684},{"$f":"'FR - Smoothed DUTL Mic2'!B32","v":0.06599999999998829},{"$f":"'FR - Smoothed DUTL Mic3'!B32","v":-0.1290000000000049},{"$f":"'FR - Smoothed DUTL Mic4'!B32","v":-0.03900000000000148},{"$f":"'FR - Smoothed Self DUTL Mic1'!B32","v":-4.9999999999954525E-3},{"$f":"'FR - Smoothed Self DUTL Mic2'!B32","v":0.09199999999999875},{"$f":"'FR - Smoothed Self DUTL Mic3'!B32","v":-0.12599999999999056},{"$f":"'FR - Smoothed Self DUTL Mic4'!B32","v":-0.018000000000000682}]
[{"$f":"'FR - Smoothed DUTL Left'!A33","v":300},{"$f":"'FR - Smoothed DUTL Left'!B33","v":-0.04399999999999693},{"$f":"'FR - Smoothed DUTL Right'!B33","v":-0.054000000000002046},{"$f":"'FR - Smoothed DUTL Mic1'!B33","v":-0.027000000000001023},{"$f":"'FR - Smoothed DUTL Mic2'!B33","v":0.05500000000000682},{"$f":"'FR - Smoothed DUTL Mic3'!B33","v":-0.13800000000000523},{"$f":"'FR - Smoothed DUTL Mic4'!B33","v":-0.04800000000000182},{"$f":"'FR - Smoothed Self DUTL Mic1'!B33","v":-4.9999999999954525E-3},{"$f":"'FR - Smoothed Self DUTL Mic2'!B33","v":0.09999999999999432},{"$f":"'FR - Smoothed Self DUTL Mic3'!B33","v":-0.13700000000000045},{"$f":"'FR - Smoothed Self DUTL Mic4'!B33","v":-0.02400000000000091}]
[{"$f":"'FR - Smoothed DUTL Left'!A34","v":315},{"$f":"'FR - Smoothed DUTL Left'!B34","v":-0.0660000000000025},{"$f":"'FR - Smoothed DUTL Right'!B34","v":-0.060000000000002274},{"$f":"'FR - Smoothed DUTL Mic1'!B34","v":-0.027000000000001023},{"$f":"'FR - Smoothed DUTL Mic2'!B34","v":0.05700000000000216},{"$f":"'FR - Smoothed DUTL Mic3'!B34","v":-0.13599999999999568},{"$f":"'FR - Smoothed DUTL Mic4'!B34","v":-0.04599999999999227},{"$f":"'FR - Smoothed Self DUTL Mic1'!B34","v":-0.01999999999999602},{"$f":"'FR - Smoothed Self DUTL Mic2'!B34","v":0.0870000000000033},{"$f":"'FR - Smoothed Self DUTL Mic3'!B34","v":-0.17300000000000182},{"$f":"'FR - Smoothed Self DUTL Mic4'!B34","v":-0.06900000000000261}]
[{"$f":"'FR - Smoothed DUTL Left'!A35","v":335},{"$f":"'FR - Smoothed DUTL Left'!B35","v":-0.10800000000000409},{"$f":"'FR - Smoothed DUTL Right'!B35","v":-0.10999999999999943},{"$f":"'FR - Smoothed DUTL Mic1'!B35","v":-0.022999999999996135},{"$f":"'FR - Smoothed DUTL Mic2'!B35","v":0.06199999999999761},{"$f":"'FR - Smoothed DUTL Mic3'!B35","v":-0.13400000000000034},{"$f":"'FR - Smoothed DUTL Mic4'!B35","v":-0.04200000000000159},{"$f":"'FR - Smoothed Self DUTL Mic1'!B35","v":-0.0589999999999975},{"$f":"'FR - Smoothed Self DUTL Mic2'!B35","v":0.03900000000000148},{"$f":"'FR - Smoothed Self DUTL Mic3'!B35","v":-0.2289999999999992},{"$f":"'FR - Smoothed Self DUTL Mic4'!B35","v":-0.14800000000001035}]
[{"$f":"'FR - Smoothed DUTL Left'!A36","v":355},{"$f":"'FR - Smoothed DUTL Left'!B36","v":-0.1629999999999967},{"$f":"'FR - Smoothed DUTL Right'!B36","v":-0.18899999999999295},{"$f":"'FR - Smoothed DUTL Mic1'!B36","v":-0.015999999999991132},{"$f":"'FR - Smoothed DUTL Mic2'!B36","v":0.06499999999999773},{"$f":"'FR - Smoothed DUTL Mic3'!B36","v":-0.1349999999999909},{"$f":"'FR - Smoothed DUTL Mic4'!B36","v":-0.04099999999999682},{"$f":"'FR - Smoothed Self DUTL Mic1'!B36","v":-0.09300000000000352},{"$f":"'FR - Smoothed Self DUTL Mic2'!B36","v":-0.000999999999990564},{"$f":"'FR - Smoothed Self DUTL Mic3'!B36","v":-0.26600000000000534},{"$f":"'FR - Smoothed Self DUTL Mic4'!B36","v":-0.19599999999999795}]
[{"$f":"'FR - Smoothed DUTL Left'!A37","v":375},{"$f":"'FR - Smoothed DUTL Left'!B37","v":-0.21800000000000352},{"$f":"'FR - Smoothed DUTL Right'!B37","v":-0.27199999999999136},{"$f":"'FR - Smoothed DUTL Mic1'!B37","v":-0.01100000000000989},{"$f":"'FR - Smoothed DUTL Mic2'!B37","v":0.06900000000000261},{"$f":"'FR - Smoothed DUTL Mic3'!B37","v":-0.13700000000000045},{"$f":"'FR - Smoothed DUTL Mic4'!B37","v":-0.03900000000000148},{"$f":"'FR - Smoothed Self DUTL Mic1'!B37","v":-0.10200000000000387},{"$f":"'FR - Smoothed Self DUTL Mic2'!B37","v":0.009999999999990905},{"$f":"'FR - Smoothed Self DUTL Mic3'!B37","v":-0.27000000000001023},{"$f":"'FR - Smoothed Self DUTL Mic4'!B37","v":-0.17399999999999238}]
[{"$f":"'FR - Smoothed DUTL Left'!A38","v":400},{"$f":"'FR - Smoothed DUTL Left'!B38","v":-0.2669999999999959},{"$f":"'FR - Smoothed DUTL Right'!B38","v":-0.34199999999999875},{"$f":"'FR - Smoothed DUTL Mic1'!B38","v":-0.016999999999995907},{"$f":"'FR - Smoothed DUTL Mic2'!B38","v":0.07099999999999795},{"$f":"'FR - Smoothed DUTL Mic3'!B38","v":-0.13700000000000045},{"$f":"'FR - Smoothed DUTL Mic4'!B38","v":-0.03900000000000148},{"$f":"'FR - Smoothed Self DUTL Mic1'!B38","v":-0.15000000000000568},{"$f":"'FR - Smoothed Self DUTL Mic2'!B38","v":0.01300000000000523},{"$f":"'FR - Smoothed Self DUTL Mic3'!B38","v":-0.3199999999999932},{"$f":"'FR - Smoothed Self DUTL Mic4'!B38","v":-0.1740000000000066}]
[{"$f":"'FR - Smoothed DUTL Left'!A39","v":425},{"$f":"'FR - Smoothed DUTL Left'!B39","v":-0.32100000000001216},{"$f":"'FR - Smoothed DUTL Right'!B39","v":-0.394999999999996},{"$f":"'FR - Smoothed DUTL Mic1'!B39","v":-0.0350000000000108},{"$f":"'FR - Smoothed DUTL Mic2'!B39","v":0.0660000000000025},{"$f":"'FR - Smoothed DUTL Mic3'!B39","v":-0.14399999999999125},{"$f":"'FR - Smoothed DUTL Mic4'!B39","v":-0.045000000000001705},{"$f":"'FR - Smoothed Self DUTL Mic1'!B39","v":-0.30700000000000216},{"$f":"'FR - Smoothed Self DUTL Mic2'!B39","v":-0.09199999999999875},{"$f":"'FR - Smoothed Self DUTL Mic3'!B39","v":-0.47700000000000387},{"$f":"'FR - Smoothed Self DUTL Mic4'!B39","v":-0.2920000000000016}]
[{"$f":"'FR - Smoothed DUTL Left'!A40","v":450},{"$f":"'FR - Smoothed DUTL Left'!B40","v":-0.37700000000000955},{"$f":"'FR - Smoothed DUTL Right'!B40","v":-0.4350000000000023},{"$f":"'FR - Smoothed DUTL Mic1'!B40","v":-0.058000000000006935},{"$f":"'FR - Smoothed DUTL Mic2'!B40","v":0.05200000000000671},{"$f":"'FR - Smoothed DUTL Mic3'!B40","v":-0.15899999999999181},{"$f":"'FR - Smoothed DUTL Mic4'!B40","v":-0.060000000000002274},{"$f":"'FR - Smoothed Self DUTL Mic1'!B40","v":-0.5539999999999878},{"$f":"'FR - Smoothed Self DUTL Mic2'!B40","v":-0.3190000000000026},{"$f":"'FR - Smoothed Self DUTL Mic3'!B40","v":-0.7109999999999985},{"$f":"'FR - Smoothed Self DUTL Mic4'!B40","v":-0.5210000000000008}]
[{"$f":"'FR - Smoothed DUTL Left'!A41","v":475},{"$f":"'FR - Smoothed DUTL Left'!B41","v":-0.402000000000001},{"$f":"'FR - Smoothed DUTL Right'!B41","v":-0.4420000000000073},{"$f":"'FR - Smoothed DUTL Mic1'!B41","v":-0.07099999999999795},{"$f":"'FR - Smoothed DUTL Mic2'!B41","v":0.0379999999999967},{"$f":"'FR - Smoothed DUTL Mic3'!B41","v":-0.15900000000000603},{"$f":"'FR - Smoothed DUTL Mic4'!B41","v":-0.06400000000000716},{"$f":"'FR - Smoothed Self DUTL Mic1'!B41","v":-0.8070000000000022},{"$f":"'FR - Smoothed Self DUTL Mic2'!B41","v":-0.6009999999999991},{"$f":"'FR - Smoothed Self DUTL Mic3'!B41","v":-0.9359999999999928},{"$f":"'FR - Smoothed Self DUTL Mic4'!B41","v":-0.784000000000006}]
[{"$f":"'FR - Smoothed DUTL Left'!A42","v":500},{"$f":"'FR - Smoothed DUTL Left'!B42","v":-0.3859999999999957},{"$f":"'FR - Smoothed DUTL Right'!B42","v":-0.41899999999999693},{"$f":"'FR - Smoothed DUTL Mic1'!B42","v":-0.04599999999999227},{"$f":"'FR - Smoothed DUTL Mic2'!B42","v":0.045000000000001705},{"$f":"'FR - Smoothed DUTL Mic3'!B42","v":-0.11800000000000921},{"$f":"'FR - Smoothed DUTL Mic4'!B42","v":-0.03999999999999204},{"$f":"'FR - Smoothed Self DUTL Mic1'!B42","v":-0.9540000000000077},{"$f":"'FR - Smoothed Self DUTL Mic2'!B42","v":-0.8340000000000032},{"$f":"'FR - Smoothed Self DUTL Mic3'!B42","v":-1.046999999999997},{"$f":"'FR - Smoothed Self DUTL Mic4'!B42","v":-0.9889999999999901}]
[{"$f":"'FR - Smoothed DUTL Left'!A43","v":530},{"$f":"'FR - Smoothed DUTL Left'!B43","v":-0.35899999999999466},{"$f":"'FR - Smoothed DUTL Right'!B43","v":-0.4059999999999917},{"$f":"'FR - Smoothed DUTL Mic1'!B43","v":-0.012999999999991019},{"$f":"'FR - Smoothed DUTL Mic2'!B43","v":0.06199999999999761},{"$f":"'FR - Smoothed DUTL Mic3'!B43","v":-0.10099999999999909},{"$f":"'FR - Smoothed DUTL Mic4'!B43","v":-0.025000000000005684},{"$f":"'FR - Smoothed Self DUTL Mic1'!B43","v":-0.902000000000001},{"$f":"'FR - Smoothed Self DUTL Mic2'!B43","v":-0.9200000000000017},{"$f":"'FR - Smoothed Self DUTL Mic3'!B43","v":-0.953000000000003},{"$f":"'FR - Smoothed Self DUTL Mic4'!B43","v":-1.032999999999987}]
[{"$f":"'FR - Smoothed DUTL Left'!A44","v":560},{"$f":"'FR - Smoothed DUTL Left'!B44","v":-0.34600000000000364},{"$f":"'FR - Smoothed DUTL Right'!B44","v":-0.40800000000000125},{"$f":"'FR - Smoothed DUTL Mic1'!B44","v":-0.015000000000000568},{"$f":"'FR - Smoothed DUTL Mic2'!B44","v":0.06799999999999784},{"$f":"'FR - Smoothed DUTL Mic3'!B44","v":-0.1039999999999992},{"$f":"'FR - Smoothed DUTL Mic4'!B44","v":-0.02400000000000091},{"$f":"'FR - Smoothed Self DUTL Mic1'!B44","v":-0.6260000000000048},{"$f":"'FR - Smoothed Self DUTL Mic2'!B44","v":-0.777000000000001},{"$f":"'FR - Smoothed Self DUTL Mic3'!B44","v":-0.6170000000000044},{"$f":"'FR - Smoothed Self DUTL Mic4'!B44","v":-0.8179999999999978}]
[{"$f":"'FR - Smoothed DUTL Left'!A45","v":600},{"$f":"'FR - Smoothed DUTL Left'!B45","v":-0.36999999999999034},{"$f":"'FR - Smoothed DUTL Right'!B45","v":-0.4299999999999926},{"$f":"'FR - Smoothed DUTL Mic1'!B45","v":-0.02400000000000091},{"$f":"'FR - Smoothed DUTL Mic2'!B45","v":0.06900000000000261},{"$f":"'FR - Smoothed DUTL Mic3'!B45","v":-0.10999999999999943},{"$f":"'FR - Smoothed DUTL Mic4'!B45","v":-0.024999999999991473},{"$f":"'FR - Smoothed Self DUTL Mic1'!B45","v":-0.3019999999999925},{"$f":"'FR - Smoothed Self DUTL Mic2'!B45","v":-0.4680000000000035},{"$f":"'FR - Smoothed Self DUTL Mic3'!B45","v":-0.26300000000000523},{"$f":"'FR - Smoothed Self DUTL Mic4'!B45","v":-0.4380000000000024}]
[{"$f":"'FR - Smoothed DUTL Left'!A46","v":630},{"$f":"'FR - Smoothed DUTL Left'!B46","v":-0.4309999999999974},{"$f":"'FR - Smoothed DUTL Right'!B46","v":-0.45999999999999375},{"$f":"'FR - Smoothed DUTL Mic1'!B46","v":-0.031999999999996476},{"$f":"'FR - Smoothed DUTL Mic2'!B46","v":0.06599999999998829},{"$f":"'FR - Smoothed DUTL Mic3'!B46","v":-0.11599999999999966},{"$f":"'FR - Smoothed DUTL Mic4'!B46","v":-0.027000000000001023},{"$f":"'FR - Smoothed Self DUTL Mic1'!B46","v":-0.22100000000000364},{"$f":"'FR - Smoothed Self DUTL Mic2'!B46","v":-0.24399999999999977},{"$f":"'FR - Smoothed Self DUTL Mic3'!B46","v":-0.19200000000000728},{"$f":"'FR - Smoothed Self DUTL Mic4'!B46","v":-0.21099999999999852}]
[{"$f":"'FR - Smoothed DUTL Left'!A47","v":670},{"$f":"'FR - Smoothed DUTL Left'!B47","v":-0.4830000000000041},{"$f":"'FR - Smoothed DUTL Right'!B47","v":-0.4679999999999893},{"$f":"'FR - Smoothed DUTL Mic1'!B47","v":-0.03899999999998727},{"$f":"'FR - Smoothed DUTL Mic2'!B47","v":0.06099999999999284},{"$f":"'FR - Smoothed DUTL Mic3'!B47","v":-0.11899999999999977},{"$f":"'FR - Smoothed DUTL Mic4'!B47","v":-0.029000000000010573},{"$f":"'FR - Smoothed Self DUTL Mic1'!B47","v":-0.3149999999999977},{"$f":"'FR - Smoothed Self DUTL Mic2'!B47","v":-0.18999999999999773},{"$f":"'FR - Smoothed Self DUTL Mic3'!B47","v":-0.28000000000000114},{"$f":"'FR - Smoothed Self DUTL Mic4'!B47","v":-0.1910000000000025}]
[{"$f":"'FR - Smoothed DUTL Left'!A48","v":710},{"$f":"'FR - Smoothed DUTL Left'!B48","v":-0.49800000000000466},{"$f":"'FR - Smoothed DUTL Right'!B48","v":-0.458999999999989},{"$f":"'FR - Smoothed DUTL Mic1'!B48","v":-0.04100000000001103},{"$f":"'FR - Smoothed DUTL Mic2'!B48","v":0.05700000000000216},{"$f":"'FR - Smoothed DUTL Mic3'!B48","v":-0.11899999999999977},{"$f":"'FR - Smoothed DUTL Mic4'!B48","v":-0.030000000000001137},{"$f":"'FR - Smoothed Self DUTL Mic1'!B48","v":-0.37700000000000955},{"$f":"'FR - Smoothed Self DUTL Mic2'!B48","v":-0.14699999999999136},{"$f":"'FR - Smoothed Self DUTL Mic3'!B48","v":-0.367999999999995},{"$f":"'FR - Smoothed Self DUTL Mic4'!B48","v":-0.1939999999999884}]
[{"$f":"'FR - Smoothed DUTL Left'!A49","v":750},{"$f":"'FR - Smoothed DUTL Left'!B49","v":-0.5180000000000007},{"$f":"'FR - Smoothed DUTL Right'!B49","v":-0.44700000000000273},{"$f":"'FR - Smoothed DUTL Mic1'!B49","v":-0.0379999999999967},{"$f":"'FR - Smoothed DUTL Mic2'!B49","v":0.05299999999999727},{"$f":"'FR - Smoothed DUTL Mic3'!B49","v":-0.117999999999995},{"$f":"'FR - Smoothed DUTL Mic4'!B49","v":-0.03100000000000591},{"$f":"'FR - Smoothed Self DUTL Mic1'!B49","v":-0.3509999999999991},{"$f":"'FR - Smoothed Self DUTL Mic2'!B49","v":-0.07200000000000273},{"$f":"'FR - Smoothed Self DUTL Mic3'!B49","v":-0.4720000000000084},{"$f":"'FR - Smoothed Self DUTL Mic4'!B49","v":-0.19299999999999784}]
[{"$f":"'FR - Smoothed DUTL Left'!A50","v":800},{"$f":"'FR - Smoothed DUTL Left'!B50","v":-0.5300000000000011},{"$f":"'FR - Smoothed DUTL Right'!B50","v":-0.42900000000000205},{"$f":"'FR - Smoothed DUTL Mic1'!B50","v":-0.031999999999996476},{"$f":"'FR - Smoothed DUTL Mic2'!B50","v":0.05299999999999727},{"$f":"'FR - Smoothed DUTL Mic3'!B50","v":-0.11600000000001387},{"$f":"'FR - Smoothed DUTL Mic4'!B50","v":-0.029000000000010573},{"$f":"'FR - Smoothed Self DUTL Mic1'!B50","v":-0.2849999999999966},{"$f":"'FR - Smoothed Self DUTL Mic2'!B50","v":-0.03300000000000125},{"$f":"'FR - Smoothed Self DUTL Mic3'!B50","v":-0.6030000000000086},{"$f":"'FR - Smoothed Self DUTL Mic4'!B50","v":-0.242999999999995}]
[{"$f":"'FR - Smoothed DUTL Left'!A51","v":850},{"$f":"'FR - Smoothed DUTL Left'!B51","v":-0.4509999999999934},{"$f":"'FR - Smoothed DUTL Right'!B51","v":-0.3990000000000009},{"$f":"'FR - Smoothed DUTL Mic1'!B51","v":-0.03100000000000591},{"$f":"'FR - Smoothed DUTL Mic2'!B51","v":0.053999999999987836},{"$f":"'FR - Smoothed DUTL Mic3'!B51","v":-0.11399999999999011},{"$f":"'FR - Smoothed DUTL Mic4'!B51","v":-0.021000000000000796},{"$f":"'FR - Smoothed Self DUTL Mic1'!B51","v":-0.2510000000000048},{"$f":"'FR - Smoothed Self DUTL Mic2'!B51","v":-0.06100000000000705},{"$f":"'FR - Smoothed Self DUTL Mic3'!B51","v":-0.6650000000000063},{"$f":"'FR - Smoothed Self DUTL Mic4'!B51","v":-0.3359999999999985}]
[{"$f":"'FR - Smoothed DUTL Left'!A52","v":900},{"$f":"'FR - Smoothed DUTL Left'!B52","v":-0.41100000000000136},{"$f":"'FR - Smoothed DUTL Right'!B52","v":-0.367999999999995},{"$f":"'FR - Smoothed DUTL Mic1'!B52","v":-0.04099999999999682},{"$f":"'FR - Smoothed DUTL Mic2'!B52","v":0.0519999999999925},{"$f":"'FR - Smoothed DUTL Mic3'!B52","v":-0.11899999999999977},{"$f":"'FR - Smoothed DUTL Mic4'!B52","v":-0.016000000000005343},{"$f":"'FR - Smoothed Self DUTL Mic1'!B52","v":-0.27599999999999625},{"$f":"'FR - Smoothed Self DUTL Mic2'!B52","v":-0.13400000000000034},{"$f":"'FR - Smoothed Self DUTL Mic3'!B52","v":-0.6199999999999903},{"$f":"'FR - Smoothed Self DUTL Mic4'!B52","v":-0.3990000000000009}]
[{"$f":"'FR - Smoothed DUTL Left'!A53","v":950},{"$f":"'FR - Smoothed DUTL Left'!B53","v":-0.39799999999999613},{"$f":"'FR - Smoothed DUTL Right'!B53","v":-0.32200000000000273},{"$f":"'FR - Smoothed DUTL Mic1'!B53","v":-0.057999999999992724},{"$f":"'FR - Smoothed DUTL Mic2'!B53","v":0.04399999999999693},{"$f":"'FR - Smoothed DUTL Mic3'!B53","v":-0.14499999999999602},{"$f":"'FR - Smoothed DUTL Mic4'!B53","v":-0.023000000000010346},{"$f":"'FR - Smoothed Self DUTL Mic1'!B53","v":-0.3119999999999976},{"$f":"'FR - Smoothed Self DUTL Mic2'!B53","v":-0.21800000000000352},{"$f":"'FR - Smoothed Self DUTL Mic3'!B53","v":-0.5799999999999983},{"$f":"'FR - Smoothed Self DUTL Mic4'!B53","v":-0.43599999999999284}]
[{"$f":"'FR - Smoothed DUTL Left'!A54","v":1000},{"$f":"'FR - Smoothed DUTL Left'!B54","v":-0.34499999999999886},{"$f":"'FR - Smoothed DUTL Right'!B54","v":-0.25799999999999557},{"$f":"'FR - Smoothed DUTL Mic1'!B54","v":-0.0589999999999975},{"$f":"'FR - Smoothed DUTL Mic2'!B54","v":0.03300000000000125},{"$f":"'FR - Smoothed DUTL Mic3'!B54","v":-0.17399999999999238},{"$f":"'FR - Smoothed DUTL Mic4'!B54","v":-0.04399999999999693},{"$f":"'FR - Smoothed Self DUTL Mic1'!B54","v":-0.3089999999999975},{"$f":"'FR - Smoothed Self DUTL Mic2'!B54","v":-0.2609999999999957},{"$f":"'FR - Smoothed Self DUTL Mic3'!B54","v":-0.5409999999999968},{"$f":"'FR - Smoothed Self DUTL Mic4'!B54","v":-0.44199999999999307}]
[{"$f":"'FR - Smoothed DUTL Left'!A55","v":1060},{"$f":"'FR - Smoothed DUTL Left'!B55","v":-0.2749999999999915},{"$f":"'FR - Smoothed DUTL Right'!B55","v":-0.1909999999999883},{"$f":"'FR - Smoothed DUTL Mic1'!B55","v":-0.04399999999999693},{"$f":"'FR - Smoothed DUTL Mic2'!B55","v":0.036000000000001364},{"$f":"'FR - Smoothed DUTL Mic3'!B55","v":-0.17900000000000205},{"$f":"'FR - Smoothed DUTL Mic4'!B55","v":-0.07500000000000284},{"$f":"'FR - Smoothed Self DUTL Mic1'!B55","v":-0.2540000000000049},{"$f":"'FR - Smoothed Self DUTL Mic2'!B55","v":-0.22400000000000375},{"$f":"'FR - Smoothed Self DUTL Mic3'!B55","v":-0.4479999999999933},{"$f":"'FR - Smoothed Self DUTL Mic4'!B55","v":-0.382000000000005}]
[{"$f":"'FR - Smoothed DUTL Left'!A56","v":1120},{"$f":"'FR - Smoothed DUTL Left'!B56","v":-0.20600000000000307},{"$f":"'FR - Smoothed DUTL Right'!B56","v":-0.12099999999999511},{"$f":"'FR - Smoothed DUTL Mic1'!B56","v":-0.027999999999991587},{"$f":"'FR - Smoothed DUTL Mic2'!B56","v":0.04999999999999716},{"$f":"'FR - Smoothed DUTL Mic3'!B56","v":-0.1670000000000016},{"$f":"'FR - Smoothed DUTL Mic4'!B56","v":-0.08100000000000307},{"$f":"'FR - Smoothed Self DUTL Mic1'!B56","v":-0.17099999999999227},{"$f":"'FR - Smoothed Self DUTL Mic2'!B56","v":-0.13900000000001},{"$f":"'FR - Smoothed Self DUTL Mic3'!B56","v":-0.30999999999998806},{"$f":"'FR - Smoothed Self DUTL Mic4'!B56","v":-0.2960000000000065}]
[{"$f":"'FR - Smoothed DUTL Left'!A57","v":1180},{"$f":"'FR - Smoothed DUTL Left'!B57","v":-0.14300000000000068},{"$f":"'FR - Smoothed DUTL Right'!B57","v":-0.07099999999999795},{"$f":"'FR - Smoothed DUTL Mic1'!B57","v":-0.012000000000000455},{"$f":"'FR - Smoothed DUTL Mic2'!B57","v":0.06099999999999284},{"$f":"'FR - Smoothed DUTL Mic3'!B57","v":-0.1489999999999867},{"$f":"'FR - Smoothed DUTL Mic4'!B57","v":-0.06499999999999773},{"$f":"'FR - Smoothed Self DUTL Mic1'!B57","v":-0.12399999999999523},{"$f":"'FR - Smoothed Self DUTL Mic2'!B57","v":-0.14800000000001035},{"$f":"'FR - Smoothed Self DUTL Mic3'!B57","v":-0.2049999999999983},{"$f":"'FR - Smoothed Self DUTL Mic4'!B57","v":-0.23400000000000887}]
[{"$f":"'FR - Smoothed DUTL Left'!A58","v":1250},{"$f":"'FR - Smoothed DUTL Left'!B58","v":-0.12199999999999989},{"$f":"'FR - Smoothed DUTL Right'!B58","v":-0.01300000000000523},{"$f":"'FR - Smoothed DUTL Mic1'!B58","v":1.0000000000047748E-3},{"$f":"'FR - Smoothed DUTL Mic2'!B58","v":0.07099999999999795},{"$f":"'FR - Smoothed DUTL Mic3'!B58","v":-0.12599999999999056},{"$f":"'FR - Smoothed DUTL Mic4'!B58","v":-0.05299999999999727},{"$f":"'FR - Smoothed Self DUTL Mic1'!B58","v":-0.0870000000000033},{"$f":"'FR - Smoothed Self DUTL Mic2'!B58","v":-0.3580000000000041},{"$f":"'FR - Smoothed Self DUTL Mic3'!B58","v":-0.1460000000000008},{"$f":"'FR - Smoothed Self DUTL Mic4'!B58","v":-0.15399999999999636}]
[{"$f":"'FR - Smoothed DUTL Left'!A59","v":1320},{"$f":"'FR - Smoothed DUTL Left'!B59","v":-0.07099999999999795},{"$f":"'FR - Smoothed DUTL Right'!B59","v":0.09199999999999875},{"$f":"'FR - Smoothed DUTL Mic1'!B59","v":0.009000000000000341},{"$f":"'FR - Smoothed DUTL Mic2'!B59","v":0.07799999999998875},{"$f":"'FR - Smoothed DUTL Mic3'!B59","v":-0.10699999999999932},{"$f":"'FR - Smoothed DUTL Mic4'!B59","v":-0.05000000000001137},{"$f":"'FR - Smoothed Self DUTL Mic1'!B59","v":0.17500000000001137},{"$f":"'FR - Smoothed Self DUTL Mic2'!B59","v":-0.6089999999999947},{"$f":"'FR - Smoothed Self DUTL Mic3'!B59","v":0.1280000000000001},{"$f":"'FR - Smoothed Self DUTL Mic4'!B59","v":0.16100000000000136}]
[{"$f":"'FR - Smoothed DUTL Left'!A60","v":1400},{"$f":"'FR - Smoothed DUTL Left'!B60","v":0.01999999999999602},{"$f":"'FR - Smoothed DUTL Right'!B60","v":0.19299999999999784},{"$f":"'FR - Smoothed DUTL Mic1'!B60","v":0},{"$f":"'FR - Smoothed DUTL Mic2'!B60","v":0.07500000000000284},{"$f":"'FR - Smoothed DUTL Mic3'!B60","v":-0.10299999999999443},{"$f":"'FR - Smoothed DUTL Mic4'!B60","v":-0.060000000000002274},{"$f":"'FR - Smoothed Self DUTL Mic1'!B60","v":0.9159999999999968},{"$f":"'FR - Smoothed Self DUTL Mic2'!B60","v":-0.5619999999999976},{"$f":"'FR - Smoothed Self DUTL Mic3'!B60","v":0.6800000000000068},{"$f":"'FR - Smoothed Self DUTL Mic4'!B60","v":0.9269999999999925}]
[{"$f":"'FR - Smoothed DUTL Left'!A61","v":1500},{"$f":"'FR - Smoothed DUTL Left'!B61","v":0.10099999999999909},{"$f":"'FR - Smoothed DUTL Right'!B61","v":0.30299999999999727},{"$f":"'FR - Smoothed DUTL Mic1'!B61","v":-0.030000000000001137},{"$f":"'FR - Smoothed DUTL Mic2'!B61","v":0.06200000000001182},{"$f":"'FR - Smoothed DUTL Mic3'!B61","v":-0.12699999999999534},{"$f":"'FR - Smoothed DUTL Mic4'!B61","v":-0.0759999999999934},{"$f":"'FR - Smoothed Self DUTL Mic1'!B61","v":1.4569999999999936},{"$f":"'FR - Smoothed Self DUTL Mic2'!B61","v":0.16599999999999682},{"$f":"'FR - Smoothed Self DUTL Mic3'!B61","v":0.9449999999999932},{"$f":"'FR - Smoothed Self DUTL Mic4'!B61","v":1.237000000000009}]
[{"$f":"'FR - Smoothed DUTL Left'!A62","v":1600},{"$f":"'FR - Smoothed DUTL Left'!B62","v":0.1349999999999909},{"$f":"'FR - Smoothed DUTL Right'!B62","v":0.42199999999999704},{"$f":"'FR - Smoothed DUTL Mic1'!B62","v":-0.03999999999999204},{"$f":"'FR - Smoothed DUTL Mic2'!B62","v":0.053999999999987836},{"$f":"'FR - Smoothed DUTL Mic3'!B62","v":-0.1490000000000009},{"$f":"'FR - Smoothed DUTL Mic4'!B62","v":-0.0870000000000033},{"$f":"'FR - Smoothed Self DUTL Mic1'!B62","v":1.0390000000000015},{"$f":"'FR - Smoothed Self DUTL Mic2'!B62","v":0.5489999999999924},{"$f":"'FR - Smoothed Self DUTL Mic3'!B62","v":0.8430000000000035},{"$f":"'FR - Smoothed Self DUTL Mic4'!B62","v":0.8329999999999984}]
[{"$f":"'FR - Smoothed DUTL Left'!A63","v":1700},{"$f":"'FR - Smoothed DUTL Left'!B63","v":0.08100000000000307},{"$f":"'FR - Smoothed DUTL Right'!B63","v":0.5940000000000083},{"$f":"'FR - Smoothed DUTL Mic1'!B63","v":-0.027000000000001023},{"$f":"'FR - Smoothed DUTL Mic2'!B63","v":0.06199999999999761},{"$f":"'FR - Smoothed DUTL Mic3'!B63","v":-0.1490000000000009},{"$f":"'FR - Smoothed DUTL Mic4'!B63","v":-0.08299999999999841},{"$f":"'FR - Smoothed Self DUTL Mic1'!B63","v":0.30299999999999727},{"$f":"'FR - Smoothed Self DUTL Mic2'!B63","v":-0.033999999999991815},{"$f":"'FR - Smoothed Self DUTL Mic3'!B63","v":0.6599999999999966},{"$f":"'FR - Smoothed Self DUTL Mic4'!B63","v":0.5669999999999931}]
[{"$f":"'FR - Smoothed DUTL Left'!A64","v":1800},{"$f":"'FR - Smoothed DUTL Left'!B64","v":0.02200000000000557},{"$f":"'FR - Smoothed DUTL Right'!B64","v":0.8239999999999981},{"$f":"'FR - Smoothed DUTL Mic1'!B64","v":-0.022999999999996135},{"$f":"'FR - Smoothed DUTL Mic2'!B64","v":0.07200000000000273},{"$f":"'FR - Smoothed DUTL Mic3'!B64","v":-0.1490000000000009},{"$f":"'FR - Smoothed DUTL Mic4'!B64","v":-0.0660000000000025},{"$f":"'FR - Smoothed Self DUTL Mic1'!B64","v":-0.24400000000001398},{"$f":"'FR - Smoothed Self DUTL Mic2'!B64","v":-0.367999999999995},{"$f":"'FR - Smoothed Self DUTL Mic3'!B64","v":0.6869999999999976},{"$f":"'FR - Smoothed Self DUTL Mic4'!B64","v":0.6640000000000015}]
[{"$f":"'FR - Smoothed DUTL Left'!A65","v":1900},{"$f":"'FR - Smoothed DUTL Left'!B65","v":0.020000000000010232},{"$f":"'FR - Smoothed DUTL Right'!B65","v":1.0049999999999955},{"$f":"'FR - Smoothed DUTL Mic1'!B65","v":-0.027999999999991587},{"$f":"'FR - Smoothed DUTL Mic2'!B65","v":0.07500000000000284},{"$f":"'FR - Smoothed DUTL Mic3'!B65","v":-0.15099999999999625},{"$f":"'FR - Smoothed DUTL Mic4'!B65","v":-0.045000000000001705},{"$f":"'FR - Smoothed Self DUTL Mic1'!B65","v":-0.5090000000000003},{"$f":"'FR - Smoothed Self DUTL Mic2'!B65","v":-0.4239999999999924},{"$f":"'FR - Smoothed Self DUTL Mic3'!B65","v":0.8359999999999985},{"$f":"'FR - Smoothed Self DUTL Mic4'!B65","v":0.8140000000000072}]
[{"$f":"'FR - Smoothed DUTL Left'!A66","v":2000},{"$f":"'FR - Smoothed DUTL Left'!B66","v":0.007000000000005002},{"$f":"'FR - Smoothed DUTL Right'!B66","v":1.1110000000000042},{"$f":"'FR - Smoothed DUTL Mic1'!B66","v":-0.036000000000001364},{"$f":"'FR - Smoothed DUTL Mic2'!B66","v":0.07000000000000739},{"$f":"'FR - Smoothed DUTL Mic3'!B66","v":-0.15399999999999636},{"$f":"'FR - Smoothed DUTL Mic4'!B66","v":-0.031999999999996476},{"$f":"'FR - Smoothed Self DUTL Mic1'!B66","v":-0.5939999999999941},{"$f":"'FR - Smoothed Self DUTL Mic2'!B66","v":-0.39800000000001035},{"$f":"'FR - Smoothed Self DUTL Mic3'!B66","v":0.8810000000000002},{"$f":"'FR - Smoothed Self DUTL Mic4'!B66","v":0.8289999999999935}]
[{"$f":"'FR - Smoothed DUTL Left'!A67","v":2120},{"$f":"'FR - Smoothed DUTL Left'!B67","v":-0.028000000000005798},{"$f":"'FR - Smoothed DUTL Right'!B67","v":1.1749999999999972},{"$f":"'FR - Smoothed DUTL Mic1'!B67","v":-0.04200000000000159},{"$f":"'FR - Smoothed DUTL Mic2'!B67","v":0.060000000000002274},{"$f":"'FR - Smoothed DUTL Mic3'!B67","v":-0.1559999999999917},{"$f":"'FR - Smoothed DUTL Mic4'!B67","v":-0.03100000000000591},{"$f":"'FR - Smoothed Self DUTL Mic1'!B67","v":-0.5969999999999942},{"$f":"'FR - Smoothed Self DUTL Mic2'!B67","v":-0.28899999999998727},{"$f":"'FR - Smoothed Self DUTL Mic3'!B67","v":0.8250000000000028},{"$f":"'FR - Smoothed Self DUTL Mic4'!B67","v":0.7940000000000111}]
[{"$f":"'FR - Smoothed DUTL Left'!A68","v":2240},{"$f":"'FR - Smoothed DUTL Left'!B68","v":-0.11299999999999955},{"$f":"'FR - Smoothed DUTL Right'!B68","v":1.2779999999999916},{"$f":"'FR - Smoothed DUTL Mic1'!B68","v":-0.046999999999997044},{"$f":"'FR - Smoothed DUTL Mic2'!B68","v":0.05099999999998772},{"$f":"'FR - Smoothed DUTL Mic3'!B68","v":-0.15699999999999648},{"$f":"'FR - Smoothed DUTL Mic4'!B68","v":-0.03300000000000125},{"$f":"'FR - Smoothed Self DUTL Mic1'!B68","v":-0.4439999999999884},{"$f":"'FR - Smoothed Self DUTL Mic2'!B68","v":-0.023000000000010346},{"$f":"'FR - Smoothed Self DUTL Mic3'!B68","v":0.737000000000009},{"$f":"'FR - Smoothed Self DUTL Mic4'!B68","v":0.8019999999999925}]
[{"$f":"'FR - Smoothed DUTL Left'!A69","v":2360},{"$f":"'FR - Smoothed DUTL Left'!B69","v":-0.41100000000000136},{"$f":"'FR - Smoothed DUTL Right'!B69","v":1.3430000000000035},{"$f":"'FR - Smoothed DUTL Mic1'!B69","v":-0.054000000000002046},{"$f":"'FR - Smoothed DUTL Mic2'!B69","v":0.045000000000001705},{"$f":"'FR - Smoothed DUTL Mic3'!B69","v":-0.1599999999999966},{"$f":"'FR - Smoothed DUTL Mic4'!B69","v":-0.031999999999996476},{"$f":"'FR - Smoothed Self DUTL Mic1'!B69","v":-0.006000000000000227},{"$f":"'FR - Smoothed Self DUTL Mic2'!B69","v":0.2360000000000042},{"$f":"'FR - Smoothed Self DUTL Mic3'!B69","v":0.7309999999999945},{"$f":"'FR - Smoothed Self DUTL Mic4'!B69","v":1.007000000000005}]
[{"$f":"'FR - Smoothed DUTL Left'!A70","v":2500},{"$f":"'FR - Smoothed DUTL Left'!B70","v":-1.3390000000000128},{"$f":"'FR - Smoothed DUTL Right'!B70","v":1.051000000000002},{"$f":"'FR - Smoothed DUTL Mic1'!B70","v":-0.05100000000000193},{"$f":"'FR - Smoothed DUTL Mic2'!B70","v":0.043000000000006366},{"$f":"'FR - Smoothed DUTL Mic3'!B70","v":-0.16199999999999193},{"$f":"'FR - Smoothed DUTL Mic4'!B70","v":-0.02199999999999136},{"$f":"'FR - Smoothed Self DUTL Mic1'!B70","v":0.6659999999999968},{"$f":"'FR - Smoothed Self DUTL Mic2'!B70","v":0.028000000000005798},{"$f":"'FR - Smoothed Self DUTL Mic3'!B70","v":0.8440000000000083},{"$f":"'FR - Smoothed Self DUTL Mic4'!B70","v":1.3399999999999892}]
[{"$f":"'FR - Smoothed DUTL Left'!A71","v":2650},{"$f":"'FR - Smoothed DUTL Left'!B71","v":-0.8149999999999977},{"$f":"'FR - Smoothed DUTL Right'!B71","v":0.5859999999999985},{"$f":"'FR - Smoothed DUTL Mic1'!B71","v":-0.02400000000000091},{"$f":"'FR - Smoothed DUTL Mic2'!B71","v":0.05500000000000682},{"$f":"'FR - Smoothed DUTL Mic3'!B71","v":-0.1460000000000008},{"$f":"'FR - Smoothed DUTL Mic4'!B71","v":-4.9999999999954525E-3},{"$f":"'FR - Smoothed Self DUTL Mic1'!B71","v":1.0530000000000044},{"$f":"'FR - Smoothed Self DUTL Mic2'!B71","v":-0.31400000000000716},{"$f":"'FR - Smoothed Self DUTL Mic3'!B71","v":0.9080000000000013},{"$f":"'FR - Smoothed Self DUTL Mic4'!B71","v":1.2569999999999908}]
[{"$f":"'FR - Smoothed DUTL Left'!A72","v":2800},{"$f":"'FR - Smoothed DUTL Left'!B72","v":-0.38299999999999557},{"$f":"'FR - Smoothed DUTL Right'!B72","v":0.3470000000000084},{"$f":"'FR - Smoothed DUTL Mic1'!B72","v":-0.02400000000000091},{"$f":"'FR - Smoothed DUTL Mic2'!B72","v":0.07099999999999795},{"$f":"'FR - Smoothed DUTL Mic3'!B72","v":-0.13500000000000512},{"$f":"'FR - Smoothed DUTL Mic4'!B72","v":0.019000000000005457},{"$f":"'FR - Smoothed Self DUTL Mic1'!B72","v":0.3230000000000004},{"$f":"'FR - Smoothed Self DUTL Mic2'!B72","v":-0.2989999999999924},{"$f":"'FR - Smoothed Self DUTL Mic3'!B72","v":0.757000000000005},{"$f":"'FR - Smoothed Self DUTL Mic4'!B72","v":0.965999999999994}]
[{"$f":"'FR - Smoothed DUTL Left'!A73","v":3000},{"$f":"'FR - Smoothed DUTL Left'!B73","v":-0.12599999999999056},{"$f":"'FR - Smoothed DUTL Right'!B73","v":0.2469999999999999},{"$f":"'FR - Smoothed DUTL Mic1'!B73","v":-0.0379999999999967},{"$f":"'FR - Smoothed DUTL Mic2'!B73","v":0.08199999999999363},{"$f":"'FR - Smoothed DUTL Mic3'!B73","v":-0.132000000000005},{"$f":"'FR - Smoothed DUTL Mic4'!B73","v":0.001999999999995339},{"$f":"'FR - Smoothed Self DUTL Mic1'!B73","v":-0.2220000000000013},{"$f":"'FR - Smoothed Self DUTL Mic2'!B73","v":-0.04600000000000648},{"$f":"'FR - Smoothed Self DUTL Mic3'!B73","v":0.46000000000000796},{"$f":"'FR - Smoothed Self DUTL Mic4'!B73","v":0.6499999999999915}]
[{"$f":"'FR - Smoothed DUTL Left'!A74","v":3150},{"$f":"'FR - Smoothed DUTL Left'!B74","v":0.3230000000000075},{"$f":"'FR - Smoothed DUTL Right'!B74","v":0.1280000000000001},{"$f":"'FR - Smoothed DUTL Mic1'!B74","v":-0.04599999999999227},{"$f":"'FR - Smoothed DUTL Mic2'!B74","v":0.09099999999999397},{"$f":"'FR - Smoothed DUTL Mic3'!B74","v":-0.12699999999999534},{"$f":"'FR - Smoothed DUTL Mic4'!B74","v":-0.05700000000000216},{"$f":"'FR - Smoothed Self DUTL Mic1'!B74","v":0.32800000000000296},{"$f":"'FR - Smoothed Self DUTL Mic2'!B74","v":0.1559999999999988},{"$f":"'FR - Smoothed Self DUTL Mic3'!B74","v":0.25799999999999557},{"$f":"'FR - Smoothed Self DUTL Mic4'!B74","v":0.3340000000000032}]
[{"$f":"'FR - Smoothed DUTL Left'!A75","v":3350},{"$f":"'FR - Smoothed DUTL Left'!B75","v":0.5750000000000028},{"$f":"'FR - Smoothed DUTL Right'!B75","v":-0.009000000000000341},{"$f":"'FR - Smoothed DUTL Mic1'!B75","v":-0.04400000000001114},{"$f":"'FR - Smoothed DUTL Mic2'!B75","v":0.09600000000000364},{"$f":"'FR - Smoothed DUTL Mic3'!B75","v":-0.11499999999999488},{"$f":"'FR - Smoothed DUTL Mic4'!B75","v":-0.0730000000000075},{"$f":"'FR - Smoothed Self DUTL Mic1'!B75","v":1.0279999999999987},{"$f":"'FR - Smoothed Self DUTL Mic2'!B75","v":0.28699999999999903},{"$f":"'FR - Smoothed Self DUTL Mic3'!B75","v":0.14200000000001012},{"$f":"'FR - Smoothed Self DUTL Mic4'!B75","v":0.14400000000000546}]
[{"$f":"'FR - Smoothed DUTL Left'!A76","v":3550},{"$f":"'FR - Smoothed DUTL Left'!B76","v":0.7180000000000035},{"$f":"'FR - Smoothed DUTL Right'!B76","v":-0.20699999999999363},{"$f":"'FR - Smoothed DUTL Mic1'!B76","v":-0.038000000000010914},{"$f":"'FR - Smoothed DUTL Mic2'!B76","v":0.08899999999999864},{"$f":"'FR - Smoothed DUTL Mic3'!B76","v":-0.0940000000000083},{"$f":"'FR - Smoothed DUTL Mic4'!B76","v":-0.03900000000000148},{"$f":"'FR - Smoothed Self DUTL Mic1'!B76","v":1.2309999999999945},{"$f":"'FR - Smoothed Self DUTL Mic2'!B76","v":0.4819999999999993},{"$f":"'FR - Smoothed Self DUTL Mic3'!B76","v":0.0870000000000033},{"$f":"'FR - Smoothed Self DUTL Mic4'!B76","v":0.14000000000000057}]
[{"$f":"'FR - Smoothed DUTL Left'!A77","v":3750},{"$f":"'FR - Smoothed DUTL Left'!B77","v":0.902000000000001},{"$f":"'FR - Smoothed DUTL Right'!B77","v":-0.32399999999999807},{"$f":"'FR - Smoothed DUTL Mic1'!B77","v":-0.03499999999999659},{"$f":"'FR - Smoothed DUTL Mic2'!B77","v":0.0799999999999983},{"$f":"'FR - Smoothed DUTL Mic3'!B77","v":-0.07200000000000273},{"$f":"'FR - Smoothed DUTL Mic4'!B77","v":-4.9999999999954525E-3},{"$f":"'FR - Smoothed Self DUTL Mic1'!B77","v":1.0900000000000034},{"$f":"'FR - Smoothed Self DUTL Mic2'!B77","v":0.7070000000000007},{"$f":"'FR - Smoothed Self DUTL Mic3'!B77","v":-0.030000000000001137},{"$f":"'FR - Smoothed Self DUTL Mic4'!B77","v":0.13599999999999568}]
[{"$f":"'FR - Smoothed DUTL Left'!A78","v":4000},{"$f":"'FR - Smoothed DUTL Left'!B78","v":0.9520000000000124},{"$f":"'FR - Smoothed DUTL Right'!B78","v":-0.2599999999999909},{"$f":"'FR - Smoothed DUTL Mic1'!B78","v":-0.04200000000000159},{"$f":"'FR - Smoothed DUTL Mic2'!B78","v":0.0730000000000075},{"$f":"'FR - Smoothed DUTL Mic3'!B78","v":-0.06900000000000261},{"$f":"'FR - Smoothed DUTL Mic4'!B78","v":0.006000000000000227},{"$f":"'FR - Smoothed Self DUTL Mic1'!B78","v":0.8619999999999948},{"$f":"'FR - Smoothed Self DUTL Mic2'!B78","v":0.9000000000000057},{"$f":"'FR - Smoothed Self DUTL Mic3'!B78","v":-0.09399999999999409},{"$f":"'FR - Smoothed Self DUTL Mic4'!B78","v":0.12600000000000477}]
[{"$f":"'FR - Smoothed DUTL Left'!A79","v":4250},{"$f":"'FR - Smoothed DUTL Left'!B79","v":0.8320000000000078},{"$f":"'FR - Smoothed DUTL Right'!B79","v":-0.14499999999999602},{"$f":"'FR - Smoothed DUTL Mic1'!B79","v":-0.05200000000000671},{"$f":"'FR - Smoothed DUTL Mic2'!B79","v":0.06400000000000716},{"$f":"'FR - Smoothed DUTL Mic3'!B79","v":-0.10800000000000409},{"$f":"'FR - Smoothed DUTL Mic4'!B79","v":0.001999999999995339},{"$f":"'FR - Smoothed Self DUTL Mic1'!B79","v":0.6289999999999907},{"$f":"'FR - Smoothed Self DUTL Mic2'!B79","v":0.8870000000000005},{"$f":"'FR - Smoothed Self DUTL Mic3'!B79","v":-0.021000000000000796},{"$f":"'FR - Smoothed Self DUTL Mic4'!B79","v":0.14099999999999113}]
[{"$f":"'FR - Smoothed DUTL Left'!A80","v":4500},{"$f":"'FR - Smoothed DUTL Left'!B80","v":0.7740000000000009},{"$f":"'FR - Smoothed DUTL Right'!B80","v":-0.0730000000000075},{"$f":"'FR - Smoothed DUTL Mic1'!B80","v":-0.03900000000000148},{"$f":"'FR - Smoothed DUTL Mic2'!B80","v":0.054000000000002046},{"$f":"'FR - Smoothed DUTL Mic3'!B80","v":-0.14500000000001023},{"$f":"'FR - Smoothed DUTL Mic4'!B80","v":0},{"$f":"'FR - Smoothed Self DUTL Mic1'!B80","v":0.5820000000000078},{"$f":"'FR - Smoothed Self DUTL Mic2'!B80","v":0.8810000000000002},{"$f":"'FR - Smoothed Self DUTL Mic3'!B80","v":0.06400000000000716},{"$f":"'FR - Smoothed Self DUTL Mic4'!B80","v":0.15000000000000568}]
[{"$f":"'FR - Smoothed DUTL Left'!A81","v":4750},{"$f":"'FR - Smoothed DUTL Left'!B81","v":0.7289999999999992},{"$f":"'FR - Smoothed DUTL Right'!B81","v":0.021000000000000796},{"$f":"'FR - Smoothed DUTL Mic1'!B81","v":-0.036000000000001364},{"$f":"'FR - Smoothed DUTL Mic2'!B81","v":0.055999999999997385},{"$f":"'FR - Smoothed DUTL Mic3'!B81","v":-0.14799999999999613},{"$f":"'FR - Smoothed DUTL Mic4'!B81","v":-3.0000000000001137E-3},{"$f":"'FR - Smoothed Self DUTL Mic1'!B81","v":0.7530000000000001},{"$f":"'FR - Smoothed Self DUTL Mic2'!B81","v":0.9059999999999917},{"$f":"'FR - Smoothed Self DUTL Mic3'!B81","v":0.23499999999999943},{"$f":"'FR - Smoothed Self DUTL Mic4'!B81","v":0.17799999999999727}]
[{"$f":"'FR - Smoothed DUTL Left'!A82","v":5000},{"$f":"'FR - Smoothed DUTL Left'!B82","v":0.7169999999999987},{"$f":"'FR - Smoothed DUTL Right'!B82","v":0.0799999999999983},{"$f":"'FR - Smoothed DUTL Mic1'!B82","v":-0.04999999999999716},{"$f":"'FR - Smoothed DUTL Mic2'!B82","v":0.06500000000001194},{"$f":"'FR - Smoothed DUTL Mic3'!B82","v":-0.14000000000000057},{"$f":"'FR - Smoothed DUTL Mic4'!B82","v":-0.024999999999991473},{"$f":"'FR - Smoothed Self DUTL Mic1'!B82","v":0.9579999999999984},{"$f":"'FR - Smoothed Self DUTL Mic2'!B82","v":0.9099999999999966},{"$f":"'FR - Smoothed Self DUTL Mic3'!B82","v":0.527000000000001},{"$f":"'FR - Smoothed Self DUTL Mic4'!B82","v":0.25200000000000955}]
[{"$f":"'FR - Smoothed DUTL Left'!A83","v":5300},{"$f":"'FR - Smoothed DUTL Left'!B83","v":0.7209999999999894},{"$f":"'FR - Smoothed DUTL Right'!B83","v":-0.001999999999995339},{"$f":"'FR - Smoothed DUTL Mic1'!B83","v":-0.060000000000002274},{"$f":"'FR - Smoothed DUTL Mic2'!B83","v":0.049000000000006594},{"$f":"'FR - Smoothed DUTL Mic3'!B83","v":-0.125},{"$f":"'FR - Smoothed DUTL Mic4'!B83","v":-0.049000000000006594},{"$f":"'FR - Smoothed Self DUTL Mic1'!B83","v":0.9930000000000092},{"$f":"'FR - Smoothed Self DUTL Mic2'!B83","v":0.8560000000000088},{"$f":"'FR - Smoothed Self DUTL Mic3'!B83","v":0.7759999999999962},{"$f":"'FR - Smoothed Self DUTL Mic4'!B83","v":0.3359999999999985}]
[{"$f":"'FR - Smoothed DUTL Left'!A84","v":5600},{"$f":"'FR - Smoothed DUTL Left'!B84","v":0.7409999999999997},{"$f":"'FR - Smoothed DUTL Right'!B84","v":-0.08100000000000307},{"$f":"'FR - Smoothed DUTL Mic1'!B84","v":-0.06199999999999761},{"$f":"'FR - Smoothed DUTL Mic2'!B84","v":0.03499999999999659},{"$f":"'FR - Smoothed DUTL Mic3'!B84","v":-0.1039999999999992},{"$f":"'FR - Smoothed DUTL Mic4'!B84","v":-0.05500000000000682},{"$f":"'FR - Smoothed Self DUTL Mic1'!B84","v":0.8640000000000043},{"$f":"'FR - Smoothed Self DUTL Mic2'!B84","v":0.7360000000000042},{"$f":"'FR - Smoothed Self DUTL Mic3'!B84","v":0.8619999999999948},{"$f":"'FR - Smoothed Self DUTL Mic4'!B84","v":0.42199999999999704}]
[{"$f":"'FR - Smoothed DUTL Left'!A85","v":6000},{"$f":"'FR - Smoothed DUTL Left'!B85","v":0.8190000000000026},{"$f":"'FR - Smoothed DUTL Right'!B85","v":-0.0940000000000083},{"$f":"'FR - Smoothed DUTL Mic1'!B85","v":-0.04600000000000648},{"$f":"'FR - Smoothed DUTL Mic2'!B85","v":0.030000000000001137},{"$f":"'FR - Smoothed DUTL Mic3'!B85","v":-0.10000000000000853},{"$f":"'FR - Smoothed DUTL Mic4'!B85","v":-0.049000000000006594},{"$f":"'FR - Smoothed Self DUTL Mic1'!B85","v":0.7780000000000058},{"$f":"'FR - Smoothed Self DUTL Mic2'!B85","v":0.5300000000000011},{"$f":"'FR - Smoothed Self DUTL Mic3'!B85","v":0.929000000000002},{"$f":"'FR - Smoothed Self DUTL Mic4'!B85","v":0.4280000000000115}]
[{"$f":"'FR - Smoothed DUTL Left'!A86","v":6300},{"$f":"'FR - Smoothed DUTL Left'!B86","v":0.9120000000000061},{"$f":"'FR - Smoothed DUTL Right'!B86","v":-0.022999999999996135},{"$f":"'FR - Smoothed DUTL Mic1'!B86","v":-0.016000000000005343},{"$f":"'FR - Smoothed DUTL Mic2'!B86","v":0.036000000000001364},{"$f":"'FR - Smoothed DUTL Mic3'!B86","v":-0.1530000000000058},{"$f":"'FR - Smoothed DUTL Mic4'!B86","v":-0.034000000000006025},{"$f":"'FR - Smoothed Self DUTL Mic1'!B86","v":0.8159999999999883},{"$f":"'FR - Smoothed Self DUTL Mic2'!B86","v":0.37699999999999534},{"$f":"'FR - Smoothed Self DUTL Mic3'!B86","v":1.0889999999999986},{"$f":"'FR - Smoothed Self DUTL Mic4'!B86","v":0.340999999999994}]
[{"$f":"'FR - Smoothed DUTL Left'!A87","v":6700},{"$f":"'FR - Smoothed DUTL Left'!B87","v":1.0079999999999956},{"$f":"'FR - Smoothed DUTL Right'!B87","v":0.13599999999999568},{"$f":"'FR - Smoothed DUTL Mic1'!B87","v":-0.028999999999996362},{"$f":"'FR - Smoothed DUTL Mic2'!B87","v":0.05200000000000671},{"$f":"'FR - Smoothed DUTL Mic3'!B87","v":-0.18600000000000705},{"$f":"'FR - Smoothed DUTL Mic4'!B87","v":-0.01100000000000989},{"$f":"'FR - Smoothed Self DUTL Mic1'!B87","v":0.6189999999999998},{"$f":"'FR - Smoothed Self DUTL Mic2'!B87","v":0.6340000000000003},{"$f":"'FR - Smoothed Self DUTL Mic3'!B87","v":1.2510000000000048},{"$f":"'FR - Smoothed Self DUTL Mic4'!B87","v":0.612000000000009}]
[{"$f":"'FR - Smoothed DUTL Left'!A88","v":7100},{"$f":"'FR - Smoothed DUTL Left'!B88","v":1.0160000000000053},{"$f":"'FR - Smoothed DUTL Right'!B88","v":0.2890000000000015},{"$f":"'FR - Smoothed DUTL Mic1'!B88","v":-0.06900000000000261},{"$f":"'FR - Smoothed DUTL Mic2'!B88","v":0.10999999999999943},{"$f":"'FR - Smoothed DUTL Mic3'!B88","v":-0.16100000000000136},{"$f":"'FR - Smoothed DUTL Mic4'!B88","v":0.005000000000009663},{"$f":"'FR - Smoothed Self DUTL Mic1'!B88","v":-0.000999999999990564},{"$f":"'FR - Smoothed Self DUTL Mic2'!B88","v":0.9450000000000074},{"$f":"'FR - Smoothed Self DUTL Mic3'!B88","v":0.9780000000000086},{"$f":"'FR - Smoothed Self DUTL Mic4'!B88","v":1.4339999999999975}]
[{"$f":"'FR - Smoothed DUTL Left'!A89","v":7500},{"$f":"'FR - Smoothed DUTL Left'!B89","v":0.936000000000007},{"$f":"'FR - Smoothed DUTL Right'!B89","v":0.3649999999999949},{"$f":"'FR - Smoothed DUTL Mic1'!B89","v":-0.11099999999999},{"$f":"'FR - Smoothed DUTL Mic2'!B89","v":0.17199999999999704},{"$f":"'FR - Smoothed DUTL Mic3'!B89","v":-0.12399999999999523},{"$f":"'FR - Smoothed DUTL Mic4'!B89","v":0.017000000000010118},{"$f":"'FR - Smoothed Self DUTL Mic1'!B89","v":-0.5109999999999957},{"$f":"'FR - Smoothed Self DUTL Mic2'!B89","v":0.8370000000000033},{"$f":"'FR - Smoothed Self DUTL Mic3'!B89","v":0.3539999999999992},{"$f":"'FR - Smoothed Self DUTL Mic4'!B89","v":1.7909999999999968}]
[{"$f":"'FR - Smoothed DUTL Left'!A90","v":8000},{"$f":"'FR - Smoothed DUTL Left'!B90","v":0.855000000000004},{"$f":"'FR - Smoothed DUTL Right'!B90","v":0.30800000000000693},{"$f":"'FR - Smoothed DUTL Mic1'!B90","v":-0.09599999999998943},{"$f":"'FR - Smoothed DUTL Mic2'!B90","v":0.20199999999999818},{"$f":"'FR - Smoothed DUTL Mic3'!B90","v":-0.12700000000000955},{"$f":"'FR - Smoothed DUTL Mic4'!B90","v":0.02400000000000091},{"$f":"'FR - Smoothed Self DUTL Mic1'!B90","v":-0.6550000000000011},{"$f":"'FR - Smoothed Self DUTL Mic2'!B90","v":0.37000000000000455},{"$f":"'FR - Smoothed Self DUTL Mic3'!B90","v":3.0000000000001137E-3},{"$f":"'FR - Smoothed Self DUTL Mic4'!B90","v":1.0930000000000035}]
[{"$f":"'FR - Smoothed DUTL Left'!A91","v":8500},{"$f":"'FR - Smoothed DUTL Left'!B91","v":0.7689999999999912},{"$f":"'FR - Smoothed DUTL Right'!B91","v":0.2120000000000033},{"$f":"'FR - Smoothed DUTL Mic1'!B91","v":-0.027000000000001023},{"$f":"'FR - Smoothed DUTL Mic2'!B91","v":0.17099999999999227},{"$f":"'FR - Smoothed DUTL Mic3'!B91","v":-0.1559999999999917},{"$f":"'FR - Smoothed DUTL Mic4'!B91","v":-3.0000000000001137E-3},{"$f":"'FR - Smoothed Self DUTL Mic1'!B91","v":-0.5480000000000018},{"$f":"'FR - Smoothed Self DUTL Mic2'!B91","v":-0.07600000000000762},{"$f":"'FR - Smoothed Self DUTL Mic3'!B91","v":-0.1039999999999992},{"$f":"'FR - Smoothed Self DUTL Mic4'!B91","v":0.09900000000000375}]
[{"$f":"'FR - Smoothed DUTL Left'!A92","v":9000},{"$f":"'FR - Smoothed DUTL Left'!B92","v":0.722999999999999},{"$f":"'FR - Smoothed DUTL Right'!B92","v":0.27200000000000557},{"$f":"'FR - Smoothed DUTL Mic1'!B92","v":-3.0000000000001137E-3},{"$f":"'FR - Smoothed DUTL Mic2'!B92","v":0.04999999999999716},{"$f":"'FR - Smoothed DUTL Mic3'!B92","v":-0.17499999999999716},{"$f":"'FR - Smoothed DUTL Mic4'!B92","v":-0.09600000000000364},{"$f":"'FR - Smoothed Self DUTL Mic1'!B92","v":-0.277000000000001},{"$f":"'FR - Smoothed Self DUTL Mic2'!B92","v":-0.07500000000000284},{"$f":"'FR - Smoothed Self DUTL Mic3'!B92","v":-0.024999999999991473},{"$f":"'FR - Smoothed Self DUTL Mic4'!B92","v":-0.6340000000000003}]
[{"$f":"'FR - Smoothed DUTL Left'!A93","v":9500},{"$f":"'FR - Smoothed DUTL Left'!B93","v":0.7819999999999965},{"$f":"'FR - Smoothed DUTL Right'!B93","v":0.34900000000000375},{"$f":"'FR - Smoothed DUTL Mic1'!B93","v":-0.01099999999999568},{"$f":"'FR - Smoothed DUTL Mic2'!B93","v":0.006000000000000227},{"$f":"'FR - Smoothed DUTL Mic3'!B93","v":-0.1810000000000116},{"$f":"'FR - Smoothed DUTL Mic4'!B93","v":-0.17399999999999238},{"$f":"'FR - Smoothed Self DUTL Mic1'!B93","v":0.04100000000001103},{"$f":"'FR - Smoothed Self DUTL Mic2'!B93","v":0.12999999999999545},{"$f":"'FR - Smoothed Self DUTL Mic3'!B93","v":0.25900000000000034},{"$f":"'FR - Smoothed Self DUTL Mic4'!B93","v":-0.47400000000000375}]
[{"$f":"'FR - Smoothed DUTL Left'!A94","v":10000},{"$f":"'FR - Smoothed DUTL Left'!B94","v":0.7809999999999917},{"$f":"'FR - Smoothed DUTL Right'!B94","v":0.347999999999999},{"$f":"'FR - Smoothed DUTL Mic1'!B94","v":0.015000000000000568},{"$f":"'FR - Smoothed DUTL Mic2'!B94","v":0.06099999999999284},{"$f":"'FR - Smoothed DUTL Mic3'!B94","v":-0.15200000000000102},{"$f":"'FR - Smoothed DUTL Mic4'!B94","v":-0.2149999999999892},{"$f":"'FR - Smoothed Self DUTL Mic1'!B94","v":0.0969999999999942},{"$f":"'FR - Smoothed Self DUTL Mic2'!B94","v":0.05100000000000193},{"$f":"'FR - Smoothed Self DUTL Mic3'!B94","v":0.7120000000000033},{"$f":"'FR - Smoothed Self DUTL Mic4'!B94","v":0.12600000000000477}]
[{"$f":"'FR - Smoothed DUTL Left'!A95","v":10600},{"$f":"'FR - Smoothed DUTL Left'!B95","v":0.6559999999999917},{"$f":"'FR - Smoothed DUTL Right'!B95","v":0.29400000000001114},{"$f":"'FR - Smoothed DUTL Mic1'!B95","v":0.04200000000000159},{"$f":"'FR - Smoothed DUTL Mic2'!B95","v":0.14699999999999136},{"$f":"'FR - Smoothed DUTL Mic3'!B95","v":-0.1670000000000016},{"$f":"'FR - Smoothed DUTL Mic4'!B95","v":-0.2539999999999907},{"$f":"'FR - Smoothed Self DUTL Mic1'!B95","v":0.45999999999999375},{"$f":"'FR - Smoothed Self DUTL Mic2'!B95","v":0.15200000000000102},{"$f":"'FR - Smoothed Self DUTL Mic3'!B95","v":0.9370000000000118},{"$f":"'FR - Smoothed Self DUTL Mic4'!B95","v":0.882000000000005}]
[{"$f":"'FR - Smoothed DUTL Left'!A96","v":11200},{"$f":"'FR - Smoothed DUTL Left'!B96","v":0.6020000000000039},{"$f":"'FR - Smoothed DUTL Right'!B96","v":0.22299999999999898},{"$f":"'FR - Smoothed DUTL Mic1'!B96","v":0.027000000000001023},{"$f":"'FR - Smoothed DUTL Mic2'!B96","v":0.14000000000000057},{"$f":"'FR - Smoothed DUTL Mic3'!B96","v":-0.2009999999999934},{"$f":"'FR - Smoothed DUTL Mic4'!B96","v":-0.22499999999999432},{"$f":"'FR - Smoothed Self DUTL Mic1'!B96","v":1.4609999999999985},{"$f":"'FR - Smoothed Self DUTL Mic2'!B96","v":0.47800000000000864},{"$f":"'FR - Smoothed Self DUTL Mic3'!B96","v":1.0370000000000061},{"$f":"'FR - Smoothed Self DUTL Mic4'!B96","v":0.9099999999999966}]
[{"$f":"'FR - Smoothed DUTL Left'!A97","v":11800},{"$f":"'FR - Smoothed DUTL Left'!B97","v":0.5740000000000123},{"$f":"'FR - Smoothed DUTL Right'!B97","v":0.034000000000006025},{"$f":"'FR - Smoothed DUTL Mic1'!B97","v":-0.018000000000000682},{"$f":"'FR - Smoothed DUTL Mic2'!B97","v":0.08299999999999841},{"$f":"'FR - Smoothed DUTL Mic3'!B97","v":-0.2079999999999984},{"$f":"'FR - Smoothed DUTL Mic4'!B97","v":-0.19599999999999795},{"$f":"'FR - Smoothed Self DUTL Mic1'!B97","v":1.6209999999999951},{"$f":"'FR - Smoothed Self DUTL Mic2'!B97","v":0.22900000000001342},{"$f":"'FR - Smoothed Self DUTL Mic3'!B97","v":1.4939999999999998},{"$f":"'FR - Smoothed Self DUTL Mic4'!B97","v":-0.05299999999999727}]
[{"$f":"'FR - Smoothed DUTL Left'!A98","v":12500},{"$f":"'FR - Smoothed DUTL Left'!B98","v":0.5669999999999931},{"$f":"'FR - Smoothed DUTL Right'!B98","v":-0.1150000000000091},{"$f":"'FR - Smoothed DUTL Mic1'!B98","v":-0.031999999999996476},{"$f":"'FR - Smoothed DUTL Mic2'!B98","v":-0.007999999999995566},{"$f":"'FR - Smoothed DUTL Mic3'!B98","v":-0.23000000000000398},{"$f":"'FR - Smoothed DUTL Mic4'!B98","v":-0.2150000000000034},{"$f":"'FR - Smoothed Self DUTL Mic1'!B98","v":0.9609999999999985},{"$f":"'FR - Smoothed Self DUTL Mic2'!B98","v":-0.6169999999999902},{"$f":"'FR - Smoothed Self DUTL Mic3'!B98","v":1.6910000000000025},{"$f":"'FR - Smoothed Self DUTL Mic4'!B98","v":-0.9919999999999902}]
[{"$f":"'FR - Smoothed DUTL Left'!A99","v":13200},{"$f":"'FR - Smoothed DUTL Left'!B99","v":0.5890000000000128},{"$f":"'FR - Smoothed DUTL Right'!B99","v":-0.12699999999999534},{"$f":"'FR - Smoothed DUTL Mic1'!B99","v":-0.0870000000000033},{"$f":"'FR - Smoothed DUTL Mic2'!B99","v":-0.09000000000000341},{"$f":"'FR - Smoothed DUTL Mic3'!B99","v":-0.24099999999999966},{"$f":"'FR - Smoothed DUTL Mic4'!B99","v":-0.27599999999999625},{"$f":"'FR - Smoothed Self DUTL Mic1'!B99","v":0.34199999999999875},{"$f":"'FR - Smoothed Self DUTL Mic2'!B99","v":-1.1329999999999956},{"$f":"'FR - Smoothed Self DUTL Mic3'!B99","v":1.311000000000007},{"$f":"'FR - Smoothed Self DUTL Mic4'!B99","v":-1.3969999999999914}]
[{"$f":"'FR - Smoothed DUTL Left'!A100","v":14000},{"$f":"'FR - Smoothed DUTL Left'!B100","v":0.6550000000000011},{"$f":"'FR - Smoothed DUTL Right'!B100","v":-0.021000000000000796},{"$f":"'FR - Smoothed DUTL Mic1'!B100","v":-0.18299999999999272},{"$f":"'FR - Smoothed DUTL Mic2'!B100","v":-0.19199999999999307},{"$f":"'FR - Smoothed DUTL Mic3'!B100","v":-0.27599999999999625},{"$f":"'FR - Smoothed DUTL Mic4'!B100","v":-0.3020000000000067},{"$f":"'FR - Smoothed Self DUTL Mic1'!B100","v":-0.034000000000006025},{"$f":"'FR - Smoothed Self DUTL Mic2'!B100","v":-1.2999999999999972},{"$f":"'FR - Smoothed Self DUTL Mic3'!B100","v":0.6139999999999901},{"$f":"'FR - Smoothed Self DUTL Mic4'!B100","v":-1.2449999999999903}]
[{"$f":"'FR - Smoothed DUTL Left'!A101","v":15000},{"$f":"'FR - Smoothed DUTL Left'!B101","v":0.7250000000000085},{"$f":"'FR - Smoothed DUTL Right'!B101","v":0.27299999999999613},{"$f":"'FR - Smoothed DUTL Mic1'!B101","v":-0.20199999999999818},{"$f":"'FR - Smoothed DUTL Mic2'!B101","v":-0.26200000000000045},{"$f":"'FR - Smoothed DUTL Mic3'!B101","v":-0.3269999999999982},{"$f":"'FR - Smoothed DUTL Mic4'!B101","v":-0.27199999999999136},{"$f":"'FR - Smoothed Self DUTL Mic1'!B101","v":-0.08500000000000796},{"$f":"'FR - Smoothed Self DUTL Mic2'!B101","v":-1.4680000000000035},{"$f":"'FR - Smoothed Self DUTL Mic3'!B101","v":-0.23999999999999488},{"$f":"'FR - Smoothed Self DUTL Mic4'!B101","v":-0.9599999999999937}]
[{"$f":"'FR - Smoothed DUTL Left'!A102","v":16000},{"$f":"'FR - Smoothed DUTL Left'!B102","v":0.6349999999999909},{"$f":"'FR - Smoothed DUTL Right'!B102","v":0.20999999999999375},{"$f":"'FR - Smoothed DUTL Mic1'!B102","v":-0.17499999999999716},{"$f":"'FR - Smoothed DUTL Mic2'!B102","v":-0.25500000000000966},{"$f":"'FR - Smoothed DUTL Mic3'!B102","v":-0.3329999999999984},{"$f":"'FR - Smoothed DUTL Mic4'!B102","v":-0.15799999999998704},{"$f":"'FR - Smoothed Self DUTL Mic1'!B102","v":0.07600000000000762},{"$f":"'FR - Smoothed Self DUTL Mic2'!B102","v":-1.7120000000000033},{"$f":"'FR - Smoothed Self DUTL Mic3'!B102","v":-0.7830000000000013},{"$f":"'FR - Smoothed Self DUTL Mic4'!B102","v":-0.8500000000000085}]
[{"$f":"'FR - Smoothed DUTL Left'!A103","v":17000},{"$f":"'FR - Smoothed DUTL Left'!B103","v":0.6290000000000049},{"$f":"'FR - Smoothed DUTL Right'!B103","v":0.057999999999992724},{"$f":"'FR - Smoothed DUTL Mic1'!B103","v":-0.11299999999999955},{"$f":"'FR - Smoothed DUTL Mic2'!B103","v":-0.2190000000000083},{"$f":"'FR - Smoothed DUTL Mic3'!B103","v":-0.257000000000005},{"$f":"'FR - Smoothed DUTL Mic4'!B103","v":-0.031999999999996476},{"$f":"'FR - Smoothed Self DUTL Mic1'!B103","v":0.0759999999999934},{"$f":"'FR - Smoothed Self DUTL Mic2'!B103","v":-1.668999999999997},{"$f":"'FR - Smoothed Self DUTL Mic3'!B103","v":-0.9129999999999967},{"$f":"'FR - Smoothed Self DUTL Mic4'!B103","v":-0.7949999999999875}]
[{"$f":"'FR - Smoothed DUTL Left'!A104","v":18000},{"$f":"'FR - Smoothed DUTL Left'!B104","v":0.6340000000000003},{"$f":"'FR - Smoothed DUTL Right'!B104","v":-0.06099999999999284},{"$f":"'FR - Smoothed DUTL Mic1'!B104","v":-0.05300000000001148},{"$f":"'FR - Smoothed DUTL Mic2'!B104","v":-0.17399999999999238},{"$f":"'FR - Smoothed DUTL Mic3'!B104","v":-0.13599999999999568},{"$f":"'FR - Smoothed DUTL Mic4'!B104","v":0.08599999999999852},{"$f":"'FR - Smoothed Self DUTL Mic1'!B104","v":-0.12000000000000455},{"$f":"'FR - Smoothed Self DUTL Mic2'!B104","v":-1.3419999999999987},{"$f":"'FR - Smoothed Self DUTL Mic3'!B104","v":-0.9080000000000013},{"$f":"'FR - Smoothed Self DUTL Mic4'!B104","v":-0.7189999999999941}]
[{"$f":"'FR - Smoothed DUTL Left'!A105","v":19000},{"$f":"'FR - Smoothed DUTL Left'!B105","v":0.5010000000000048},{"$f":"'FR - Smoothed DUTL Right'!B105","v":-0.4300000000000068},{"$f":"'FR - Smoothed DUTL Mic1'!B105","v":-0.01099999999999568},{"$f":"'FR - Smoothed DUTL Mic2'!B105","v":-0.11599999999999966},{"$f":"'FR - Smoothed DUTL Mic3'!B105","v":-3.0000000000001137E-3},{"$f":"'FR - Smoothed DUTL Mic4'!B105","v":0.20600000000000307},{"$f":"'FR - Smoothed Self DUTL Mic1'!B105","v":-0.42099999999999227},{"$f":"'FR - Smoothed Self DUTL Mic2'!B105","v":-0.8109999999999928},{"$f":"'FR - Smoothed Self DUTL Mic3'!B105","v":-0.8080000000000069},{"$f":"'FR - Smoothed Self DUTL Mic4'!B105","v":-0.6599999999999966}]
[{"$f":"'FR - Smoothed DUTL Left'!A106","v":20000},{"$f":"'FR - Smoothed DUTL Left'!B106","v":0.4860000000000042},{"$f":"'FR - Smoothed DUTL Right'!B106","v":-0.7690000000000055},{"$f":"'FR - Smoothed DUTL Mic1'!B106","v":0.027000000000001023},{"$f":"'FR - Smoothed DUTL Mic2'!B106","v":-0.02200000000000557},{"$f":"'FR - Smoothed DUTL Mic3'!B106","v":0.11400000000000432},{"$f":"'FR - Smoothed DUTL Mic4'!B106","v":0.3089999999999975},{"$f":"'FR - Smoothed Self DUTL Mic1'!B106","v":-0.9480000000000075},{"$f":"'FR - Smoothed Self DUTL Mic2'!B106","v":-0.046999999999997044},{"$f":"'FR - Smoothed Self DUTL Mic3'!B106","v":-0.6840000000000117},{"$f":"'FR - Smoothed Self DUTL Mic4'!B106","v":-0.7749999999999915}]
[{"$f":"'FR - Smoothed DUTL Left'!A107","v":21200},{"$f":"'FR - Smoothed DUTL Left'!B107","v":-3.171999999999997},{"$f":"'FR - Smoothed DUTL Right'!B107","v":-4.445999999999998},{"$f":"'FR - Smoothed DUTL Mic1'!B107","v":0.01099999999999568},{"$f":"'FR - Smoothed DUTL Mic2'!B107","v":0.132000000000005},{"$f":"'FR - Smoothed DUTL Mic3'!B107","v":0.2609999999999957},{"$f":"'FR - Smoothed DUTL Mic4'!B107","v":0.34900000000000375},{"$f":"'FR - Smoothed Self DUTL Mic1'!B107","v":-5.570999999999998},{"$f":"'FR - Smoothed Self DUTL Mic2'!B107","v":-4.534999999999997},{"$f":"'FR - Smoothed Self DUTL Mic3'!B107","v":-4.701000000000008},{"$f":"'FR - Smoothed Self DUTL Mic4'!B107","v":-6.618999999999993}]
[{"$f":"'FR - Smoothed DUTL Left'!A108","v":22400},{"$f":"'FR - Smoothed DUTL Left'!B108","v":-7.370999999999995},{"$f":"'FR - Smoothed DUTL Right'!B108","v":-7.788000000000004},{"$f":"'FR - Smoothed DUTL Mic1'!B108","v":0.10699999999999932},{"$f":"'FR - Smoothed DUTL Mic2'!B108","v":0.4340000000000117},{"$f":"'FR - Smoothed DUTL Mic3'!B108","v":-0.2189999999999941},{"$f":"'FR - Smoothed DUTL Mic4'!B108","v":0.5420000000000016},{"$f":"'FR - Smoothed Self DUTL Mic1'!B108","v":-960.655},{"$f":"'FR - Smoothed Self DUTL Mic2'!B108","v":-953.7130000000001},{"$f":"'FR - Smoothed Self DUTL Mic3'!B108","v":-941.862},{"$f":"'FR - Smoothed Self DUTL Mic4'!B108","v":-959.1550000000001}]

{"sheet":"From Labview","index":3,"n_rows":108,"n_cols":40,"rows_kept":108}
["Frequency","FR - Smoothed DUTL Left(Pre-Delta)","FR - Smoothed DUTL Left(Post-Delta)","FR - Smoothed DUTL Left(Post - Pre)","Frequency","FR - Smoothed DUTL Right(Pre-Delta)","FR - Smoothed DUTL Right(Post-Delta)","FR - Smoothed DUTL Right(Post - Pre)","Frequency","FR - Smoothed DUTL Mic1(Pre-Delta)","FR - Smoothed DUTL Mic1(Post-Delta)","FR - Smoothed DUTL Mic1(Post - Pre)","Frequency","FR - Smoothed DUTL Mic2(Pre-Delta)","FR - Smoothed DUTL Mic2(Post-Delta)","FR - Smoothed DUTL Mic2(Post - Pre)","Frequency","FR - Smoothed DUTL Mic3(Pre-Delta)","FR - Smoothed DUTL Mic3(Post-Delta)","FR - Smoothed DUTL Mic3(Post - Pre)","Frequency","FR - Smoothed DUTL Mic4(Pre-Delta)","FR - Smoothed DUTL Mic4(Post-Delta)","FR - Smoothed DUTL Mic4(Post - Pre)","Frequency","FR - Smoothed Self DUTL Mic1(Pre-Delta)","FR - Smoothed Self DUTL Mic1(Post-Delta)","FR - Smoothed Self DUTL Mic1(Post - Pre)","Frequency","FR - Smoothed Self DUTL Mic2(Pre-Delta)","FR - Smoothed Self DUTL Mic2(Post-Delta)","FR - Smoothed Self DUTL Mic2(Post - Pre)","Frequency","FR - Smoothed Self DUTL Mic3(Pre-Delta)","FR - Smoothed Self DUTL Mic3(Post-Delta)","FR - Smoothed Self DUTL Mic3(Post - Pre)","Frequency","FR - Smoothed Self DUTL Mic4(Pre-Delta)","FR - Smoothed Self DUTL Mic4(Post-Delta)","FR - Smoothed Self DUTL Mic4(Post - Pre)"]
[50,-0.284,-0.447,-0.163,50,-0.392,-0.345,0.047,50,-0.029,0.09,0.119,50,-0.03,0.099,0.129,50,-0.218,-0.103,0.115,50,-0.059,0.069,0.128,50,-0.204,0.022,0.226,50,-0.378,-0.114,0.264,50,-0.679,-0.398,0.281,50,-0.357,-0.099,0.258]
[53,-0.379,-0.19,0.189,53,-0.384,-0.181,0.203,53,-0.034,0.063,0.097,53,-0.031,0.084,0.115,53,-0.219,-0.118,0.101,53,-0.062,0.052,0.114,53,-0.144,0.132,0.276,53,-0.275,0.069,0.344,53,-0.526,-0.236,0.29,53,-0.27,0.056,0.326]
[56,-0.3,-0.061,0.239,56,-0.289,-0.058,0.231,56,-0.036,0.034,0.07,56,-0.029,0.073,0.102,56,-0.217,-0.127,0.09,56,-0.062,0.039,0.101,56,-0.074,0.23,0.304,56,-0.184,0.208,0.392,56,-0.416,-0.115,0.301,56,-0.19,0.177,0.367]
[60,-0.27,-0.008,0.262,60,-0.245,-0.008,0.237,60,-0.037,-0.024,0.013,60,-0.024,0.059,0.083,60,-0.212,-0.142,0.07,60,-0.061,0.019,0.08,60,-0.025,0.3,0.325,60,-0.125,0.309,0.434,60,-0.347,-0.031,0.316,60,-0.134,0.268,0.402]
[63,-0.232,0.009,0.241,63,-0.209,0.013,0.222,63,-0.031,-0.071,-0.04,63,-0.015,0.054,0.069,63,-0.201,-0.148,0.053,63,-0.054,0.008,0.062,63,0.021,0.296,0.275,63,-0.059,0.346,0.405,63,-0.288,-0.021,0.267,63,-0.074,0.292,0.366]
[67,-0.202,0.004,0.206,67,-0.191,0.006,0.197,67,-0.022,-0.086,-0.064,67,-2E-3,0.064,0.066,67,-0.187,-0.141,0.046,67,-0.045,0.011,0.056,67,0.05,0.218,0.168,67,0.005,0.294,0.289,67,-0.246,-0.08,0.166,67,-0.023,0.231,0.254]
[71,-0.18,-0.014,0.166,71,-0.187,-0.02,0.167,71,-0.014,-0.059,-0.045,71,0.013,0.072,0.059,71,-0.173,-0.134,0.039,71,-0.035,0.014,0.049,71,0.059,0.134,0.075,71,0.05,0.217,0.167,71,-0.223,-0.144,0.079,71,0.006,0.146,0.14]
[75,-0.165,-0.039,0.126,75,-0.189,-0.045,0.144,75,-0.01,-0.034,-0.024,75,0.02,0.06,0.04,75,-0.167,-0.143,0.024,75,-0.034,-0.004,0.03,75,0.054,0.077,0.023,75,0.073,0.159,0.086,75,-0.213,-0.184,0.029,75,0.015,0.08,0.065]
[80,-0.162,-0.057,0.105,80,-0.193,-0.067,0.126,80,-0.019,-0.04,-0.021,80,0.014,0.033,0.019,80,-0.174,-0.166,0.008,80,-0.046,-0.034,0.012,80,0.044,0.044,0,80,0.084,0.124,0.04,80,-0.209,-0.204,0.005,80,0.015,0.038,0.023]
[85,-0.169,-0.077,0.092,85,-0.19,-0.09,0.1,85,-0.033,-0.045,-0.012,85,0.01,0.018,0.008,85,-0.178,-0.178,0,85,-0.054,-0.052,2E-3,85,0.033,0.019,-0.014,85,0.093,0.106,0.013,85,-0.207,-0.22,-0.013,85,0.015,0.009,-0.006]
[90,-0.172,-0.107,0.065,90,-0.178,-0.12,0.058,90,-0.036,-0.039,-0.003,90,0.012,0.03,0.018,90,-0.173,-0.163,0.01,90,-0.054,-0.041,0.013,90,0.021,-0.005,-0.026,90,0.102,0.091,-0.011,90,-0.208,-0.24,-0.032,90,0.018,-0.018,-0.036]
[95,-0.195,-0.15,0.045,95,-0.185,-0.162,0.023,95,-0.042,-0.026,0.016,95,0.004,0.049,0.045,95,-0.179,-0.141,0.038,95,-0.064,-0.021,0.043,95,-0.013,-0.036,-0.023,95,0.092,0.079,-0.013,95,-0.235,-0.27,-0.035,95,0.003,-0.044,-0.047]
[100,-0.27,-0.231,0.039,100,-0.245,-0.227,0.018,100,-0.061,0.003,0.064,100,-0.018,0.072,0.09,100,-0.198,-0.119,0.079,100,-0.09,2E-3,0.092,100,-0.101,-0.078,0.023,100,0.017,0.065,0.048,100,-0.32,-0.313,0.007,100,-0.078,-0.075,0.003]
[106,-0.381,-0.349,0.032,106,-0.347,-0.305,0.042,106,-0.077,0.03,0.107,106,-0.034,0.087,0.121,106,-0.211,-0.11,0.101,106,-0.108,0.012,0.12,106,-0.243,-0.146,0.097,106,-0.153,0.02,0.173,106,-0.466,-0.387,0.079,106,-0.257,-0.137,0.12]
[112,-0.476,-0.442,0.034,112,-0.447,-0.352,0.095,112,-0.063,0.023,0.086,112,-0.016,0.074,0.09,112,-0.192,-0.128,0.064,112,-0.09,-0.006,0.084,112,-0.368,-0.232,0.136,112,-0.345,-0.078,0.267,112,-0.598,-0.476,0.122,112,-0.462,-0.251,0.211]
[118,-0.504,-0.452,0.052,118,-0.492,-0.338,0.154,118,-0.021,-0.007,0.014,118,0.031,0.036,0.005,118,-0.149,-0.161,-0.012,118,-0.046,-0.042,0.004,118,-0.401,-0.27,0.131,118,-0.43,-0.159,0.271,118,-0.641,-0.521,0.12,118,-0.569,-0.349,0.22]
[125,-0.434,-0.341,0.093,125,-0.457,-0.274,0.183,125,0.008,-0.037,-0.045,125,0.067,0.012,-0.055,125,-0.121,-0.17,-0.049,125,-0.017,-0.061,-0.044,125,-0.346,-0.222,0.124,125,-0.38,-0.113,0.267,125,-0.604,-0.493,0.111,125,-0.558,-0.343,0.215]
[132,-0.294,-0.11,0.184,132,-0.377,-0.173,0.204,132,-0.006,-0.033,-0.027,132,0.059,0.036,-0.023,132,-0.135,-0.138,-0.003,132,-0.032,-0.036,-0.004,132,-0.243,-0.112,0.131,132,-0.241,0.056,0.297,132,-0.532,-0.419,0.113,132,-0.477,-0.24,0.237]
[140,-0.191,0.109,0.3,140,-0.329,-0.071,0.258,140,-0.055,-0.009,0.046,140,0.009,0.075,0.066,140,-0.176,-0.104,0.072,140,-0.079,-0.004,0.075,140,-0.146,-2E-3,0.144,140,-0.097,0.207,0.304,140,-0.449,-0.306,0.143,140,-0.378,-0.111,0.267]
[150,-0.232,0.123,0.355,150,-0.357,-0.049,0.308,150,-0.094,-0.006,0.088,150,-0.034,0.075,0.109,150,-0.205,-0.107,0.098,150,-0.115,-0.009,0.106,150,-0.108,0.055,0.163,150,-0.053,0.178,0.231,150,-0.367,-0.133,0.234,150,-0.297,-1E-3,0.296]
[160,-0.4,-0.147,0.253,160,-0.447,-0.147,0.3,160,-0.097,-0.029,0.068,160,-0.037,0.049,0.086,160,-0.206,-0.135,0.071,160,-0.117,-0.038,0.079,160,-0.158,0.027,0.185,160,-0.149,-0.031,0.118,160,-0.304,0.051,0.355,160,-0.256,0.072,0.328]
[170,-0.575,-0.495,0.08,170,-0.55,-0.297,0.253,170,-0.083,-0.05,0.033,170,-0.022,0.033,0.055,170,-0.197,-0.152,0.045,170,-0.106,-0.055,0.051,170,-0.262,-0.064,0.198,170,-0.309,-0.265,0.044,170,-0.28,0.119,0.399,170,-0.251,0.048,0.299]
[180,-0.63,-0.605,0.025,180,-0.6,-0.43,0.17,180,-0.076,-0.04,0.036,180,-0.017,0.046,0.063,180,-0.194,-0.137,0.057,180,-0.104,-0.044,0.06,180,-0.346,-0.137,0.209,180,-0.415,-0.386,0.029,180,-0.289,0.031,0.32,180,-0.265,-0.096,0.169]
[190,-0.6,-0.523,0.077,190,-0.594,-0.499,0.095,190,-0.074,-0.02,0.054,190,-0.022,0.057,0.079,190,-0.192,-0.119,0.073,190,-0.108,-0.034,0.074,190,-0.381,-0.132,0.249,190,-0.444,-0.373,0.071,190,-0.325,-0.086,0.239,190,-0.297,-0.25,0.047]
[200,-0.569,-0.426,0.143,200,-0.573,-0.455,0.118,200,-0.074,-0.024,0.05,200,-0.02,0.05,0.07,200,-0.191,-0.126,0.065,200,-0.108,-0.041,0.067,200,-0.402,-0.095,0.307,200,-0.441,-0.313,0.128,200,-0.388,-0.16,0.228,200,-0.354,-0.338,0.016]
[212,-0.549,-0.343,0.206,212,-0.556,-0.355,0.201,212,-0.076,-0.036,0.04,212,-0.013,0.051,0.064,212,-0.192,-0.143,0.049,212,-0.107,-0.041,0.066,212,-0.431,-0.085,0.346,212,-0.429,-0.275,0.154,212,-0.468,-0.206,0.262,212,-0.413,-0.374,0.039]
[224,-0.543,-0.282,0.261,224,-0.551,-0.28,0.271,224,-0.077,-0.031,0.046,224,-0.011,0.066,0.077,224,-0.191,-0.137,0.054,224,-0.106,-0.028,0.078,224,-0.461,-0.094,0.367,224,-0.414,-0.233,0.181,224,-0.535,-0.224,0.311,224,-0.45,-0.35,0.1]
[236,-0.545,-0.215,0.33,236,-0.548,-0.213,0.335,236,-0.079,-0.017,0.062,236,-0.013,0.085,0.098,236,-0.19,-0.112,0.078,236,-0.109,-0.012,0.097,236,-0.481,-0.08,0.401,236,-0.403,-0.141,0.262,236,-0.574,-0.204,0.37,236,-0.465,-0.258,0.207]
[250,-0.551,-0.136,0.415,250,-0.546,-0.142,0.404,250,-0.079,-0.013,0.066,250,-0.013,0.092,0.105,250,-0.19,-0.101,0.089,250,-0.11,-0.009,0.101,250,-0.498,-0.044,0.454,250,-0.41,-0.026,0.384,250,-0.594,-0.165,0.429,250,-0.474,-0.142,0.332]
[265,-0.558,-0.073,0.485,265,-0.549,-0.09,0.459,265,-0.08,-0.019,0.061,265,-0.011,0.083,0.094,265,-0.189,-0.111,0.078,265,-0.109,-0.021,0.088,265,-0.517,-0.017,0.5,265,-0.429,0.056,0.485,265,-0.606,-0.135,0.471,265,-0.483,-0.056,0.427]
[280,-0.561,-0.044,0.517,280,-0.555,-0.068,0.487,280,-0.079,-0.025,0.054,280,-0.009,0.066,0.075,280,-0.187,-0.129,0.058,280,-0.107,-0.039,0.068,280,-0.534,-0.005,0.529,280,-0.448,0.092,0.54,280,-0.617,-0.126,0.491,280,-0.492,-0.018,0.474]
[300,-0.561,-0.044,0.517,300,-0.563,-0.054,0.509,300,-0.075,-0.027,0.048,300,-0.005,0.055,0.06,300,-0.184,-0.138,0.046,300,-0.104,-0.048,0.056,300,-0.547,-0.005,0.542,300,-0.461,0.1,0.561,300,-0.636,-0.137,0.499,300,-0.514,-0.024,0.49]
[315,-0.559,-0.066,0.493,315,-0.572,-0.06,0.512,315,-0.068,-0.027,0.041,315,2E-3,0.057,0.055,315,-0.179,-0.136,0.043,315,-0.098,-0.046,0.052,315,-0.559,-0.02,0.539,315,-0.475,0.087,0.562,315,-0.668,-0.173,0.495,315,-0.556,-0.069,0.487]
[335,-0.557,-0.108,0.449,335,-0.582,-0.11,0.472,335,-0.056,-0.023,0.033,335,0.013,0.062,0.049,335,-0.17,-0.134,0.036,335,-0.088,-0.042,0.046,335,-0.57,-0.059,0.511,335,-0.497,0.039,0.536,335,-0.697,-0.229,0.468,335,-0.606,-0.148,0.458]
[355,-0.559,-0.163,0.396,355,-0.59,-0.189,0.401,355,-0.044,-0.016,0.028,355,0.026,0.065,0.039,355,-0.159,-0.135,0.024,355,-0.076,-0.041,0.035,355,-0.554,-0.093,0.461,355,-0.498,-1E-3,0.497,355,-0.689,-0.266,0.423,355,-0.622,-0.196,0.426]
[375,-0.559,-0.218,0.341,375,-0.59,-0.272,0.318,375,-0.042,-0.011,0.031,375,0.031,0.069,0.038,375,-0.157,-0.137,0.02,375,-0.073,-0.039,0.034,375,-0.501,-0.102,0.399,375,-0.449,0.01,0.459,375,-0.638,-0.27,0.368,375,-0.575,-0.174,0.401]
[400,-0.557,-0.267,0.29,400,-0.59,-0.342,0.248,400,-0.052,-0.017,0.035,400,0.023,0.071,0.048,400,-0.167,-0.137,0.03,400,-0.083,-0.039,0.044,400,-0.451,-0.15,0.301,400,-0.387,0.013,0.4,400,-0.598,-0.32,0.278,400,-0.521,-0.174,0.347]
[425,-0.56,-0.321,0.239,425,-0.597,-0.395,0.202,425,-0.068,-0.035,0.033,425,0.01,0.066,0.056,425,-0.185,-0.144,0.041,425,-0.099,-0.045,0.054,425,-0.475,-0.307,0.168,425,-0.385,-0.092,0.293,425,-0.635,-0.477,0.158,425,-0.539,-0.292,0.247]
[450,-0.569,-0.377,0.192,450,-0.6,-0.435,0.165,450,-0.076,-0.058,0.018,450,0.004,0.052,0.048,450,-0.195,-0.159,0.036,450,-0.107,-0.06,0.047,450,-0.599,-0.554,0.045,450,-0.491,-0.319,0.172,450,-0.765,-0.711,0.054,450,-0.662,-0.521,0.141]
[475,-0.567,-0.402,0.165,475,-0.6,-0.442,0.158,475,-0.074,-0.071,0.003,475,0.009,0.038,0.029,475,-0.192,-0.159,0.033,475,-0.103,-0.064,0.039,475,-0.742,-0.807,-0.065,475,-0.65,-0.601,0.049,475,-0.9,-0.936,-0.036,475,-0.822,-0.784,0.038]
[500,-0.584,-0.386,0.198,500,-0.621,-0.419,0.202,500,-0.096,-0.046,0.05,500,-0.013,0.045,0.058,500,-0.196,-0.118,0.078,500,-0.118,-0.04,0.078,500,-0.769,-0.954,-0.185,500,-0.716,-0.834,-0.118,500,-0.907,-1.047,-0.14,500,-0.876,-0.989,-0.113]
[530,-0.625,-0.359,0.266,530,-0.643,-0.406,0.237,530,-0.12,-0.013,0.107,530,-0.047,0.062,0.109,530,-0.197,-0.101,0.096,530,-0.129,-0.025,0.104,530,-0.629,-0.902,-0.273,530,-0.597,-0.92,-0.323,530,-0.737,-0.953,-0.216,530,-0.73,-1.033,-0.303]
[560,-0.644,-0.346,0.298,560,-0.649,-0.408,0.241,560,-0.111,-0.015,0.096,560,-0.042,0.068,0.11,560,-0.19,-0.104,0.086,560,-0.121,-0.024,0.097,560,-0.435,-0.626,-0.191,560,-0.339,-0.777,-0.438,560,-0.512,-0.617,-0.105,560,-0.433,-0.818,-0.385]
[600,-0.659,-0.37,0.289,600,-0.648,-0.43,0.218,600,-0.099,-0.024,0.075,600,-0.029,0.069,0.098,600,-0.182,-0.11,0.072,600,-0.112,-0.025,0.087,600,-0.45,-0.302,0.148,600,-0.161,-0.468,-0.307,600,-0.51,-0.263,0.247,600,-0.246,-0.438,-0.192]
[630,-0.653,-0.431,0.222,630,-0.624,-0.46,0.164,630,-0.092,-0.032,0.06,630,-0.019,0.066,0.085,630,-0.178,-0.116,0.062,630,-0.105,-0.027,0.078,630,-0.692,-0.221,0.471,630,-0.276,-0.244,0.032,630,-0.713,-0.192,0.521,630,-0.375,-0.211,0.164]
[670,-0.608,-0.483,0.125,670,-0.591,-0.468,0.123,670,-0.09,-0.039,0.051,670,-0.015,0.061,0.076,670,-0.174,-0.119,0.055,670,-0.1,-0.029,0.071,670,-0.801,-0.315,0.486,670,-0.459,-0.19,0.269,670,-0.766,-0.28,0.486,670,-0.518,-0.191,0.327]
[710,-0.566,-0.498,0.068,710,-0.578,-0.459,0.119,710,-0.088,-0.041,0.047,710,-0.013,0.057,0.07,710,-0.17,-0.119,0.051,710,-0.099,-0.03,0.069,710,-0.691,-0.377,0.314,710,-0.448,-0.147,0.301,710,-0.651,-0.368,0.283,710,-0.451,-0.194,0.257]
[750,-0.549,-0.518,0.031,750,-0.581,-0.447,0.134,750,-0.081,-0.038,0.043,750,-0.016,0.053,0.069,750,-0.164,-0.118,0.046,750,-0.101,-0.031,0.07,750,-0.47,-0.351,0.119,750,-0.358,-0.072,0.286,750,-0.553,-0.472,0.081,750,-0.366,-0.193,0.173]
[800,-0.566,-0.53,0.036,800,-0.593,-0.429,0.164,800,-0.069,-0.032,0.037,800,-0.016,0.053,0.069,800,-0.154,-0.116,0.038,800,-0.101,-0.029,0.072,800,-0.305,-0.285,0.02,800,-0.325,-0.033,0.292,800,-0.595,-0.603,-0.008,800,-0.431,-0.243,0.188]
[850,-0.611,-0.451,0.16,850,-0.618,-0.399,0.219,850,-0.052,-0.031,0.021,850,-0.01,0.054,0.064,850,-0.14,-0.114,0.026,850,-0.09,-0.021,0.069,850,-0.351,-0.251,0.1,850,-0.386,-0.061,0.325,850,-0.756,-0.665,0.091,850,-0.617,-0.336,0.281]
[900,-0.644,-0.411,0.233,900,-0.648,-0.368,0.28,900,-0.039,-0.041,-2E-3,900,0.011,0.052,0.041,900,-0.13,-0.119,0.011,900,-0.062,-0.016,0.046,900,-0.525,-0.276,0.249,900,-0.501,-0.134,0.367,900,-0.86,-0.62,0.24,900,-0.753,-0.399,0.354]
[950,-0.654,-0.398,0.256,950,-0.684,-0.322,0.362,950,-0.045,-0.058,-0.013,950,0.043,0.044,1E-3,950,-0.151,-0.145,0.006,950,-0.031,-0.023,0.008,950,-0.625,-0.312,0.313,950,-0.601,-0.218,0.383,950,-0.866,-0.58,0.286,950,-0.792,-0.436,0.356]
[1000,-0.66,-0.345,0.315,1000,-0.701,-0.258,0.443,1000,-0.112,-0.059,0.053,1000,0.057,0.033,-0.024,1000,-0.216,-0.174,0.042,1000,-0.027,-0.044,-0.017,1000,-0.652,-0.309,0.343,1000,-0.661,-0.261,0.4,1000,-0.846,-0.541,0.305,1000,-0.797,-0.442,0.355]
[1060,-0.664,-0.275,0.389,1060,-0.694,-0.191,0.503,1060,-0.177,-0.044,0.133,1060,-0.024,0.036,0.06,1060,-0.284,-0.179,0.105,1060,-0.112,-0.075,0.037,1060,-0.65,-0.254,0.396,1060,-0.671,-0.224,0.447,1060,-0.811,-0.448,0.363,1060,-0.781,-0.382,0.399]
[1120,-0.67,-0.206,0.464,1120,-0.704,-0.121,0.583,1120,-0.189,-0.028,0.161,1120,-0.135,0.05,0.185,1120,-0.307,-0.167,0.14,1120,-0.231,-0.081,0.15,1120,-0.646,-0.171,0.475,1120,-0.658,-0.139,0.519,1120,-0.769,-0.31,0.459,1120,-0.775,-0.296,0.479]
[1180,-0.713,-0.143,0.57,1180,-0.719,-0.071,0.648,1180,-0.18,-0.012,0.168,1180,-0.146,0.061,0.207,1180,-0.294,-0.149,0.145,1180,-0.236,-0.065,0.171,1180,-0.687,-0.124,0.563,1180,-0.734,-0.148,0.586,1180,-0.769,-0.205,0.564,1180,-0.816,-0.234,0.582]
[1250,-0.744,-0.122,0.622,1250,-0.765,-0.013,0.752,1250,-0.162,1E-3,0.163,1250,-0.114,0.071,0.185,1250,-0.266,-0.126,0.14,1250,-0.206,-0.053,0.153,1250,-0.761,-0.087,0.674,1250,-0.948,-0.358,0.59,1250,-0.805,-0.146,0.659,1250,-0.865,-0.154,0.711]
[1320,-0.801,-0.071,0.73,1320,-0.83,0.092,0.922,1320,-0.137,0.009,0.146,1320,-0.072,0.078,0.15,1320,-0.232,-0.107,0.125,1320,-0.179,-0.05,0.129,1320,-0.67,0.175,0.845,1320,-1.134,-0.609,0.525,1320,-0.688,0.128,0.816,1320,-0.811,0.161,0.972]
[1400,-0.9,0.02,0.92,1400,-0.815,0.193,1.008,1400,-0.108,0,0.108,1400,-0.027,0.075,0.102,1400,-0.2,-0.103,0.097,1400,-0.155,-0.06,0.095,1400,-0.073,0.916,0.989,1400,-1.014,-0.562,0.452,1400,-0.308,0.68,0.988,1400,-0.511,0.927,1.438]
[1500,-0.951,0.101,1.052,1500,-0.719,0.303,1.022,1500,-0.084,-0.03,0.054,1500,0.01,0.062,0.052,1500,-0.19,-0.127,0.063,1500,-0.136,-0.076,0.06,1500,0.511,1.457,0.946,1500,-0.39,0.166,0.556,1500,-0.105,0.945,1.05,1500,-0.316,1.237,1.553]
[1600,-1.024,0.135,1.159,1600,-0.585,0.422,1.007,1600,-0.078,-0.04,0.038,1600,0.016,0.054,0.038,1600,-0.201,-0.149,0.052,1600,-0.132,-0.087,0.045,1600,0.216,1.039,0.823,1600,-0.274,0.549,0.823,1600,-0.163,0.843,1.006,1600,-0.465,0.833,1.298]
[1700,-1.063,0.081,1.144,1700,-0.374,0.594,0.968,1700,-0.072,-0.027,0.045,1700,1E-3,0.062,0.061,1700,-0.195,-0.149,0.046,1700,-0.132,-0.083,0.049,1700,-0.393,0.303,0.696,1700,-0.941,-0.034,0.907,1700,-0.16,0.66,0.82,1700,-0.415,0.567,0.982]
[1800,-0.966,0.022,0.988,1800,-0.077,0.824,0.901,1800,-0.05,-0.023,0.027,1800,-1E-3,0.072,0.073,1800,-0.164,-0.149,0.015,1800,-0.115,-0.066,0.049,1800,-0.832,-0.244,0.588,1800,-1.188,-0.368,0.82,1800,0.086,0.687,0.601,1800,-0.057,0.664,0.721]
[1900,-0.868,0.02,0.888,1900,0.154,1.005,0.851,1900,-0.025,-0.028,-0.003,1900,0.014,0.075,0.061,1900,-0.13,-0.151,-0.021,1900,-0.081,-0.045,0.036,1900,-1.08,-0.509,0.571,1900,-1.14,-0.424,0.716,1900,0.253,0.836,0.583,1900,0.214,0.814,0.6]
[2000,-0.824,0.007,0.831,2000,0.247,1.111,0.864,2000,-0.018,-0.036,-0.018,2000,0.036,0.07,0.034,2000,-0.121,-0.154,-0.033,2000,-0.045,-0.032,0.013,2000,-1.24,-0.594,0.646,2000,-1.03,-0.398,0.632,2000,0.19,0.881,0.691,2000,0.263,0.829,0.566]
[2120,-0.836,-0.028,0.808,2120,0.28,1.175,0.895,2120,-0.04,-0.042,-2E-3,2120,0.052,0.06,0.008,2120,-0.158,-0.156,2E-3,2120,-0.041,-0.031,0.01,2120,-1.325,-0.597,0.728,2120,-0.883,-0.289,0.594,2120,0.061,0.825,0.764,2120,0.171,0.794,0.623]
[2240,-0.925,-0.113,0.812,2240,0.364,1.278,0.914,2240,-0.076,-0.047,0.029,2240,0.051,0.051,0,2240,-0.215,-0.157,0.058,2240,-0.077,-0.033,0.044,2240,-1.206,-0.444,0.762,2240,-0.675,-0.023,0.652,2240,-2E-3,0.737,0.739,2240,-0.003,0.802,0.805]
[2360,-1.171,-0.411,0.76,2360,0.431,1.343,0.912,2360,-0.106,-0.054,0.052,2360,0.033,0.045,0.012,2360,-0.248,-0.16,0.088,2360,-0.119,-0.032,0.087,2360,-0.778,-0.006,0.772,2360,-0.515,0.236,0.751,2360,0.078,0.731,0.653,2360,-0.034,1.007,1.041]
[2500,-1.438,-1.339,0.099,2500,0.374,1.051,0.677,2500,-0.136,-0.051,0.085,2500,0.007,0.043,0.036,2500,-0.247,-0.162,0.085,2500,-0.134,-0.022,0.112,2500,-0.181,0.666,0.847,2500,-0.655,0.028,0.683,2500,0.132,0.844,0.712,2500,0.292,1.34,1.048]
[2650,-0.029,-0.815,-0.786,2650,0.295,0.586,0.291,2650,-0.175,-0.024,0.151,2650,-0.005,0.055,0.06,2650,-0.225,-0.146,0.079,2650,-0.109,-0.005,0.104,2650,0.041,1.053,1.012,2650,-0.816,-0.314,0.502,2650,0.029,0.908,0.879,2650,0.457,1.257,0.8]
[2800,0.538,-0.383,-0.921,2800,0.143,0.347,0.204,2800,-0.171,-0.024,0.147,2800,0.004,0.071,0.067,2800,-0.198,-0.135,0.063,2800,-0.061,0.019,0.08,2800,-0.449,0.323,0.772,2800,-0.695,-0.299,0.396,2800,0.058,0.757,0.699,2800,0.308,0.966,0.658]
[3000,0.544,-0.126,-0.67,3000,-0.042,0.247,0.289,3000,-0.136,-0.038,0.098,3000,1E-3,0.082,0.081,3000,-0.178,-0.132,0.046,3000,-0.056,2E-3,0.058,3000,-0.806,-0.222,0.584,3000,-0.37,-0.046,0.324,3000,-0.112,0.46,0.572,3000,-0.04,0.65,0.69]
[3150,0.484,0.323,-0.161,3150,-0.227,0.128,0.355,3150,-0.115,-0.046,0.069,3150,-0.02,0.091,0.111,3150,-0.173,-0.127,0.046,3150,-0.134,-0.057,0.077,3150,-0.481,0.328,0.809,3150,-0.012,0.156,0.168,3150,-0.35,0.258,0.608,3150,-0.549,0.334,0.883]
[3350,0.381,0.575,0.194,3350,-0.427,-0.009,0.418,3350,-0.112,-0.044,0.068,3350,-0.06,0.096,0.156,3350,-0.177,-0.115,0.062,3350,-0.194,-0.073,0.121,3350,0.343,1.028,0.685,3350,0.066,0.287,0.221,3350,-0.536,0.142,0.678,3350,-0.72,0.144,0.864]
[3550,0.415,0.718,0.303,3550,-0.619,-0.207,0.412,3550,-0.101,-0.038,0.063,3550,-0.074,0.089,0.163,3550,-0.178,-0.094,0.084,3550,-0.203,-0.039,0.164,3550,0.697,1.231,0.534,3550,-0.165,0.482,0.647,3550,-0.723,0.087,0.81,3550,-0.378,0.14,0.518]
[3750,0.384,0.902,0.518,3750,-0.713,-0.324,0.389,3750,-0.071,-0.035,0.036,3750,-0.041,0.08,0.121,3750,-0.173,-0.072,0.101,3750,-0.178,-0.005,0.173,3750,0.513,1.09,0.577,3750,-0.308,0.707,1.015,3750,-1.052,-0.03,1.022,3750,-0.152,0.136,0.288]
[4000,0.249,0.952,0.703,4000,-0.672,-0.26,0.412,4000,-0.025,-0.042,-0.017,4000,0.025,0.073,0.048,4000,-0.181,-0.069,0.112,4000,-0.131,0.006,0.137,4000,0.198,0.862,0.664,4000,-0.271,0.9,1.171,4000,-1.017,-0.094,0.923,4000,-0.203,0.126,0.329]
[4250,0.082,0.832,0.75,4250,-0.641,-0.145,0.496,4250,-0.006,-0.052,-0.046,4250,0.099,0.064,-0.035,4250,-0.213,-0.108,0.105,4250,-0.085,2E-3,0.087,4250,-0.157,0.629,0.786,4250,-0.148,0.887,1.035,4250,-0.777,-0.021,0.756,4250,-0.35,0.141,0.491]
[4500,0.008,0.774,0.766,4500,-0.642,-0.073,0.569,4500,-0.046,-0.039,0.007,4500,0.138,0.054,-0.084,4500,-0.284,-0.145,0.139,4500,-0.048,0,0.048,4500,-0.282,0.582,0.864,4500,-0.015,0.881,0.896,4500,-0.632,0.064,0.696,4500,-0.5,0.15,0.65]
[4750,-0.013,0.729,0.742,4750,-0.579,0.021,0.6,4750,-0.123,-0.036,0.087,4750,0.104,0.056,-0.048,4750,-0.315,-0.148,0.167,4750,-0.089,-0.003,0.086,4750,-0.071,0.753,0.824,4750,0.156,0.906,0.75,4750,-0.468,0.235,0.703,4750,-0.693,0.178,0.871]
[5000,0.003,0.717,0.714,5000,-0.537,0.08,0.617,5000,-0.173,-0.05,0.123,5000,-0.025,0.065,0.09,5000,-0.304,-0.14,0.164,5000,-0.154,-0.025,0.129,5000,0.24,0.958,0.718,5000,0.271,0.91,0.639,5000,-0.228,0.527,0.755,5000,-0.876,0.252,1.128]
[5300,0.097,0.721,0.624,5300,-0.569,-2E-3,0.567,5300,-0.169,-0.06,0.109,5300,-0.124,0.049,0.173,5300,-0.293,-0.125,0.168,5300,-0.147,-0.049,0.098,5300,0.39,0.993,0.603,5300,0.249,0.856,0.607,5300,0.036,0.776,0.74,5300,-0.921,0.336,1.257]
[5600,0.227,0.741,0.514,5600,-0.582,-0.081,0.501,5600,-0.149,-0.062,0.087,5600,-0.129,0.035,0.164,5600,-0.286,-0.104,0.182,5600,-0.147,-0.055,0.092,5600,0.367,0.864,0.497,5600,0.167,0.736,0.569,5600,0.235,0.862,0.627,5600,-0.622,0.422,1.044]
[6000,0.34,0.819,0.479,6000,-0.574,-0.094,0.48,6000,-0.178,-0.046,0.132,6000,-0.109,0.03,0.139,6000,-0.317,-0.1,0.217,6000,-0.171,-0.049,0.122,6000,0.352,0.778,0.426,6000,0.125,0.53,0.405,6000,0.419,0.929,0.51,6000,-0.18,0.428,0.608]
[6300,0.424,0.912,0.488,6300,-0.478,-0.023,0.455,6300,-0.26,-0.016,0.244,6300,-0.097,0.036,0.133,6300,-0.346,-0.153,0.193,6300,-0.226,-0.034,0.192,6300,0.367,0.816,0.449,6300,0.271,0.377,0.106,6300,0.687,1.089,0.402,6300,-0.119,0.341,0.46]
[6700,0.515,1.008,0.493,6700,-0.295,0.136,0.431,6700,-0.233,-0.029,0.204,6700,-0.118,0.052,0.17,6700,-0.277,-0.186,0.091,6700,-0.3,-0.011,0.289,6700,0.035,0.619,0.584,6700,0.748,0.634,-0.114,6700,1.152,1.251,0.099,6700,-0.085,0.612,0.697]
[7100,0.537,1.016,0.479,7100,-0.115,0.289,0.404,7100,-0.158,-0.069,0.089,7100,-0.189,0.11,0.299,7100,-0.219,-0.161,0.058,7100,-0.354,0.005,0.359,7100,-0.679,-1E-3,0.678,7100,1.087,0.945,-0.142,7100,1.459,0.978,-0.481,7100,0.183,1.434,1.251]
[7500,0.507,0.936,0.429,7500,-0.012,0.365,0.377,7500,-0.141,-0.111,0.03,7500,-0.237,0.172,0.409,7500,-0.231,-0.124,0.107,7500,-0.349,0.017,0.366,7500,-1.064,-0.511,0.553,7500,0.88,0.837,-0.043,7500,1.183,0.354,-0.829,7500,0.31,1.791,1.481]
[8000,0.495,0.855,0.36,8000,-0.056,0.308,0.364,8000,-0.222,-0.096,0.126,8000,-0.28,0.202,0.482,8000,-0.324,-0.127,0.197,8000,-0.306,0.024,0.33,8000,-1.037,-0.655,0.382,8000,0.293,0.37,0.077,8000,0.813,0.003,-0.81,8000,0.019,1.093,1.074]
[8500,0.481,0.769,0.288,8500,-0.136,0.212,0.348,8500,-0.253,-0.027,0.226,8500,-0.346,0.171,0.517,8500,-0.359,-0.156,0.203,8500,-0.233,-0.003,0.23,8500,-0.865,-0.548,0.317,8500,-0.254,-0.076,0.178,8500,0.569,-0.104,-0.673,8500,-0.477,0.099,0.576]
[9000,0.473,0.723,0.25,9000,-0.07,0.272,0.342,9000,-0.217,-0.003,0.214,9000,-0.308,0.05,0.358,9000,-0.349,-0.175,0.174,9000,-0.176,-0.096,0.08,9000,-0.554,-0.277,0.277,9000,-0.206,-0.075,0.131,9000,0.657,-0.025,-0.682,9000,-1.046,-0.634,0.412]
[9500,0.522,0.782,0.26,9500,0.021,0.349,0.328,9500,-0.257,-0.011,0.246,9500,-0.204,0.006,0.21,9500,-0.362,-0.181,0.181,9500,-0.228,-0.174,0.054,9500,-0.044,0.041,0.085,9500,0.201,0.13,-0.071,9500,0.599,0.259,-0.34,9500,-1.031,-0.474,0.557]
[10000,0.461,0.781,0.32,10000,-0.005,0.348,0.353,10000,-0.312,0.015,0.327,10000,-0.156,0.061,0.217,10000,-0.342,-0.152,0.19,10000,-0.318,-0.215,0.103,10000,0.314,0.097,-0.217,10000,0.375,0.051,-0.324,10000,-0.068,0.712,0.78,10000,-0.393,0.126,0.519]
[10600,0.302,0.656,0.354,10600,-0.123,0.294,0.417,10600,-0.252,0.042,0.294,10600,-0.067,0.147,0.214,10600,-0.276,-0.167,0.109,10600,-0.335,-0.254,0.081,10600,0.472,0.46,-0.012,10600,0.589,0.152,-0.437,10600,-0.938,0.937,1.875,10600,0.697,0.882,0.185]
[11200,0.217,0.602,0.385,11200,-0.257,0.223,0.48,11200,-0.21,0.027,0.237,11200,0.062,0.14,0.078,11200,-0.335,-0.201,0.134,11200,-0.292,-0.225,0.067,11200,0.579,1.461,0.882,11200,0.81,0.478,-0.332,11200,-1.254,1.037,2.291,11200,1.15,0.91,-0.24]
[11800,0.162,0.574,0.412,11800,-0.462,0.034,0.496,11800,-0.263,-0.018,0.245,11800,-0.023,0.083,0.106,11800,-0.443,-0.208,0.235,11800,-0.292,-0.196,0.096,11800,0.355,1.621,1.266,11800,0.542,0.229,-0.313,11800,-0.819,1.494,2.313,11800,0.009,-0.053,-0.062]
[12500,0.202,0.567,0.365,12500,-0.557,-0.115,0.442,12500,-0.368,-0.032,0.336,12500,-0.277,-0.008,0.269,12500,-0.486,-0.23,0.256,12500,-0.341,-0.215,0.126,12500,0.007,0.961,0.954,12500,0.06,-0.617,-0.677,12500,-0.37,1.691,2.061,12500,-1.447,-0.992,0.455]
[13200,0.292,0.589,0.297,13200,-0.466,-0.127,0.339,13200,-0.454,-0.087,0.367,13200,-0.45,-0.09,0.36,13200,-0.546,-0.241,0.305,13200,-0.431,-0.276,0.155,13200,-0.166,0.342,0.508,13200,-0.148,-1.133,-0.985,13200,-0.283,1.311,1.594,13200,-2.12,-1.397,0.723]
[14000,0.297,0.655,0.358,14000,-0.396,-0.021,0.375,14000,-0.48,-0.183,0.297,14000,-0.6,-0.192,0.408,14000,-0.769,-0.276,0.493,14000,-0.465,-0.302,0.163,14000,-0.15,-0.034,0.116,14000,-0.281,-1.3,-1.019,14000,-0.559,0.614,1.173,14000,-1.865,-1.245,0.62]
[15000,0.2,0.725,0.525,15000,-0.272,0.273,0.545,15000,-0.494,-0.202,0.292,15000,-0.804,-0.262,0.542,15000,-0.788,-0.327,0.461,15000,-0.428,-0.272,0.156,15000,0.099,-0.085,-0.184,15000,-0.626,-1.468,-0.842,15000,-1.248,-0.24,1.008,15000,-1.11,-0.96,0.15]
[16000,0.204,0.635,0.431,16000,-0.241,0.21,0.451,16000,-0.435,-0.175,0.26,16000,-0.768,-0.255,0.513,16000,-0.544,-0.333,0.211,16000,-0.25,-0.158,0.092,16000,0.507,0.076,-0.431,16000,-0.961,-1.712,-0.751,16000,-1.704,-0.783,0.921,16000,-0.525,-0.85,-0.325]
[17000,0.318,0.629,0.311,17000,-0.253,0.058,0.311,17000,-0.397,-0.113,0.284,17000,-0.57,-0.219,0.351,17000,-0.232,-0.257,-0.025,17000,-0.056,-0.032,0.024,17000,0.664,0.076,-0.588,17000,-0.899,-1.669,-0.77,17000,-1.503,-0.913,0.59,17000,-0.17,-0.795,-0.625]
[18000,0.424,0.634,0.21,18000,-0.243,-0.061,0.182,18000,-0.355,-0.053,0.302,18000,-0.323,-0.174,0.149,18000,0.021,-0.136,-0.157,18000,0.099,0.086,-0.013,18000,0.609,-0.12,-0.729,18000,-0.555,-1.342,-0.787,18000,-1.023,-0.908,0.115,18000,0.012,-0.719,-0.731]
[19000,0.592,0.501,-0.091,19000,-0.264,-0.43,-0.166,19000,-0.267,-0.011,0.256,19000,-0.043,-0.116,-0.073,19000,0.186,-0.003,-0.189,19000,0.213,0.206,-0.007,19000,0.449,-0.421,-0.87,19000,-0.07,-0.811,-0.741,19000,-0.426,-0.808,-0.382,19000,-0.098,-0.66,-0.562]
[20000,0.872,0.486,-0.386,20000,-0.232,-0.769,-0.537,20000,-0.153,0.027,0.18,20000,0.226,-0.022,-0.248,20000,0.28,0.114,-0.166,20000,0.272,0.309,0.037,20000,0.06,-0.948,-1.008,20000,0.493,-0.047,-0.54,20000,0,-0.684,-0.684,20000,-0.87,-0.775,0.095]
[21200,0.524,-3.172,-3.696,21200,-0.911,-4.446,-3.535,21200,0.006,0.011,0.005,21200,0.474,0.132,-0.342,21200,0.389,0.261,-0.128,21200,0.282,0.349,0.067,21200,-1.762,-5.571,-3.809,21200,-0.853,-4.535,-3.682,21200,-1.345,-4.701,-3.356,21200,-1.366,-6.619,-5.253]
[22400,-4.129,-7.371,-3.242,22400,-4.295,-7.788,-3.493,22400,-0.063,0.107,0.17,22400,0.943,0.434,-0.509,22400,0.525,-0.219,-0.744,22400,1.065,0.542,-0.523,22400,-5.503,-960.655,-955.152,22400,-4.964,-953.713,-948.749,22400,-7.078,-941.862,-934.784,22400,-5.702,-959.155,-953.453]

{"sheet":"Sheet1","index":4,"n_rows":108,"n_cols":23,"rows_kept":108}
[{"$f":"'[1]FR - Smoothed DUTL Left'!A1","v":"Frequecy"},{"$f":"'[1]FR - Smoothed DUTL Left'!B1","v":"DTUL L"},{"$f":"'[1]FR - Smoothed DUTL Right'!B1","v":"DTUL R"},{"$f":"'[1]FR - Smoothed DUTL Mic1'!B1","v":"Mic1"},{"$f":"'[1]FR - Smoothed DUTL Mic2'!B1","v":"Mic2"},{"$f":"'[1]FR - Smoothed DUTL Mic3'!B1","v":"Mic3"},{"$f":"'[1]FR - Smoothed DUTL Mic4'!B1","v":"Mic4"},{"$f":"'[1]FR - Smoothed Self DUTL Mic1'!B1","v":"Self Mic1"},{"$f":"'[1]FR - Smoothed Self DUTL Mic2'!B1","v":"Self Mic2"},{"$f":"'[1]FR - Smoothed Self DUTL Mic3'!B1","v":"Self Mic3"},{"$f":"'[1]FR - Smoothed Self DUTL Mic4'!B1","v":"Self Mic4"},null,"Frequecy","GS DUTL L","GS DUTL R","GS Mic1","GS Mic2","GS Mic3","GS Mic4","GS Self Mic1","GS Self Mic2","GS Self Mic3","GS Self Mic4"]
[{"$f":"'[1]FR - Smoothed DUTL Left'!A2","v":50},{"$f":"'[1]FR - Smoothed DUTL Left'!B2","v":84.74870000000001},{"$f":"'[1]FR - Smoothed DUTL Right'!B2","v":85.9567},{"$f":"'[1]FR - Smoothed DUTL Mic1'!B2","v":81.50319999999999},{"$f":"'[1]FR - Smoothed DUTL Mic2'!B2","v":81.71149999999999},{"$f":"'[1]FR - Smoothed DUTL Mic3'!B2","v":81.85839999999999},{"$f":"'[1]FR - Smoothed DUTL Mic4'!B2","v":81.70049999999999},{"$f":"'[1]FR - Smoothed Self DUTL Mic1'!B2","v":71.67760000000001},{"$f":"'[1]FR - Smoothed Self DUTL Mic2'!B2","v":69.9099},{"$f":"'[1]FR - Smoothed Self DUTL Mic3'!B2","v":72.17859999999999},{"$f":"'[1]FR - Smoothed Self DUTL Mic4'!B2","v":70.6096},null,50,84.46430000000001,85.5642,81.47409999999999,81.68109999999999,81.6399,81.64169999999999,71.4734,69.5321,71.49980000000001,70.25289999999998]
[{"$f":"'[1]FR - Smoothed DUTL Left'!A3","v":53},{"$f":"'[1]FR - Smoothed DUTL Left'!B3","v":88.0578},{"$f":"'[1]FR - Smoothed DUTL Right'!B3","v":89.16369999999999},{"$f":"'[1]FR - Smoothed DUTL Mic1'!B3","v":81.5211},{"$f":"'[1]FR - Smoothed DUTL Mic2'!B3","v":81.7452},{"$f":"'[1]FR - Smoothed DUTL Mic3'!B3","v":81.8629},{"$f":"'[1]FR - Smoothed DUTL Mic4'!B3","v":81.72310000000002},{"$f":"'[1]FR - Smoothed Self DUTL Mic1'!B3","v":74.4911},{"$f":"'[1]FR - Smoothed Self DUTL Mic2'!B3","v":73.02380000000001},{"$f":"'[1]FR - Smoothed Self DUTL Mic3'!B3","v":74.951},{"$f":"'[1]FR - Smoothed Self DUTL Mic4'!B3","v":73.577},null,53,87.6791,88.7796,81.48689999999999,81.7146,81.6437,81.6609,74.34689999999999,72.7485,74.425,73.3066]
[{"$f":"'[1]FR - Smoothed DUTL Left'!A4","v":56},{"$f":"'[1]FR - Smoothed DUTL Left'!B4","v":89.95109999999998},{"$f":"'[1]FR - Smoothed DUTL Right'!B4","v":90.9082},{"$f":"'[1]FR - Smoothed DUTL Mic1'!B4","v":81.3305},{"$f":"'[1]FR - Smoothed DUTL Mic2'!B4","v":81.5567},{"$f":"'[1]FR - Smoothed DUTL Mic3'!B4","v":81.64889999999998},{"$f":"'[1]FR - Smoothed DUTL Mic4'!B4","v":81.5202},{"$f":"'[1]FR - Smoothed Self DUTL Mic1'!B4","v":75.9613},{"$f":"'[1]FR - Smoothed Self DUTL Mic2'!B4","v":74.57410000000002},{"$f":"'[1]FR - Smoothed Self DUTL Mic3'!B4","v":76.42689999999999},{"$f":"'[1]FR - Smoothed Self DUTL Mic4'!B4","v":75.0882},null,56,89.6507,90.6193,81.2947,81.5277,81.4317,81.45779999999999,75.8876,74.3905,76.01050000000001,74.8984]
[{"$f":"'[1]FR - Smoothed DUTL Left'!A5","v":60},{"$f":"'[1]FR - Smoothed DUTL Left'!B5","v":90.979},{"$f":"'[1]FR - Smoothed DUTL Right'!B5","v":92.0075},{"$f":"'[1]FR - Smoothed DUTL Mic1'!B5","v":80.68029999999999},{"$f":"'[1]FR - Smoothed DUTL Mic2'!B5","v":80.9122},{"$f":"'[1]FR - Smoothed DUTL Mic3'!B5","v":80.95009999999999},{"$f":"'[1]FR - Smoothed DUTL Mic4'!B5","v":80.8406},{"$f":"'[1]FR - Smoothed Self DUTL Mic1'!B5","v":77.10329999999999},{"$f":"'[1]FR - Smoothed Self DUTL Mic2'!B5","v":75.6144},{"$f":"'[1]FR - Smoothed Self DUTL Mic3'!B5","v":77.5987},{"$f":"'[1]FR - Smoothed Self DUTL Mic4'!B5","v":76.1541},null,60,90.7093,91.76219999999998,80.64379999999998,80.8879,80.73830000000001,80.77959999999999,77.07860000000001,75.4897,77.252,76.02000000000001]
[{"$f":"'[1]FR - Smoothed DUTL Left'!A6","v":63},{"$f":"'[1]FR - Smoothed DUTL Left'!B6","v":91.55089999999998},{"$f":"'[1]FR - Smoothed DUTL Right'!B6","v":92.84199999999998},{"$f":"'[1]FR - Smoothed DUTL Mic1'!B6","v":79.3184},{"$f":"'[1]FR - Smoothed DUTL Mic2'!B6","v":79.5498},{"$f":"'[1]FR - Smoothed DUTL Mic3'!B6","v":79.5155},{"$f":"'[1]FR - Smoothed DUTL Mic4'!B6","v":79.4174},{"$f":"'[1]FR - Smoothed Self DUTL Mic1'!B6","v":78.3816},{"$f":"'[1]FR - Smoothed Self DUTL Mic2'!B6","v":76.6513},{"$f":"'[1]FR - Smoothed Self DUTL Mic3'!B6","v":78.92089999999999},{"$f":"'[1]FR - Smoothed Self DUTL Mic4'!B6","v":77.2629},null,63,91.3187,92.63329999999999,79.28730000000002,79.5347,79.31479999999999,79.363,78.4023,76.592,78.6327,77.1887]
[{"$f":"'[1]FR - Smoothed DUTL Left'!A7","v":67},{"$f":"'[1]FR - Smoothed DUTL Left'!B7","v":91.82939999999999},{"$f":"'[1]FR - Smoothed DUTL Right'!B7","v":93.57549999999999},{"$f":"'[1]FR - Smoothed DUTL Mic1'!B7","v":77.2579},{"$f":"'[1]FR - Smoothed DUTL Mic2'!B7","v":77.5043},{"$f":"'[1]FR - Smoothed DUTL Mic3'!B7","v":77.35239999999999},{"$f":"'[1]FR - Smoothed DUTL Mic4'!B7","v":77.2664},{"$f":"'[1]FR - Smoothed Self DUTL Mic1'!B7","v":79.9314},{"$f":"'[1]FR - Smoothed Self DUTL Mic2'!B7","v":77.97860000000001},{"$f":"'[1]FR - Smoothed Self DUTL Mic3'!B7","v":80.497},{"$f":"'[1]FR - Smoothed Self DUTL Mic4'!B7","v":78.6513},null,67,91.62770000000002,93.38450000000002,77.23549999999999,77.5024,77.1658,77.22149999999999,79.981,77.9834,80.2509,78.6282]
[{"$f":"'[1]FR - Smoothed DUTL Left'!A8","v":71},{"$f":"'[1]FR - Smoothed DUTL Left'!B8","v":92.01379999999999},{"$f":"'[1]FR - Smoothed DUTL Right'!B8","v":94.25120000000001},{"$f":"'[1]FR - Smoothed DUTL Mic1'!B8","v":74.7951},{"$f":"'[1]FR - Smoothed DUTL Mic2'!B8","v":75.0839},{"$f":"'[1]FR - Smoothed DUTL Mic3'!B8","v":74.7487},{"$f":"'[1]FR - Smoothed DUTL Mic4'!B8","v":74.6934},{"$f":"'[1]FR - Smoothed Self DUTL Mic1'!B8","v":81.43729999999998},{"$f":"'[1]FR - Smoothed Self DUTL Mic2'!B8","v":79.3883},{"$f":"'[1]FR - Smoothed Self DUTL Mic3'!B8","v":81.9984},{"$f":"'[1]FR - Smoothed Self DUTL Mic4'!B8","v":80.0672},null,71,91.83330000000001,94.0646,74.7813,75.0969,74.57540000000002,74.65849999999999,81.496,79.438,81.7755,80.0734]
[{"$f":"'[1]FR - Smoothed DUTL Left'!A9","v":75},{"$f":"'[1]FR - Smoothed DUTL Left'!B9","v":92.237},{"$f":"'[1]FR - Smoothed DUTL Right'!B9","v":94.8288},{"$f":"'[1]FR - Smoothed DUTL Mic1'!B9","v":72.61890000000001},{"$f":"'[1]FR - Smoothed DUTL Mic2'!B9","v":72.9574},{"$f":"'[1]FR - Smoothed DUTL Mic3'!B9","v":72.4713},{"$f":"'[1]FR - Smoothed DUTL Mic4'!B9","v":72.49199999999999},{"$f":"'[1]FR - Smoothed Self DUTL Mic1'!B9","v":82.6011},{"$f":"'[1]FR - Smoothed Self DUTL Mic2'!B9","v":80.55239999999999},{"$f":"'[1]FR - Smoothed Self DUTL Mic3'!B9","v":83.1375},{"$f":"'[1]FR - Smoothed Self DUTL Mic4'!B9","v":81.1929},null,75,92.07230000000001,94.6396,72.6094,72.97749999999999,72.3041,72.4576,82.6554,80.6249,82.9247,81.20830000000001]
[{"$f":"'[1]FR - Smoothed DUTL Left'!A10","v":80},{"$f":"'[1]FR - Smoothed DUTL Left'!B10","v":92.48409999999998},{"$f":"'[1]FR - Smoothed DUTL Right'!B10","v":95.233},{"$f":"'[1]FR - Smoothed DUTL Mic1'!B10","v":71.48769999999999},{"$f":"'[1]FR - Smoothed DUTL Mic2'!B10","v":71.88410000000002},{"$f":"'[1]FR - Smoothed DUTL Mic3'!B10","v":71.46850000000002},{"$f":"'[1]FR - Smoothed DUTL Mic4'!B10","v":71.59400000000001},{"$f":"'[1]FR - Smoothed Self DUTL Mic1'!B10","v":83.3468},{"$f":"'[1]FR - Smoothed Self DUTL Mic2'!B10","v":81.338},{"$f":"'[1]FR - Smoothed Self DUTL Mic3'!B10","v":83.8529},{"$f":"'[1]FR - Smoothed Self DUTL Mic4'!B10","v":81.92540000000001},null,80,92.32230000000001,95.0403,71.4691,71.8985,71.2949,71.548,83.39070000000001,81.42190000000001,83.6437,81.9403]
[{"$f":"'[1]FR - Smoothed DUTL Left'!A11","v":85},{"$f":"'[1]FR - Smoothed DUTL Left'!B11","v":92.6578},{"$f":"'[1]FR - Smoothed DUTL Right'!B11","v":95.4241},{"$f":"'[1]FR - Smoothed DUTL Mic1'!B11","v":71.2569},{"$f":"'[1]FR - Smoothed DUTL Mic2'!B11","v":71.7263},{"$f":"'[1]FR - Smoothed DUTL Mic3'!B11","v":71.4358},{"$f":"'[1]FR - Smoothed DUTL Mic4'!B11","v":71.64750000000001},{"$f":"'[1]FR - Smoothed Self DUTL Mic1'!B11","v":83.73329999999999},{"$f":"'[1]FR - Smoothed Self DUTL Mic2'!B11","v":81.7681},{"$f":"'[1]FR - Smoothed Self DUTL Mic3'!B11","v":84.21779999999998},{"$f":"'[1]FR - Smoothed Self DUTL Mic4'!B11","v":82.3117},null,85,92.48890000000002,95.2338,71.2238,71.736,71.2582,71.5933,83.76639999999999,81.86080000000001,84.0109,82.3266]
[{"$f":"'[1]FR - Smoothed DUTL Left'!A12","v":90},{"$f":"'[1]FR - Smoothed DUTL Left'!B12","v":92.6914},{"$f":"'[1]FR - Smoothed DUTL Right'!B12","v":95.4299},{"$f":"'[1]FR - Smoothed DUTL Mic1'!B12","v":71.2466},{"$f":"'[1]FR - Smoothed DUTL Mic2'!B12","v":71.7989},{"$f":"'[1]FR - Smoothed DUTL Mic3'!B12","v":71.5019},{"$f":"'[1]FR - Smoothed DUTL Mic4'!B12","v":71.78790000000001},{"$f":"'[1]FR - Smoothed Self DUTL Mic1'!B12","v":83.853},{"$f":"'[1]FR - Smoothed Self DUTL Mic2'!B12","v":81.9082},{"$f":"'[1]FR - Smoothed Self DUTL Mic3'!B12","v":84.33109999999999},{"$f":"'[1]FR - Smoothed Self DUTL Mic4'!B12","v":82.4317},null,90,92.5189,95.2519,71.211,71.81129999999999,71.32889999999999,71.73410000000001,83.87359999999998,82.0104,84.1227,82.4498]
[{"$f":"'[1]FR - Smoothed DUTL Left'!A13","v":95},{"$f":"'[1]FR - Smoothed DUTL Left'!B13","v":92.54400000000001},{"$f":"'[1]FR - Smoothed DUTL Right'!B13","v":95.2884},{"$f":"'[1]FR - Smoothed DUTL Mic1'!B13","v":71.1482},{"$f":"'[1]FR - Smoothed DUTL Mic2'!B13","v":71.7736},{"$f":"'[1]FR - Smoothed DUTL Mic3'!B13","v":71.40420000000002},{"$f":"'[1]FR - Smoothed DUTL Mic4'!B13","v":71.75710000000001},{"$f":"'[1]FR - Smoothed Self DUTL Mic1'!B13","v":83.778},{"$f":"'[1]FR - Smoothed Self DUTL Mic2'!B13","v":81.8021},{"$f":"'[1]FR - Smoothed Self DUTL Mic3'!B13","v":84.26209999999999},{"$f":"'[1]FR - Smoothed Self DUTL Mic4'!B13","v":82.3296},null,95,92.3488,95.1032,71.1066,71.7779,71.22569999999999,71.6932,83.76469999999999,81.89439999999999,84.0274,82.33290000000001]
[{"$f":"'[1]FR - Smoothed DUTL Left'!A14","v":100},{"$f":"'[1]FR - Smoothed DUTL Left'!B14","v":92.2777},{"$f":"'[1]FR - Smoothed DUTL Right'!B14","v":95.08250000000001},{"$f":"'[1]FR - Smoothed DUTL Mic1'!B14","v":70.9942},{"$f":"'[1]FR - Smoothed DUTL Mic2'!B14","v":71.6561},{"$f":"'[1]FR - Smoothed DUTL Mic3'!B14","v":71.28899999999999},{"$f":"'[1]FR - Smoothed DUTL Mic4'!B14","v":71.6818},{"$f":"'[1]FR - Smoothed Self DUTL Mic1'!B14","v":83.5968},{"$f":"'[1]FR - Smoothed Self DUTL Mic2'!B14","v":81.51700000000002},{"$f":"'[1]FR - Smoothed Self DUTL Mic3'!B14","v":84.09129999999999},{"$f":"'[1]FR - Smoothed Self DUTL Mic4'!B14","v":82.0636},null,100,92.0076,94.8376,70.9331,71.6378,71.0907,71.59209999999999,83.4957,81.5337,83.7714,81.9857]
[{"$f":"'[1]FR - Smoothed DUTL Left'!A15","v":106},{"$f":"'[1]FR - Smoothed DUTL Left'!B15","v":92.0549},{"$f":"'[1]FR - Smoothed DUTL Right'!B15","v":94.923},{"$f":"'[1]FR - Smoothed DUTL Mic1'!B15","v":70.96459999999999},{"$f":"'[1]FR - Smoothed DUTL Mic2'!B15","v":71.61460000000001},{"$f":"'[1]FR - Smoothed DUTL Mic3'!B15","v":71.3796},{"$f":"'[1]FR - Smoothed DUTL Mic4'!B15","v":71.76689999999999},{"$f":"'[1]FR - Smoothed Self DUTL Mic1'!B15","v":83.45450000000002},{"$f":"'[1]FR - Smoothed Self DUTL Mic2'!B15","v":81.23740000000001},{"$f":"'[1]FR - Smoothed Self DUTL Mic3'!B15","v":83.9538},{"$f":"'[1]FR - Smoothed Self DUTL Mic4'!B15","v":81.8008},null,106,91.6741,94.57580000000002,70.88739999999999,71.58040000000001,71.16819999999998,71.6591,83.2116,81.08439999999999,83.48819999999999,81.5441]
[{"$f":"'[1]FR - Smoothed DUTL Left'!A16","v":112},{"$f":"'[1]FR - Smoothed DUTL Left'!B16","v":91.8461},{"$f":"'[1]FR - Smoothed DUTL Right'!B16","v":94.7678},{"$f":"'[1]FR - Smoothed DUTL Mic1'!B16","v":71.056},{"$f":"'[1]FR - Smoothed DUTL Mic2'!B16","v":71.6621},{"$f":"'[1]FR - Smoothed DUTL Mic3'!B16","v":71.6142},{"$f":"'[1]FR - Smoothed DUTL Mic4'!B16","v":71.97040000000001},{"$f":"'[1]FR - Smoothed Self DUTL Mic1'!B16","v":83.42139999999999},{"$f":"'[1]FR - Smoothed Self DUTL Mic2'!B16","v":81.13969999999999},{"$f":"'[1]FR - Smoothed Self DUTL Mic3'!B16","v":83.91390000000001},{"$f":"'[1]FR - Smoothed Self DUTL Mic4'!B16","v":81.6974},null,112,91.37019999999998,94.3213,70.99319999999999,71.6465,71.4222,71.88039999999998,83.05350000000001,80.7946,83.31590000000001,81.2356]
[{"$f":"'[1]FR - Smoothed DUTL Left'!A17","v":118},{"$f":"'[1]FR - Smoothed DUTL Left'!B17","v":91.50880000000001},{"$f":"'[1]FR - Smoothed DUTL Right'!B17","v":94.51610000000001},{"$f":"'[1]FR - Smoothed DUTL Mic1'!B17","v":71.00089999999999},{"$f":"'[1]FR - Smoothed DUTL Mic2'!B17","v":71.5723},{"$f":"'[1]FR - Smoothed DUTL Mic3'!B17","v":71.70790000000001},{"$f":"'[1]FR - Smoothed DUTL Mic4'!B17","v":72.0411},{"$f":"'[1]FR - Smoothed Self DUTL Mic1'!B17","v":83.3729},{"$f":"'[1]FR - Smoothed Self DUTL Mic2'!B17","v":81.12979999999999},{"$f":"'[1]FR - Smoothed Self DUTL Mic3'!B17","v":83.8538},{"$f":"'[1]FR - Smoothed Self DUTL Mic4'!B17","v":81.6655},null,118,91.00489999999999,94.02440000000001,70.97940000000001,71.60329999999999,71.559,71.9953,82.97200000000001,80.69930000000001,83.21240000000002,81.0961]
[{"$f":"'[1]FR - Smoothed DUTL Left'!A18","v":125},{"$f":"'[1]FR - Smoothed DUTL Left'!B18","v":90.94439999999999},{"$f":"'[1]FR - Smoothed DUTL Right'!B18","v":94.1027},{"$f":"'[1]FR - Smoothed DUTL Mic1'!B18","v":70.64250000000001},{"$f":"'[1]FR - Smoothed DUTL Mic2'!B18","v":71.1995},{"$f":"'[1]FR - Smoothed DUTL Mic3'!B18","v":71.5306},{"$f":"'[1]FR - Smoothed DUTL Mic4'!B18","v":71.85159999999999},{"$f":"'[1]FR - Smoothed Self DUTL Mic1'!B18","v":83.1412},{"$f":"'[1]FR - Smoothed Self DUTL Mic2'!B18","v":80.9387},{"$f":"'[1]FR - Smoothed Self DUTL Mic3'!B18","v":83.6182},{"$f":"'[1]FR - Smoothed Self DUTL Mic4'!B18","v":81.46440000000001},null,125,90.51039999999999,93.64540000000002,70.6504,71.2667,71.4092,71.835,82.7955,80.5591,83.01379999999999,80.9069]
[{"$f":"'[1]FR - Smoothed DUTL Left'!A19","v":132},{"$f":"'[1]FR - Smoothed DUTL Left'!B19","v":90.02429999999998},{"$f":"'[1]FR - Smoothed DUTL Right'!B19","v":93.46209999999999},{"$f":"'[1]FR - Smoothed DUTL Mic1'!B19","v":70.1126},{"$f":"'[1]FR - Smoothed DUTL Mic2'!B19","v":70.6523},{"$f":"'[1]FR - Smoothed DUTL Mic3'!B19","v":71.20609999999999},{"$f":"'[1]FR - Smoothed DUTL Mic4'!B19","v":71.506},{"$f":"'[1]FR - Smoothed Self DUTL Mic1'!B19","v":82.7166},{"$f":"'[1]FR - Smoothed Self DUTL Mic2'!B19","v":80.44850000000001},{"$f":"'[1]FR - Smoothed Self DUTL Mic3'!B19","v":83.20250000000001},{"$f":"'[1]FR - Smoothed Self DUTL Mic4'!B19","v":80.9942},null,132,89.7304,93.0848,70.10669999999999,70.71130000000001,71.0708,71.47419999999998,82.4731,80.2074,82.6705,80.51679999999999]
[{"$f":"'[1]FR - Smoothed DUTL Left'!A20","v":140},{"$f":"'[1]FR - Smoothed DUTL Left'!B20","v":88.83089999999999},{"$f":"'[1]FR - Smoothed DUTL Right'!B20","v":92.63640000000001},{"$f":"'[1]FR - Smoothed DUTL Mic1'!B20","v":69.6819},{"$f":"'[1]FR - Smoothed DUTL Mic2'!B20","v":70.1832},{"$f":"'[1]FR - Smoothed DUTL Mic3'!B20","v":70.92830000000001},{"$f":"'[1]FR - Smoothed DUTL Mic4'!B20","v":71.19160000000001},{"$f":"'[1]FR - Smoothed Self DUTL Mic1'!B20","v":82.2615},{"$f":"'[1]FR - Smoothed Self DUTL Mic2'!B20","v":79.82849999999999},{"$f":"'[1]FR - Smoothed Self DUTL Mic3'!B20","v":82.7396},{"$f":"'[1]FR - Smoothed Self DUTL Mic4'!B20","v":80.3892},null,140,88.6399,92.3078,69.6265,70.19250000000001,70.752,71.113,82.1156,79.73140000000001,82.2908,80.0112]
[{"$f":"'[1]FR - Smoothed DUTL Left'!A21","v":150},{"$f":"'[1]FR - Smoothed DUTL Left'!B21","v":87.80209999999998},{"$f":"'[1]FR - Smoothed DUTL Right'!B21","v":91.8054},{"$f":"'[1]FR - Smoothed DUTL Mic1'!B21","v":69.3998},{"$f":"'[1]FR - Smoothed DUTL Mic2'!B21","v":69.8591},{"$f":"'[1]FR - Smoothed DUTL Mic3'!B21","v":70.69919999999999},{"$f":"'[1]FR - Smoothed DUTL Mic4'!B21","v":70.9245},{"$f":"'[1]FR - Smoothed Self DUTL Mic1'!B21","v":81.9121},{"$f":"'[1]FR - Smoothed Self DUTL Mic2'!B21","v":79.3452},{"$f":"'[1]FR - Smoothed Self DUTL Mic3'!B21","v":82.3117},{"$f":"'[1]FR - Smoothed Self DUTL Mic4'!B21","v":79.8246},null,150,87.56980000000001,91.44859999999998,69.3059,69.82489999999999,70.49390000000001,70.80999999999999,81.80449999999999,79.29220000000001,81.94500000000001,79.5276]
[{"$f":"'[1]FR - Smoothed DUTL Left'!A22","v":160},{"$f":"'[1]FR - Smoothed DUTL Left'!B22","v":87.3212},{"$f":"'[1]FR - Smoothed DUTL Right'!B22","v":91.1472},{"$f":"'[1]FR - Smoothed DUTL Mic1'!B22","v":69.1183},{"$f":"'[1]FR - Smoothed DUTL Mic2'!B22","v":69.5434},{"$f":"'[1]FR - Smoothed DUTL Mic3'!B22","v":70.40639999999999},{"$f":"'[1]FR - Smoothed DUTL Mic4'!B22","v":70.598},{"$f":"'[1]FR - Smoothed Self DUTL Mic1'!B22","v":81.6917},{"$f":"'[1]FR - Smoothed Self DUTL Mic2'!B22","v":79.0882},{"$f":"'[1]FR - Smoothed Self DUTL Mic3'!B22","v":81.92989999999999},{"$f":"'[1]FR - Smoothed Self DUTL Mic4'!B22","v":79.35520000000001},null,160,86.92120000000001,90.70020000000002,69.0215,69.5063,70.20049999999999,70.48060000000001,81.5341,78.9392,81.6258,79.09880000000001]
[{"$f":"'[1]FR - Smoothed DUTL Left'!A23","v":170},{"$f":"'[1]FR - Smoothed DUTL Left'!B23","v":87.35560000000001},{"$f":"'[1]FR - Smoothed DUTL Right'!B23","v":90.67170000000002},{"$f":"'[1]FR - Smoothed DUTL Mic1'!B23","v":68.7655},{"$f":"'[1]FR - Smoothed DUTL Mic2'!B23","v":69.14560000000002},{"$f":"'[1]FR - Smoothed DUTL Mic3'!B23","v":70.0189},{"$f":"'[1]FR - Smoothed DUTL Mic4'!B23","v":70.16130000000001},{"$f":"'[1]FR - Smoothed Self DUTL Mic1'!B23","v":81.6381},{"$f":"'[1]FR - Smoothed Self DUTL Mic2'!B23","v":79.0642},{"$f":"'[1]FR - Smoothed Self DUTL Mic3'!B23","v":81.6909},{"$f":"'[1]FR - Smoothed Self DUTL Mic4'!B23","v":79.064},null,170,86.7807,90.122,68.68230000000001,69.124,69.82199999999999,70.05480000000001,81.37579999999998,78.7551,81.4113,78.81259999999999]
[{"$f":"'[1]FR - Smoothed DUTL Left'!A24","v":180},{"$f":"'[1]FR - Smoothed DUTL Left'!B24","v":87.6634},{"$f":"'[1]FR - Smoothed DUTL Right'!B24","v":90.34869999999998},{"$f":"'[1]FR - Smoothed DUTL Mic1'!B24","v":68.39189999999999},{"$f":"'[1]FR - Smoothed DUTL Mic2'!B24","v":68.68430000000001},{"$f":"'[1]FR - Smoothed DUTL Mic3'!B24","v":69.5895},{"$f":"'[1]FR - Smoothed DUTL Mic4'!B24","v":69.64760000000001},{"$f":"'[1]FR - Smoothed Self DUTL Mic1'!B24","v":81.7714},{"$f":"'[1]FR - Smoothed Self DUTL Mic2'!B24","v":79.2854},{"$f":"'[1]FR - Smoothed Self DUTL Mic3'!B24","v":81.6979},{"$f":"'[1]FR - Smoothed Self DUTL Mic4'!B24","v":79.09040000000002},null,180,87.0334,89.7485,68.3161,68.6669,69.3957,69.54320000000001,81.42569999999999,78.8703,81.4085,78.8255]
[{"$f":"'[1]FR - Smoothed DUTL Left'!A25","v":190},{"$f":"'[1]FR - Smoothed DUTL Left'!B25","v":87.9885},{"$f":"'[1]FR - Smoothed DUTL Right'!B25","v":90.10960000000001},{"$f":"'[1]FR - Smoothed DUTL Mic1'!B25","v":68.09880000000001},{"$f":"'[1]FR - Smoothed DUTL Mic2'!B25","v":68.29150000000001},{"$f":"'[1]FR - Smoothed DUTL Mic3'!B25","v":69.224},{"$f":"'[1]FR - Smoothed DUTL Mic4'!B25","v":69.18469999999999},{"$f":"'[1]FR - Smoothed Self DUTL Mic1'!B25","v":81.96399999999998},{"$f":"'[1]FR - Smoothed Self DUTL Mic2'!B25","v":79.60619999999999},{"$f":"'[1]FR - Smoothed Self DUTL Mic3'!B25","v":81.8498},{"$f":"'[1]FR - Smoothed Self DUTL Mic4'!B25","v":79.34179999999999},null,190,87.38819999999998,89.51559999999999,68.0251,68.2696,69.0317,69.0771,81.58340000000001,79.1622,81.5251,79.0445]
[{"$f":"'[1]FR - Smoothed DUTL Left'!A26","v":200},{"$f":"'[1]FR - Smoothed DUTL Left'!B26","v":88.27890000000001},{"$f":"'[1]FR - Smoothed DUTL Right'!B26","v":89.81810000000002},{"$f":"'[1]FR - Smoothed DUTL Mic1'!B26","v":68.0861},{"$f":"'[1]FR - Smoothed DUTL Mic2'!B26","v":68.20349999999999},{"$f":"'[1]FR - Smoothed DUTL Mic3'!B26","v":69.1287},{"$f":"'[1]FR - Smoothed DUTL Mic4'!B26","v":69.01259999999999},{"$f":"'[1]FR - Smoothed Self DUTL Mic1'!B26","v":82.0748},{"$f":"'[1]FR - Smoothed Self DUTL Mic2'!B26","v":79.8409},{"$f":"'[1]FR - Smoothed Self DUTL Mic3'!B26","v":81.97380000000001},{"$f":"'[1]FR - Smoothed Self DUTL Mic4'!B26","v":79.5898},null,200,87.7098,89.24480000000001,68.012,68.1831,68.9372,68.9041,81.6731,79.3999,81.5863,79.2362]
[{"$f":"'[1]FR - Smoothed DUTL Left'!A27","v":212},{"$f":"'[1]FR - Smoothed DUTL Left'!B27","v":88.6621},{"$f":"'[1]FR - Smoothed DUTL Right'!B27","v":89.5016},{"$f":"'[1]FR - Smoothed DUTL Mic1'!B27","v":68.4405},{"$f":"'[1]FR - Smoothed DUTL Mic2'!B27","v":68.4981},{"$f":"'[1]FR - Smoothed DUTL Mic3'!B27","v":69.4174},{"$f":"'[1]FR - Smoothed DUTL Mic4'!B27","v":69.244},{"$f":"'[1]FR - Smoothed Self DUTL Mic1'!B27","v":82.143},{"$f":"'[1]FR - Smoothed Self DUTL Mic2'!B27","v":80.025},{"$f":"'[1]FR - Smoothed Self DUTL Mic3'!B27","v":82.0732},{"$f":"'[1]FR - Smoothed Self DUTL Mic4'!B27","v":79.81160000000001},null,212,88.1129,88.9456,68.3647,68.48479999999999,69.2259,69.13729999999998,81.7121,79.59570000000001,81.60560000000001,79.3987]
[{"$f":"'[1]FR - Smoothed DUTL Left'!A28","v":224},{"$f":"'[1]FR - Smoothed DUTL Left'!B28","v":89.1996},{"$f":"'[1]FR - Smoothed DUTL Right'!B28","v":89.3},{"$f":"'[1]FR - Smoothed DUTL Mic1'!B28","v":69.08449999999999},{"$f":"'[1]FR - Smoothed DUTL Mic2'!B28","v":69.10810000000001},{"$f":"'[1]FR - Smoothed DUTL Mic3'!B28","v":70.01180000000001},{"$f":"'[1]FR - Smoothed DUTL Mic4'!B28","v":69.80420000000001},{"$f":"'[1]FR - Smoothed Self DUTL Mic1'!B28","v":82.3149},{"$f":"'[1]FR - Smoothed Self DUTL Mic2'!B28","v":80.35440000000001},{"$f":"'[1]FR - Smoothed Self DUTL Mic3'!B28","v":82.2614},{"$f":"'[1]FR - Smoothed Self DUTL Mic4'!B28","v":80.1584},null,224,88.6563,88.74940000000001,69.00750000000001,69.0972,69.82059999999998,69.69800000000001,81.8537,79.94069999999999,81.72600000000001,79.7088]
[{"$f":"'[1]FR - Smoothed DUTL Left'!A29","v":236},{"$f":"'[1]FR - Smoothed DUTL Left'!B29","v":89.8554},{"$f":"'[1]FR - Smoothed DUTL Right'!B29","v":89.3127},{"$f":"'[1]FR - Smoothed DUTL Mic1'!B29","v":69.8962},{"$f":"'[1]FR - Smoothed DUTL Mic2'!B29","v":69.9275},{"$f":"'[1]FR - Smoothed DUTL Mic3'!B29","v":70.7519},{"$f":"'[1]FR - Smoothed DUTL Mic4'!B29","v":70.5503},{"$f":"'[1]FR - Smoothed Self DUTL Mic1'!B29","v":82.5984},{"$f":"'[1]FR - Smoothed Self DUTL Mic2'!B29","v":80.83309999999999},{"$f":"'[1]FR - Smoothed Self DUTL Mic3'!B29","v":82.535},{"$f":"'[1]FR - Smoothed Self DUTL Mic4'!B29","v":80.62379999999999},null,236,89.31030000000001,88.7644,69.81769999999999,69.9144,70.56140000000002,70.4415,82.1173,80.42970000000001,81.96059999999999,80.159]
[{"$f":"'[1]FR - Smoothed DUTL Left'!A30","v":250},{"$f":"'[1]FR - Smoothed DUTL Left'!B30","v":90.5066},{"$f":"'[1]FR - Smoothed DUTL Right'!B30","v":89.4555},{"$f":"'[1]FR - Smoothed DUTL Mic1'!B30","v":70.7157},{"$f":"'[1]FR - Smoothed DUTL Mic2'!B30","v":70.7882},{"$f":"'[1]FR - Smoothed DUTL Mic3'!B30","v":71.47639999999998},{"$f":"'[1]FR - Smoothed DUTL Mic4'!B30","v":71.3146},{"$f":"'[1]FR - Smoothed Self DUTL Mic1'!B30","v":82.83529999999999},{"$f":"'[1]FR - Smoothed Self DUTL Mic2'!B30","v":81.22530000000002},{"$f":"'[1]FR - Smoothed Self DUTL Mic3'!B30","v":82.74690000000001},{"$f":"'[1]FR - Smoothed Self DUTL Mic4'!B30","v":80.98939999999999},null,250,89.95570000000001,88.9091,70.63680000000001,70.7755,71.2868,71.205,82.33739999999999,80.81530000000001,82.1529,80.51510000000002]
[{"$f":"'[1]FR - Smoothed DUTL Left'!A31","v":265},{"$f":"'[1]FR - Smoothed DUTL Left'!B31","v":91.0522},{"$f":"'[1]FR - Smoothed DUTL Right'!B31","v":89.58880000000002},{"$f":"'[1]FR - Smoothed DUTL Mic1'!B31","v":71.45759999999999},{"$f":"'[1]FR - Smoothed DUTL Mic2'!B31","v":71.5775},{"$f":"'[1]FR - Smoothed DUTL Mic3'!B31","v":72.113},{"$f":"'[1]FR - Smoothed DUTL Mic4'!B31","v":72.00170000000001},{"$f":"'[1]FR - Smoothed Self DUTL Mic1'!B31","v":82.9208},{"$f":"'[1]FR - Smoothed Self DUTL Mic2'!B31","v":81.3857},{"$f":"'[1]FR - Smoothed Self DUTL Mic3'!B31","v":82.8043},{"$f":"'[1]FR - Smoothed Self DUTL Mic4'!B31","v":81.1209},null,265,90.49440000000001,89.0402,71.3777,71.5663,71.9239,71.8926,82.40380000000002,80.9564,82.19829999999999,80.6379]
[{"$f":"'[1]FR - Smoothed DUTL Left'!A32","v":280},{"$f":"'[1]FR - Smoothed DUTL Left'!B32","v":91.47619999999999},{"$f":"'[1]FR - Smoothed DUTL Right'!B32","v":89.6633},{"$f":"'[1]FR - Smoothed DUTL Mic1'!B32","v":72.0799},{"$f":"'[1]FR - Smoothed DUTL Mic2'!B32","v":72.2338},{"$f":"'[1]FR - Smoothed DUTL Mic3'!B32","v":72.638},{"$f":"'[1]FR - Smoothed DUTL Mic4'!B32","v":72.56770000000002},{"$f":"'[1]FR - Smoothed Self DUTL Mic1'!B32","v":82.8912},{"$f":"'[1]FR - Smoothed Self DUTL Mic2'!B32","v":81.3682},{"$f":"'[1]FR - Smoothed Self DUTL Mic3'!B32","v":82.75050000000002},{"$f":"'[1]FR - Smoothed Self DUTL Mic4'!B32","v":81.07629999999999},null,280,90.9156,89.10830000000001,72.001,72.2251,72.45079999999999,72.46090000000001,82.35740000000001,80.9198,82.13359999999999,80.58399999999999]
[{"$f":"'[1]FR - Smoothed DUTL Left'!A33","v":300},{"$f":"'[1]FR - Smoothed DUTL Left'!B33","v":91.78329999999998},{"$f":"'[1]FR - Smoothed DUTL Right'!B33","v":89.67800000000001},{"$f":"'[1]FR - Smoothed DUTL Mic1'!B33","v":72.5834},{"$f":"'[1]FR - Smoothed DUTL Mic2'!B33","v":72.75679999999998},{"$f":"'[1]FR - Smoothed DUTL Mic3'!B33","v":73.0618},{"$f":"'[1]FR - Smoothed DUTL Mic4'!B33","v":73.01840000000001},{"$f":"'[1]FR - Smoothed Self DUTL Mic1'!B33","v":82.8332},{"$f":"'[1]FR - Smoothed Self DUTL Mic2'!B33","v":81.2973},{"$f":"'[1]FR - Smoothed Self DUTL Mic3'!B33","v":82.67830000000001},{"$f":"'[1]FR - Smoothed Self DUTL Mic4'!B33","v":80.9888},null,300,91.22229999999999,89.11529999999999,72.5084,72.75219999999999,72.87780000000001,72.9149,82.2865,80.8359,82.0419,80.47510000000001]
[{"$f":"'[1]FR - Smoothed DUTL Left'!A34","v":315},{"$f":"'[1]FR - Smoothed DUTL Left'!B34","v":92.0014},{"$f":"'[1]FR - Smoothed DUTL Right'!B34","v":89.6955},{"$f":"'[1]FR - Smoothed DUTL Mic1'!B34","v":72.9972},{"$f":"'[1]FR - Smoothed DUTL Mic2'!B34","v":73.17569999999999},{"$f":"'[1]FR - Smoothed DUTL Mic3'!B34","v":73.40820000000001},{"$f":"'[1]FR - Smoothed DUTL Mic4'!B34","v":73.3751},{"$f":"'[1]FR - Smoothed Self DUTL Mic1'!B34","v":82.7895},{"$f":"'[1]FR - Smoothed Self DUTL Mic2'!B34","v":81.2431},{"$f":"'[1]FR - Smoothed Self DUTL Mic3'!B34","v":82.6291},{"$f":"'[1]FR - Smoothed Self DUTL Mic4'!B34","v":80.92710000000001},null,315,91.44250000000001,89.1232,72.92920000000001,73.1773,73.2291,73.277,82.2302,80.76800000000001,81.9614,80.37120000000002]
[{"$f":"'[1]FR - Smoothed DUTL Left'!A35","v":335},{"$f":"'[1]FR - Smoothed DUTL Left'!B35","v":92.219},{"$f":"'[1]FR - Smoothed DUTL Right'!B35","v":89.84859999999999},{"$f":"'[1]FR - Smoothed DUTL Mic1'!B35","v":73.31799999999998},{"$f":"'[1]FR - Smoothed DUTL Mic2'!B35","v":73.4888},{"$f":"'[1]FR - Smoothed DUTL Mic3'!B35","v":73.66380000000001},{"$f":"'[1]FR - Smoothed DUTL Mic4'!B35","v":73.625},{"$f":"'[1]FR - Smoothed Self DUTL Mic1'!B35","v":82.7474},{"$f":"'[1]FR - Smoothed Self DUTL Mic2'!B35","v":81.19300000000001},{"$f":"'[1]FR - Smoothed Self DUTL Mic3'!B35","v":82.5804},{"$f":"'[1]FR - Smoothed Self DUTL Mic4'!B35","v":80.8637},null,335,91.6616,89.2662,73.262,73.5019,73.4941,73.5369,82.1778,80.69640000000001,81.8839,80.2573]
[{"$f":"'[1]FR - Smoothed DUTL Left'!A36","v":355},{"$f":"'[1]FR - Smoothed DUTL Left'!B36","v":92.5358},{"$f":"'[1]FR - Smoothed DUTL Right'!B36","v":90.28290000000001},{"$f":"'[1]FR - Smoothed DUTL Mic1'!B36","v":73.4962},{"$f":"'[1]FR - Smoothed DUTL Mic2'!B36","v":73.6511},{"$f":"'[1]FR - Smoothed DUTL Mic3'!B36","v":73.76489999999998},{"$f":"'[1]FR - Smoothed DUTL Mic4'!B36","v":73.71189999999999},{"$f":"'[1]FR - Smoothed Self DUTL Mic1'!B36","v":82.7082},{"$f":"'[1]FR - Smoothed Self DUTL Mic2'!B36","v":81.1318},{"$f":"'[1]FR - Smoothed Self DUTL Mic3'!B36","v":82.5279},{"$f":"'[1]FR - Smoothed Self DUTL Mic4'!B36","v":80.77459999999999},null,355,91.9764,89.69289999999998,73.4517,73.6772,73.6061,73.6359,82.1538,80.634,81.83869999999999,80.1523]
[{"$f":"'[1]FR - Smoothed DUTL Left'!A37","v":375},{"$f":"'[1]FR - Smoothed DUTL Left'!B37","v":92.98360000000001},{"$f":"'[1]FR - Smoothed DUTL Right'!B37","v":90.93400000000001},{"$f":"'[1]FR - Smoothed DUTL Mic1'!B37","v":73.40630000000002},{"$f":"'[1]FR - Smoothed DUTL Mic2'!B37","v":73.555},{"$f":"'[1]FR - Smoothed DUTL Mic3'!B37","v":73.5813},{"$f":"'[1]FR - Smoothed DUTL Mic4'!B37","v":73.5232},{"$f":"'[1]FR - Smoothed Self DUTL Mic1'!B37","v":82.7383},{"$f":"'[1]FR - Smoothed Self DUTL Mic2'!B37","v":81.12979999999999},{"$f":"'[1]FR - Smoothed Self DUTL Mic3'!B37","v":82.55250000000001},{"$f":"'[1]FR - Smoothed Self DUTL Mic4'!B37","v":80.7499},null,375,92.4247,90.34389999999999,73.3639,73.5859,73.4247,73.4503,82.2378,80.68070000000002,81.9145,80.1745]
[{"$f":"'[1]FR - Smoothed DUTL Left'!A38","v":400},{"$f":"'[1]FR - Smoothed DUTL Left'!B38","v":93.424},{"$f":"'[1]FR - Smoothed DUTL Right'!B38","v":91.5796},{"$f":"'[1]FR - Smoothed DUTL Mic1'!B38","v":72.8896},{"$f":"'[1]FR - Smoothed DUTL Mic2'!B38","v":73.0701},{"$f":"'[1]FR - Smoothed DUTL Mic3'!B38","v":72.953},{"$f":"'[1]FR - Smoothed DUTL Mic4'!B38","v":72.9244},{"$f":"'[1]FR - Smoothed Self DUTL Mic1'!B38","v":82.88840000000002},{"$f":"'[1]FR - Smoothed Self DUTL Mic2'!B38","v":81.2834},{"$f":"'[1]FR - Smoothed Self DUTL Mic3'!B38","v":82.73349999999999},{"$f":"'[1]FR - Smoothed Self DUTL Mic4'!B38","v":80.9314},null,400,92.86749999999999,90.99,72.8372,73.0932,72.78569999999999,72.84150000000001,82.4375,80.8966,82.13579999999999,80.41]
[{"$f":"'[1]FR - Smoothed DUTL Left'!A39","v":425},{"$f":"'[1]FR - Smoothed DUTL Left'!B39","v":93.689},{"$f":"'[1]FR - Smoothed DUTL Right'!B39","v":92.0617},{"$f":"'[1]FR - Smoothed DUTL Mic1'!B39","v":71.81880000000001},{"$f":"'[1]FR - Smoothed DUTL Mic2'!B39","v":72.09829999999998},{"$f":"'[1]FR - Smoothed DUTL Mic3'!B39","v":71.7409},{"$f":"'[1]FR - Smoothed DUTL Mic4'!B39","v":71.80659999999999},{"$f":"'[1]FR - Smoothed Self DUTL Mic1'!B39","v":83.0866},{"$f":"'[1]FR - Smoothed Self DUTL Mic2'!B39","v":81.56320000000001},{"$f":"'[1]FR - Smoothed Self DUTL Mic3'!B39","v":83.0057},{"$f":"'[1]FR - Smoothed Self DUTL Mic4'!B39","v":81.30050000000001},null,425,93.1285,91.46470000000001,71.7508,72.10780000000001,71.5559,71.70759999999999,82.6115,81.17850000000001,82.3703,80.76109999999998]
[{"$f":"'[1]FR - Smoothed DUTL Left'!A40","v":450},{"$f":"'[1]FR - Smoothed DUTL Left'!B40","v":93.69369999999999},{"$f":"'[1]FR - Smoothed DUTL Right'!B40","v":92.28560000000002},{"$f":"'[1]FR - Smoothed DUTL Mic1'!B40","v":70.10350000000001},{"$f":"'[1]FR - Smoothed DUTL Mic2'!B40","v":70.57849999999999},{"$f":"'[1]FR - Smoothed DUTL Mic3'!B40","v":69.8567},{"$f":"'[1]FR - Smoothed DUTL Mic4'!B40","v":70.12359999999998},{"$f":"'[1]FR - Smoothed Self DUTL Mic1'!B40","v":83.16520000000001},{"$f":"'[1]FR - Smoothed Self DUTL Mic2'!B40","v":81.8083},{"$f":"'[1]FR - Smoothed Self DUTL Mic3'!B40","v":83.17459999999998},{"$f":"'[1]FR - Smoothed Self DUTL Mic4'!B40","v":81.65040000000002},null,450,93.12519999999999,91.68610000000001,70.0273,70.5829,69.6617,70.01700000000001,82.5661,81.31680000000003,82.40939999999999,80.9888]
[{"$f":"'[1]FR - Smoothed DUTL Left'!A41","v":475},{"$f":"'[1]FR - Smoothed DUTL Left'!B41","v":93.38529999999999},{"$f":"'[1]FR - Smoothed DUTL Right'!B41","v":92.27510000000001},{"$f":"'[1]FR - Smoothed DUTL Mic1'!B41","v":67.8956},{"$f":"'[1]FR - Smoothed DUTL Mic2'!B41","v":68.66260000000001},{"$f":"'[1]FR - Smoothed DUTL Mic3'!B41","v":67.7042},{"$f":"'[1]FR - Smoothed DUTL Mic4'!B41","v":68.292},{"$f":"'[1]FR - Smoothed Self DUTL Mic1'!B41","v":82.9327},{"$f":"'[1]FR - Smoothed Self DUTL Mic2'!B41","v":81.8169},{"$f":"'[1]FR - Smoothed Self DUTL Mic3'!B41","v":83.0171},{"$f":"'[1]FR - Smoothed Self DUTL Mic4'!B41","v":81.7343},null,475,92.81840000000001,91.6752,67.82140000000001,68.672,67.51259999999999,68.18890000000002,82.1907,81.16720000000001,82.11749999999999,80.91209999999998]
[{"$f":"'[1]FR - Smoothed DUTL Left'!A42","v":500},{"$f":"'[1]FR - Smoothed DUTL Left'!B42","v":92.94630000000001},{"$f":"'[1]FR - Smoothed DUTL Right'!B42","v":92.21799999999999},{"$f":"'[1]FR - Smoothed DUTL Mic1'!B42","v":66.83959999999999},{"$f":"'[1]FR - Smoothed DUTL Mic2'!B42","v":67.6685},{"$f":"'[1]FR - Smoothed DUTL Mic3'!B42","v":67.71690000000001},{"$f":"'[1]FR - Smoothed DUTL Mic4'!B42","v":68.32140000000001},{"$f":"'[1]FR - Smoothed Self DUTL Mic1'!B42","v":82.21770000000001},{"$f":"'[1]FR - Smoothed Self DUTL Mic2'!B42","v":81.3967},{"$f":"'[1]FR - Smoothed Self DUTL Mic3'!B42","v":82.35929999999999},{"$f":"'[1]FR - Smoothed Self DUTL Mic4'!B42","v":81.35159999999999},null,500,92.362,91.5966,66.7438,67.6559,67.52120000000001,68.20340000000002,81.4491,80.6809,81.45270000000001,80.47540000000001]
[{"$f":"'[1]FR - Smoothed DUTL Left'!A43","v":530},{"$f":"'[1]FR - Smoothed DUTL Left'!B43","v":92.6464},{"$f":"'[1]FR - Smoothed DUTL Right'!B43","v":92.2569},{"$f":"'[1]FR - Smoothed DUTL Mic1'!B43","v":69.5777},{"$f":"'[1]FR - Smoothed DUTL Mic2'!B43","v":69.94819999999999},{"$f":"'[1]FR - Smoothed DUTL Mic3'!B43","v":70.94380000000001},{"$f":"'[1]FR - Smoothed DUTL Mic4'!B43","v":71.16929999999999},{"$f":"'[1]FR - Smoothed Self DUTL Mic1'!B43","v":80.9408},{"$f":"'[1]FR - Smoothed Self DUTL Mic2'!B43","v":80.4136},{"$f":"'[1]FR - Smoothed Self DUTL Mic3'!B43","v":81.1643},{"$f":"'[1]FR - Smoothed Self DUTL Mic4'!B43","v":80.4065},null,530,92.02159999999999,91.6135,69.4579,69.9011,70.7467,71.04060000000001,80.3118,79.81620000000001,80.4272,79.6763]
[{"$f":"'[1]FR - Smoothed DUTL Left'!A44","v":560},{"$f":"'[1]FR - Smoothed DUTL Left'!B44","v":92.4881},{"$f":"'[1]FR - Smoothed DUTL Right'!B44","v":92.35589999999999},{"$f":"'[1]FR - Smoothed DUTL Mic1'!B44","v":73.1756},{"$f":"'[1]FR - Smoothed DUTL Mic2'!B44","v":73.3211},{"$f":"'[1]FR - Smoothed DUTL Mic3'!B44","v":74.1472},{"$f":"'[1]FR - Smoothed DUTL Mic4'!B44","v":74.1791},{"$f":"'[1]FR - Smoothed Self DUTL Mic1'!B44","v":79.26230000000001},{"$f":"'[1]FR - Smoothed Self DUTL Mic2'!B44","v":78.88220000000001},{"$f":"'[1]FR - Smoothed Self DUTL Mic3'!B44","v":79.68909999999998},{"$f":"'[1]FR - Smoothed Self DUTL Mic4'!B44","v":79.00160000000001},null,560,91.84409999999998,91.7071,73.06509999999999,73.279,73.9572,74.058,78.8278,78.54329999999999,79.1771,78.5685]
[{"$f":"'[1]FR - Smoothed DUTL Left'!A45","v":600},{"$f":"'[1]FR - Smoothed DUTL Left'!B45","v":92.3394},{"$f":"'[1]FR - Smoothed DUTL Right'!B45","v":92.4075},{"$f":"'[1]FR - Smoothed DUTL Mic1'!B45","v":75.70509999999999},{"$f":"'[1]FR - Smoothed DUTL Mic2'!B45","v":75.833},{"$f":"'[1]FR - Smoothed DUTL Mic3'!B45","v":76.27169999999998},{"$f":"'[1]FR - Smoothed DUTL Mic4'!B45","v":76.2655},{"$f":"'[1]FR - Smoothed Self DUTL Mic1'!B45","v":77.75570000000002},{"$f":"'[1]FR - Smoothed Self DUTL Mic2'!B45","v":77.0921},{"$f":"'[1]FR - Smoothed Self DUTL Mic3'!B45","v":78.5582},{"$f":"'[1]FR - Smoothed Self DUTL Mic4'!B45","v":77.53999999999999},null,600,91.6809,91.75949999999999,75.60659999999999,75.804,76.08940000000001,76.1537,77.3053,76.9308,78.0481,77.294]
[{"$f":"'[1]FR - Smoothed DUTL Left'!A46","v":630},{"$f":"'[1]FR - Smoothed DUTL Left'!B46","v":91.905},{"$f":"'[1]FR - Smoothed DUTL Right'!B46","v":92.29239999999999},{"$f":"'[1]FR - Smoothed DUTL Mic1'!B46","v":77.1938},{"$f":"'[1]FR - Smoothed DUTL Mic2'!B46","v":77.4336},{"$f":"'[1]FR - Smoothed DUTL Mic3'!B46","v":77.45709999999998},{"$f":"'[1]FR - Smoothed DUTL Mic4'!B46","v":77.53229999999999},{"$f":"'[1]FR - Smoothed Self DUTL Mic1'!B46","v":76.9558},{"$f":"'[1]FR - Smoothed Self DUTL Mic2'!B46","v":75.5617},{"$f":"'[1]FR - Smoothed Self DUTL Mic3'!B46","v":78.1054},{"$f":"'[1]FR - Smoothed Self DUTL Mic4'!B46","v":76.5073},null,630,91.25219999999999,91.6686,77.102,77.4143,77.27950000000001,77.42759999999998,76.26380000000002,75.28549999999998,77.3927,76.1319]
[{"$f":"'[1]FR - Smoothed DUTL Left'!A47","v":670},{"$f":"'[1]FR - Smoothed DUTL Left'!B47","v":90.926},{"$f":"'[1]FR - Smoothed DUTL Right'!B47","v":91.9835},{"$f":"'[1]FR - Smoothed DUTL Mic1'!B47","v":77.9004},{"$f":"'[1]FR - Smoothed DUTL Mic2'!B47","v":78.34060000000001},{"$f":"'[1]FR - Smoothed DUTL Mic3'!B47","v":77.93969999999999},{"$f":"'[1]FR - Smoothed DUTL Mic4'!B47","v":78.2},{"$f":"'[1]FR - Smoothed Self DUTL Mic1'!B47","v":76.54790000000001},{"$f":"'[1]FR - Smoothed Self DUTL Mic2'!B47","v":74.50769999999999},{"$f":"'[1]FR - Smoothed Self DUTL Mic3'!B47","v":77.8136},{"$f":"'[1]FR - Smoothed Self DUTL Mic4'!B47","v":75.85929999999999},null,670,90.31769999999999,91.39289999999998,77.8101,78.3261,77.7652,78.09970000000001,75.7467,74.0488,77.048,75.3408]
[{"$f":"'[1]FR - Smoothed DUTL Left'!A48","v":710},{"$f":"'[1]FR - Smoothed DUTL Left'!B48","v":89.3507},{"$f":"'[1]FR - Smoothed DUTL Right'!B48","v":91.5291},{"$f":"'[1]FR - Smoothed DUTL Mic1'!B48","v":77.97079999999998},{"$f":"'[1]FR - Smoothed DUTL Mic2'!B48","v":78.64489999999999},{"$f":"'[1]FR - Smoothed DUTL Mic3'!B48","v":77.83339999999998},{"$f":"'[1]FR - Smoothed DUTL Mic4'!B48","v":78.3425},{"$f":"'[1]FR - Smoothed Self DUTL Mic1'!B48","v":76.09789999999998},{"$f":"'[1]FR - Smoothed Self DUTL Mic2'!B48","v":73.8374},{"$f":"'[1]FR - Smoothed Self DUTL Mic3'!B48","v":77.24080000000001},{"$f":"'[1]FR - Smoothed Self DUTL Mic4'!B48","v":75.29360000000001},null,710,88.7843,90.95100000000001,77.8827,78.63149999999999,77.66300000000001,78.24370000000002,75.40700000000001,73.3896,76.5902,74.84279999999998]
[{"$f":"'[1]FR - Smoothed DUTL Left'!A49","v":750},{"$f":"'[1]FR - Smoothed DUTL Left'!B49","v":87.2918},{"$f":"'[1]FR - Smoothed DUTL Right'!B49","v":91.0458},{"$f":"'[1]FR - Smoothed DUTL Mic1'!B49","v":77.4127},{"$f":"'[1]FR - Smoothed DUTL Mic2'!B49","v":78.35620000000002},{"$f":"'[1]FR - Smoothed DUTL Mic3'!B49","v":77.0993},{"$f":"'[1]FR - Smoothed DUTL Mic4'!B49","v":77.92269999999999},{"$f":"'[1]FR - Smoothed Self DUTL Mic1'!B49","v":75.6532},{"$f":"'[1]FR - Smoothed Self DUTL Mic2'!B49","v":73.5661},{"$f":"'[1]FR - Smoothed Self DUTL Mic3'!B49","v":76.4645},{"$f":"'[1]FR - Smoothed Self DUTL Mic4'!B49","v":74.7534},null,750,86.74249999999999,90.4647,77.3314,78.3407,76.9351,77.8218,75.1835,73.2085,75.91180000000001,74.38739999999999]
[{"$f":"'[1]FR - Smoothed DUTL Left'!A50","v":800},{"$f":"'[1]FR - Smoothed DUTL Left'!B50","v":85.9731},{"$f":"'[1]FR - Smoothed DUTL Right'!B50","v":90.83210000000001},{"$f":"'[1]FR - Smoothed DUTL Mic1'!B50","v":76.2013},{"$f":"'[1]FR - Smoothed DUTL Mic2'!B50","v":77.56559999999999},{"$f":"'[1]FR - Smoothed DUTL Mic3'!B50","v":75.6644},{"$f":"'[1]FR - Smoothed DUTL Mic4'!B50","v":76.97809999999998},{"$f":"'[1]FR - Smoothed Self DUTL Mic1'!B50","v":75.40050000000001},{"$f":"'[1]FR - Smoothed Self DUTL Mic2'!B50","v":73.5989},{"$f":"'[1]FR - Smoothed Self DUTL Mic3'!B50","v":75.81969999999998},{"$f":"'[1]FR - Smoothed Self DUTL Mic4'!B50","v":74.30469999999998},null,800,85.4072,90.23890000000002,76.1328,77.5496,75.5104,76.8771,75.09560000000002,73.2741,75.22459999999998,73.87379999999999]
[{"$f":"'[1]FR - Smoothed DUTL Left'!A51","v":850},{"$f":"'[1]FR - Smoothed DUTL Left'!B51","v":87.28329999999998},{"$f":"'[1]FR - Smoothed DUTL Right'!B51","v":91.0315},{"$f":"'[1]FR - Smoothed DUTL Mic1'!B51","v":74.4588},{"$f":"'[1]FR - Smoothed DUTL Mic2'!B51","v":76.5216},{"$f":"'[1]FR - Smoothed DUTL Mic3'!B51","v":73.7565},{"$f":"'[1]FR - Smoothed DUTL Mic4'!B51","v":75.82059999999998},{"$f":"'[1]FR - Smoothed Self DUTL Mic1'!B51","v":75.6011},{"$f":"'[1]FR - Smoothed Self DUTL Mic2'!B51","v":73.8036},{"$f":"'[1]FR - Smoothed Self DUTL Mic3'!B51","v":75.81109999999998},{"$f":"'[1]FR - Smoothed Self DUTL Mic4'!B51","v":74.1618},null,850,86.67240000000001,90.413,74.40639999999999,76.512,73.61670000000001,75.7302,75.24960000000002,73.4176,75.0548,73.54529999999998]
[{"$f":"'[1]FR - Smoothed DUTL Left'!A52","v":900},{"$f":"'[1]FR - Smoothed DUTL Left'!B52","v":89.27529999999999},{"$f":"'[1]FR - Smoothed DUTL Right'!B52","v":91.38950000000001},{"$f":"'[1]FR - Smoothed DUTL Mic1'!B52","v":72.5725},{"$f":"'[1]FR - Smoothed DUTL Mic2'!B52","v":75.396},{"$f":"'[1]FR - Smoothed DUTL Mic3'!B52","v":72.19179999999999},{"$f":"'[1]FR - Smoothed DUTL Mic4'!B52","v":74.8393},{"$f":"'[1]FR - Smoothed Self DUTL Mic1'!B52","v":76.4877},{"$f":"'[1]FR - Smoothed Self DUTL Mic2'!B52","v":74.2862},{"$f":"'[1]FR - Smoothed Self DUTL Mic3'!B52","v":76.68299999999999},{"$f":"'[1]FR - Smoothed Self DUTL Mic4'!B52","v":74.6041},null,900,88.6309,90.7413,72.53390000000002,75.4072,72.0621,74.77690000000001,75.96239999999999,73.7856,75.8228,73.85069999999999]
[{"$f":"'[1]FR - Smoothed DUTL Left'!A53","v":950},{"$f":"'[1]FR - Smoothed DUTL Left'!B53","v":90.4749},{"$f":"'[1]FR - Smoothed DUTL Right'!B53","v":91.59189999999998},{"$f":"'[1]FR - Smoothed DUTL Mic1'!B53","v":71.0837},{"$f":"'[1]FR - Smoothed DUTL Mic2'!B53","v":73.95139999999999},{"$f":"'[1]FR - Smoothed DUTL Mic3'!B53","v":71.64399999999999},{"$f":"'[1]FR - Smoothed DUTL Mic4'!B53","v":73.8793},{"$f":"'[1]FR - Smoothed Self DUTL Mic1'!B53","v":77.6192},{"$f":"'[1]FR - Smoothed Self DUTL Mic2'!B53","v":75.0498},{"$f":"'[1]FR - Smoothed Self DUTL Mic3'!B53","v":77.7926},{"$f":"'[1]FR - Smoothed Self DUTL Mic4'!B53","v":75.41380000000001},null,950,89.8204,90.90780000000001,71.03869999999999,73.9946,71.4932,73.8488,76.9942,74.4484,76.9265,74.6221]
[{"$f":"'[1]FR - Smoothed DUTL Left'!A54","v":1000},{"$f":"'[1]FR - Smoothed DUTL Left'!B54","v":90.8615},{"$f":"'[1]FR - Smoothed DUTL Right'!B54","v":91.44449999999999},{"$f":"'[1]FR - Smoothed DUTL Mic1'!B54","v":71.05030000000001},{"$f":"'[1]FR - Smoothed DUTL Mic2'!B54","v":72.0846},{"$f":"'[1]FR - Smoothed DUTL Mic3'!B54","v":72.0343},{"$f":"'[1]FR - Smoothed DUTL Mic4'!B54","v":72.58590000000001},{"$f":"'[1]FR - Smoothed Self DUTL Mic1'!B54","v":78.2458},{"$f":"'[1]FR - Smoothed Self DUTL Mic2'!B54","v":75.68260000000001},{"$f":"'[1]FR - Smoothed Self DUTL Mic3'!B54","v":78.3271},{"$f":"'[1]FR - Smoothed Self DUTL Mic4'!B54","v":75.9684},null,1000,90.2019,90.7433,70.93830000000001,72.14189999999999,71.81819999999999,72.5592,77.59380000000002,75.022,77.4811,75.1711]
[{"$f":"'[1]FR - Smoothed DUTL Left'!A55","v":1060},{"$f":"'[1]FR - Smoothed DUTL Left'!B55","v":90.48819999999999},{"$f":"'[1]FR - Smoothed DUTL Right'!B55","v":90.85900000000001},{"$f":"'[1]FR - Smoothed DUTL Mic1'!B55","v":72.84089999999999},{"$f":"'[1]FR - Smoothed DUTL Mic2'!B55","v":70.9999},{"$f":"'[1]FR - Smoothed DUTL Mic3'!B55","v":73.4043},{"$f":"'[1]FR - Smoothed DUTL Mic4'!B55","v":71.5334},{"$f":"'[1]FR - Smoothed Self DUTL Mic1'!B55","v":78.0337},{"$f":"'[1]FR - Smoothed Self DUTL Mic2'!B55","v":75.8001},{"$f":"'[1]FR - Smoothed Self DUTL Mic3'!B55","v":77.9924},{"$f":"'[1]FR - Smoothed Self DUTL Mic4'!B55","v":75.9319},null,1060,89.8241,90.16480000000001,72.6639,70.9759,73.1206,71.42099999999999,77.38320000000002,75.12939999999999,77.1819,75.1504]
[{"$f":"'[1]FR - Smoothed DUTL Left'!A56","v":1120},{"$f":"'[1]FR - Smoothed DUTL Left'!B56","v":89.562},{"$f":"'[1]FR - Smoothed DUTL Right'!B56","v":90.06309999999999},{"$f":"'[1]FR - Smoothed DUTL Mic1'!B56","v":75.167},{"$f":"'[1]FR - Smoothed DUTL Mic2'!B56","v":72.22209999999998},{"$f":"'[1]FR - Smoothed DUTL Mic3'!B56","v":75.60260000000001},{"$f":"'[1]FR - Smoothed DUTL Mic4'!B56","v":72.46419999999999},{"$f":"'[1]FR - Smoothed Self DUTL Mic1'!B56","v":77.17030000000001},{"$f":"'[1]FR - Smoothed Self DUTL Mic2'!B56","v":75.5501},{"$f":"'[1]FR - Smoothed Self DUTL Mic3'!B56","v":76.9745},{"$f":"'[1]FR - Smoothed Self DUTL Mic4'!B56","v":75.47869999999999},null,1120,88.89189999999999,89.3594,74.9775,72.0872,75.2957,72.2329,76.5245,74.8917,76.20549999999999,74.7037]
[{"$f":"'[1]FR - Smoothed DUTL Left'!A57","v":1180},{"$f":"'[1]FR - Smoothed DUTL Left'!B57","v":88.70129999999999},{"$f":"'[1]FR - Smoothed DUTL Right'!B57","v":89.523},{"$f":"'[1]FR - Smoothed DUTL Mic1'!B57","v":77.0232},{"$f":"'[1]FR - Smoothed DUTL Mic2'!B57","v":74.2835},{"$f":"'[1]FR - Smoothed DUTL Mic3'!B57","v":77.61209999999998},{"$f":"'[1]FR - Smoothed DUTL Mic4'!B57","v":74.6226},{"$f":"'[1]FR - Smoothed Self DUTL Mic1'!B57","v":76.1618},{"$f":"'[1]FR - Smoothed Self DUTL Mic2'!B57","v":75.39189999999999},{"$f":"'[1]FR - Smoothed Self DUTL Mic3'!B57","v":75.7191},{"$f":"'[1]FR - Smoothed Self DUTL Mic4'!B57","v":74.90700000000001},null,1180,87.98799999999999,88.80430000000001,76.84299999999999,74.1379,77.3185,74.3865,75.47470000000001,74.6581,74.9505,74.09079999999999]
[{"$f":"'[1]FR - Smoothed DUTL Left'!A58","v":1250},{"$f":"'[1]FR - Smoothed DUTL Left'!B58","v":88.3581},{"$f":"'[1]FR - Smoothed DUTL Right'!B58","v":89.7255},{"$f":"'[1]FR - Smoothed DUTL Mic1'!B58","v":78.00670000000001},{"$f":"'[1]FR - Smoothed DUTL Mic2'!B58","v":75.7569},{"$f":"'[1]FR - Smoothed DUTL Mic3'!B58","v":78.7711},{"$f":"'[1]FR - Smoothed DUTL Mic4'!B58","v":76.255},{"$f":"'[1]FR - Smoothed Self DUTL Mic1'!B58","v":75.20070000000001},{"$f":"'[1]FR - Smoothed Self DUTL Mic2'!B58","v":75.17490000000001},{"$f":"'[1]FR - Smoothed Self DUTL Mic3'!B58","v":74.5135},{"$f":"'[1]FR - Smoothed Self DUTL Mic4'!B58","v":74.01689999999999},null,1250,87.61449999999999,88.96039999999999,77.8443,75.64290000000001,78.5056,76.04910000000001,74.43959999999998,74.2274,73.7089,73.1519]
[{"$f":"'[1]FR - Smoothed DUTL Left'!A59","v":1320},{"$f":"'[1]FR - Smoothed DUTL Left'!B59","v":88.3325},{"$f":"'[1]FR - Smoothed DUTL Right'!B59","v":90.886},{"$f":"'[1]FR - Smoothed DUTL Mic1'!B59","v":78.13289999999999},{"$f":"'[1]FR - Smoothed DUTL Mic2'!B59","v":76.49860000000002},{"$f":"'[1]FR - Smoothed DUTL Mic3'!B59","v":78.9701},{"$f":"'[1]FR - Smoothed DUTL Mic4'!B59","v":76.99430000000001},{"$f":"'[1]FR - Smoothed Self DUTL Mic1'!B59","v":73.8726},{"$f":"'[1]FR - Smoothed Self DUTL Mic2'!B59","v":74.2541},{"$f":"'[1]FR - Smoothed Self DUTL Mic3'!B59","v":73.3943},{"$f":"'[1]FR - Smoothed Self DUTL Mic4'!B59","v":72.35640000000001},null,1320,87.53110000000001,90.05620000000002,77.9959,76.42660000000001,78.7382,76.8158,73.20219999999999,73.1205,72.7061,71.5457]
[{"$f":"'[1]FR - Smoothed DUTL Left'!A60","v":1400},{"$f":"'[1]FR - Smoothed DUTL Left'!B60","v":88.3197},{"$f":"'[1]FR - Smoothed DUTL Right'!B60","v":92.0644},{"$f":"'[1]FR - Smoothed DUTL Mic1'!B60","v":77.69290000000001},{"$f":"'[1]FR - Smoothed DUTL Mic2'!B60","v":76.7177},{"$f":"'[1]FR - Smoothed DUTL Mic3'!B60","v":78.489},{"$f":"'[1]FR - Smoothed DUTL Mic4'!B60","v":77.15010000000001},{"$f":"'[1]FR - Smoothed Self DUTL Mic1'!B60","v":72.1683},{"$f":"'[1]FR - Smoothed Self DUTL Mic2'!B60","v":72.2425},{"$f":"'[1]FR - Smoothed Self DUTL Mic3'!B60","v":72.88759999999999},{"$f":"'[1]FR - Smoothed Self DUTL Mic4'!B60","v":70.2374},null,1400,87.4201,91.2497,77.5846,76.6905,78.2886,76.9952,72.095,71.22849999999998,72.57999999999998,69.7261]
[{"$f":"'[1]FR - Smoothed DUTL Left'!A61","v":1500},{"$f":"'[1]FR - Smoothed DUTL Left'!B61","v":88.06520000000002},{"$f":"'[1]FR - Smoothed DUTL Right'!B61","v":92.6753},{"$f":"'[1]FR - Smoothed DUTL Mic1'!B61","v":77.61410000000001},{"$f":"'[1]FR - Smoothed DUTL Mic2'!B61","v":77.15350000000001},{"$f":"'[1]FR - Smoothed DUTL Mic3'!B61","v":78.41329999999999},{"$f":"'[1]FR - Smoothed DUTL Mic4'!B61","v":77.73179999999999},{"$f":"'[1]FR - Smoothed Self DUTL Mic1'!B61","v":71.5567},{"$f":"'[1]FR - Smoothed Self DUTL Mic2'!B61","v":69.8397},{"$f":"'[1]FR - Smoothed Self DUTL Mic3'!B61","v":73.29950000000001},{"$f":"'[1]FR - Smoothed Self DUTL Mic4'!B61","v":69.66499999999999},null,1500,87.11390000000002,91.9567,77.52969999999999,77.1635,78.22319999999999,77.5959,72.0676,69.4497,73.1948,69.34920000000001]
[{"$f":"'[1]FR - Smoothed DUTL Left'!A62","v":1600},{"$f":"'[1]FR - Smoothed DUTL Left'!B62","v":87.44700000000002},{"$f":"'[1]FR - Smoothed DUTL Right'!B62","v":92.66550000000002},{"$f":"'[1]FR - Smoothed DUTL Mic1'!B62","v":79.15100000000001},{"$f":"'[1]FR - Smoothed DUTL Mic2'!B62","v":78.8553},{"$f":"'[1]FR - Smoothed DUTL Mic3'!B62","v":79.8288},{"$f":"'[1]FR - Smoothed DUTL Mic4'!B62","v":79.44279999999999},{"$f":"'[1]FR - Smoothed Self DUTL Mic1'!B62","v":72.467},{"$f":"'[1]FR - Smoothed Self DUTL Mic2'!B62","v":69.436},{"$f":"'[1]FR - Smoothed Self DUTL Mic3'!B62","v":73.63980000000001},{"$f":"'[1]FR - Smoothed Self DUTL Mic4'!B62","v":70.4648},null,1600,86.42280000000001,92.0809,79.07300000000001,78.8711,79.6274,79.3105,72.6828,69.1625,73.47640000000001,70.0001]
[{"$f":"'[1]FR - Smoothed DUTL Left'!A63","v":1700},{"$f":"'[1]FR - Smoothed DUTL Left'!B63","v":86.5525},{"$f":"'[1]FR - Smoothed DUTL Right'!B63","v":92.04169999999999},{"$f":"'[1]FR - Smoothed DUTL Mic1'!B63","v":81.6477},{"$f":"'[1]FR - Smoothed DUTL Mic2'!B63","v":81.2779},{"$f":"'[1]FR - Smoothed DUTL Mic3'!B63","v":81.8524},{"$f":"'[1]FR - Smoothed DUTL Mic4'!B63","v":81.4154},{"$f":"'[1]FR - Smoothed Self DUTL Mic1'!B63","v":73.7313},{"$f":"'[1]FR - Smoothed Self DUTL Mic2'!B63","v":71.4553},{"$f":"'[1]FR - Smoothed Self DUTL Mic3'!B63","v":73.6524},{"$f":"'[1]FR - Smoothed Self DUTL Mic4'!B63","v":71.31620000000001},null,1700,85.48989999999998,91.66779999999999,81.5753,81.27890000000001,81.6577,81.2832,73.3382,70.514,73.49289999999999,70.90169999999999]
[{"$f":"'[1]FR - Smoothed DUTL Left'!A64","v":1800},{"$f":"'[1]FR - Smoothed DUTL Left'!B64","v":85.96760000000002},{"$f":"'[1]FR - Smoothed DUTL Right'!B64","v":91.1735},{"$f":"'[1]FR - Smoothed DUTL Mic1'!B64","v":83.6972},{"$f":"'[1]FR - Smoothed DUTL Mic2'!B64","v":83.2806},{"$f":"'[1]FR - Smoothed DUTL Mic3'!B64","v":83.3335},{"$f":"'[1]FR - Smoothed DUTL Mic4'!B64","v":82.803},{"$f":"'[1]FR - Smoothed Self DUTL Mic1'!B64","v":74.72030000000001},{"$f":"'[1]FR - Smoothed Self DUTL Mic2'!B64","v":73.5887},{"$f":"'[1]FR - Smoothed Self DUTL Mic3'!B64","v":73.90190000000003},{"$f":"'[1]FR - Smoothed Self DUTL Mic4'!B64","v":72.38589999999999},null,1800,85.0018,91.09630000000001,83.6469,83.2798,83.16960000000002,82.68789999999998,73.88820000000001,72.40119999999999,73.98779999999998,72.3287]
[{"$f":"'[1]FR - Smoothed DUTL Left'!A65","v":1900},{"$f":"'[1]FR - Smoothed DUTL Left'!B65","v":85.8031},{"$f":"'[1]FR - Smoothed DUTL Right'!B65","v":90.3699},{"$f":"'[1]FR - Smoothed DUTL Mic1'!B65","v":84.8825},{"$f":"'[1]FR - Smoothed DUTL Mic2'!B65","v":84.60690000000001},{"$f":"'[1]FR - Smoothed DUTL Mic3'!B65","v":84.04220000000001},{"$f":"'[1]FR - Smoothed DUTL Mic4'!B65","v":83.5868},{"$f":"'[1]FR - Smoothed Self DUTL Mic1'!B65","v":75.2153},{"$f":"'[1]FR - Smoothed Self DUTL Mic2'!B65","v":74.75220000000002},{"$f":"'[1]FR - Smoothed Self DUTL Mic3'!B65","v":74.5147},{"$f":"'[1]FR - Smoothed Self DUTL Mic4'!B65","v":73.4342},null,1900,84.93460000000002,90.52349999999998,84.8577,84.6207,83.9127,83.5057,74.1357,73.6125,74.7681,73.64840000000001]
[{"$f":"'[1]FR - Smoothed DUTL Left'!A66","v":2000},{"$f":"'[1]FR - Smoothed DUTL Left'!B66","v":85.3773},{"$f":"'[1]FR - Smoothed DUTL Right'!B66","v":89.6481},{"$f":"'[1]FR - Smoothed DUTL Mic1'!B66","v":85.43790000000001},{"$f":"'[1]FR - Smoothed DUTL Mic2'!B66","v":85.54940000000002},{"$f":"'[1]FR - Smoothed DUTL Mic3'!B66","v":84.17949999999999},{"$f":"'[1]FR - Smoothed DUTL Mic4'!B66","v":84.11229999999999},{"$f":"'[1]FR - Smoothed Self DUTL Mic1'!B66","v":75.0271},{"$f":"'[1]FR - Smoothed Self DUTL Mic2'!B66","v":74.7053},{"$f":"'[1]FR - Smoothed Self DUTL Mic3'!B66","v":74.77040000000002},{"$f":"'[1]FR - Smoothed Self DUTL Mic4'!B66","v":73.7545},null,2000,84.55319999999999,89.895,85.4198,85.58550000000001,84.05819999999999,84.0669,73.78739999999999,73.6752,74.96029999999999,74.0178]
[{"$f":"'[1]FR - Smoothed DUTL Left'!A67","v":2120},{"$f":"'[1]FR - Smoothed DUTL Left'!B67","v":84.4289},{"$f":"'[1]FR - Smoothed DUTL Right'!B67","v":88.7082},{"$f":"'[1]FR - Smoothed DUTL Mic1'!B67","v":85.4897},{"$f":"'[1]FR - Smoothed DUTL Mic2'!B67","v":86.11290000000001},{"$f":"'[1]FR - Smoothed DUTL Mic3'!B67","v":83.8751},{"$f":"'[1]FR - Smoothed DUTL Mic4'!B67","v":84.5138},{"$f":"'[1]FR - Smoothed Self DUTL Mic1'!B67","v":73.85470000000001},{"$f":"'[1]FR - Smoothed Self DUTL Mic2'!B67","v":73.3545},{"$f":"'[1]FR - Smoothed Self DUTL Mic3'!B67","v":73.96599999999998},{"$f":"'[1]FR - Smoothed Self DUTL Mic4'!B67","v":72.90700000000001},null,2120,83.5933,88.9879,85.4502,86.1653,83.7174,84.4724,72.5294,72.471,74.0271,73.07750000000001]
[{"$f":"'[1]FR - Smoothed DUTL Left'!A68","v":2240},{"$f":"'[1]FR - Smoothed DUTL Left'!B68","v":82.10920000000002},{"$f":"'[1]FR - Smoothed DUTL Right'!B68","v":86.99739999999998},{"$f":"'[1]FR - Smoothed DUTL Mic1'!B68","v":84.78370000000001},{"$f":"'[1]FR - Smoothed DUTL Mic2'!B68","v":85.94899999999998},{"$f":"'[1]FR - Smoothed DUTL Mic3'!B68","v":83.05080000000001},{"$f":"'[1]FR - Smoothed DUTL Mic4'!B68","v":84.6508},{"$f":"'[1]FR - Smoothed Self DUTL Mic1'!B68","v":71.6928},{"$f":"'[1]FR - Smoothed Self DUTL Mic2'!B68","v":70.9915},{"$f":"'[1]FR - Smoothed Self DUTL Mic3'!B68","v":72.0349},{"$f":"'[1]FR - Smoothed Self DUTL Mic4'!B68","v":71.06909999999999},null,2240,81.1842,87.36179999999999,84.7082,85.9998,82.83630000000001,84.5736,70.4865,70.3165,72.03330000000001,71.066]
[{"$f":"'[1]FR - Smoothed DUTL Left'!A69","v":2360},{"$f":"'[1]FR - Smoothed DUTL Left'!B69","v":77.38300000000001},{"$f":"'[1]FR - Smoothed DUTL Right'!B69","v":84.8989},{"$f":"'[1]FR - Smoothed DUTL Mic1'!B69","v":83.03240000000001},{"$f":"'[1]FR - Smoothed DUTL Mic2'!B69","v":84.79570000000001},{"$f":"'[1]FR - Smoothed DUTL Mic3'!B69","v":81.531},{"$f":"'[1]FR - Smoothed DUTL Mic4'!B69","v":84.2723},{"$f":"'[1]FR - Smoothed Self DUTL Mic1'!B69","v":68.69250000000001},{"$f":"'[1]FR - Smoothed Self DUTL Mic2'!B69","v":68.3155},{"$f":"'[1]FR - Smoothed Self DUTL Mic3'!B69","v":69.3507},{"$f":"'[1]FR - Smoothed Self DUTL Mic4'!B69","v":68.75399999999999},null,2360,76.21180000000001,85.32959999999999,82.9266,84.8285,81.2835,84.15299999999999,67.91499999999999,67.80049999999999,69.42869999999999,68.7204]
[{"$f":"'[1]FR - Smoothed DUTL Left'!A70","v":2500},{"$f":"'[1]FR - Smoothed DUTL Left'!B70","v":71.1215},{"$f":"'[1]FR - Smoothed DUTL Right'!B70","v":83.47419999999998},{"$f":"'[1]FR - Smoothed DUTL Mic1'!B70","v":80.7758},{"$f":"'[1]FR - Smoothed DUTL Mic2'!B70","v":82.797},{"$f":"'[1]FR - Smoothed DUTL Mic3'!B70","v":79.63469999999998},{"$f":"'[1]FR - Smoothed DUTL Mic4'!B70","v":83.1988},{"$f":"'[1]FR - Smoothed Self DUTL Mic1'!B70","v":65.1049},{"$f":"'[1]FR - Smoothed Self DUTL Mic2'!B70","v":66.756},{"$f":"'[1]FR - Smoothed Self DUTL Mic3'!B70","v":66.59700000000001},{"$f":"'[1]FR - Smoothed Self DUTL Mic4'!B70","v":67.14750000000001},null,2500,69.68339999999998,83.8481,80.63969999999999,82.8035,79.38790000000002,83.0644,64.92429999999999,66.1008,66.72850000000001,67.43910000000001]
[{"$f":"'[1]FR - Smoothed DUTL Left'!A71","v":2650},{"$f":"'[1]FR - Smoothed DUTL Left'!B71","v":68.6104},{"$f":"'[1]FR - Smoothed DUTL Right'!B71","v":82.89410000000001},{"$f":"'[1]FR - Smoothed DUTL Mic1'!B71","v":80.52239999999999},{"$f":"'[1]FR - Smoothed DUTL Mic2'!B71","v":81.1652},{"$f":"'[1]FR - Smoothed DUTL Mic3'!B71","v":79.19969999999999},{"$f":"'[1]FR - Smoothed DUTL Mic4'!B71","v":81.49749999999999},{"$f":"'[1]FR - Smoothed Self DUTL Mic1'!B71","v":62.5191},{"$f":"'[1]FR - Smoothed Self DUTL Mic2'!B71","v":66.8255},{"$f":"'[1]FR - Smoothed Self DUTL Mic3'!B71","v":64.59790000000001},{"$f":"'[1]FR - Smoothed Self DUTL Mic4'!B71","v":67.08689999999999},null,2650,68.5813,83.18929999999999,80.3476,81.15990000000001,78.97420000000001,81.38839999999999,62.56010000000001,66.0096,64.6269,67.5438]
[{"$f":"'[1]FR - Smoothed DUTL Left'!A72","v":2800},{"$f":"'[1]FR - Smoothed DUTL Left'!B72","v":69.255},{"$f":"'[1]FR - Smoothed DUTL Right'!B72","v":82.6482},{"$f":"'[1]FR - Smoothed DUTL Mic1'!B72","v":81.9609},{"$f":"'[1]FR - Smoothed DUTL Mic2'!B72","v":80.8802},{"$f":"'[1]FR - Smoothed DUTL Mic3'!B72","v":80.7825},{"$f":"'[1]FR - Smoothed DUTL Mic4'!B72","v":79.65639999999999},{"$f":"'[1]FR - Smoothed Self DUTL Mic1'!B72","v":62.0579},{"$f":"'[1]FR - Smoothed Self DUTL Mic2'!B72","v":66.6593},{"$f":"'[1]FR - Smoothed Self DUTL Mic3'!B72","v":64.555},{"$f":"'[1]FR - Smoothed Self DUTL Mic4'!B72","v":67.19919999999999},null,2800,69.7932,82.7916,81.7898,80.8847,80.5842,79.59540000000001,61.60880000000001,65.96380000000002,64.613,67.50750000000001]
[{"$f":"'[1]FR - Smoothed DUTL Left'!A73","v":3000},{"$f":"'[1]FR - Smoothed DUTL Left'!B73","v":70.905},{"$f":"'[1]FR - Smoothed DUTL Right'!B73","v":82.4374},{"$f":"'[1]FR - Smoothed DUTL Mic1'!B73","v":83.066},{"$f":"'[1]FR - Smoothed DUTL Mic2'!B73","v":80.86069999999998},{"$f":"'[1]FR - Smoothed DUTL Mic3'!B73","v":82.52700000000002},{"$f":"'[1]FR - Smoothed DUTL Mic4'!B73","v":78.99649999999998},{"$f":"'[1]FR - Smoothed Self DUTL Mic1'!B73","v":62.4962},{"$f":"'[1]FR - Smoothed Self DUTL Mic2'!B73","v":65.5016},{"$f":"'[1]FR - Smoothed Self DUTL Mic3'!B73","v":66.6013},{"$f":"'[1]FR - Smoothed Self DUTL Mic4'!B73","v":66.6854},null,3000,71.4488,82.39519999999999,82.9297,80.8612,82.3494,78.9409,61.69069999999999,65.1321,66.48889999999999,66.6451]
[{"$f":"'[1]FR - Smoothed DUTL Left'!A74","v":3150},{"$f":"'[1]FR - Smoothed DUTL Left'!B74","v":73.1927},{"$f":"'[1]FR - Smoothed DUTL Right'!B74","v":82.6625},{"$f":"'[1]FR - Smoothed DUTL Mic1'!B74","v":83.757},{"$f":"'[1]FR - Smoothed DUTL Mic2'!B74","v":80.7005},{"$f":"'[1]FR - Smoothed DUTL Mic3'!B74","v":83.5644},{"$f":"'[1]FR - Smoothed DUTL Mic4'!B74","v":79.8314},{"$f":"'[1]FR - Smoothed Self DUTL Mic1'!B74","v":62.7496},{"$f":"'[1]FR - Smoothed Self DUTL Mic2'!B74","v":63.2293},{"$f":"'[1]FR - Smoothed Self DUTL Mic3'!B74","v":68.13839999999999},{"$f":"'[1]FR - Smoothed Self DUTL Mic4'!B74","v":65.5761},null,3150,73.6767,82.43569999999998,83.6423,80.6807,83.39110000000001,79.69789999999999,62.268100000000004,63.2174,67.78800000000001,65.02710000000002]
[{"$f":"'[1]FR - Smoothed DUTL Left'!A75","v":3350},{"$f":"'[1]FR - Smoothed DUTL Left'!B75","v":74.79589999999999},{"$f":"'[1]FR - Smoothed DUTL Right'!B75","v":82.9699},{"$f":"'[1]FR - Smoothed DUTL Mic1'!B75","v":84.1371},{"$f":"'[1]FR - Smoothed DUTL Mic2'!B75","v":81.17240000000001},{"$f":"'[1]FR - Smoothed DUTL Mic3'!B75","v":83.69409999999999},{"$f":"'[1]FR - Smoothed DUTL Mic4'!B75","v":81.02950000000001},{"$f":"'[1]FR - Smoothed Self DUTL Mic1'!B75","v":63.37519999999999},{"$f":"'[1]FR - Smoothed Self DUTL Mic2'!B75","v":61.42040000000001},{"$f":"'[1]FR - Smoothed Self DUTL Mic3'!B75","v":68.2465},{"$f":"'[1]FR - Smoothed Self DUTL Mic4'!B75","v":65.0623},null,3350,75.1769,82.5429,84.0254,81.11250000000001,83.51660000000001,80.8355,63.7177,61.48649999999999,67.71000000000001,64.342]
[{"$f":"'[1]FR - Smoothed DUTL Left'!A76","v":3550},{"$f":"'[1]FR - Smoothed DUTL Left'!B76","v":76.15520000000001},{"$f":"'[1]FR - Smoothed DUTL Right'!B76","v":82.84540000000001},{"$f":"'[1]FR - Smoothed DUTL Mic1'!B76","v":83.88500000000002},{"$f":"'[1]FR - Smoothed DUTL Mic2'!B76","v":82.2006},{"$f":"'[1]FR - Smoothed DUTL Mic3'!B76","v":82.987},{"$f":"'[1]FR - Smoothed DUTL Mic4'!B76","v":82.0882},{"$f":"'[1]FR - Smoothed Self DUTL Mic1'!B76","v":65.802},{"$f":"'[1]FR - Smoothed Self DUTL Mic2'!B76","v":61.916},{"$f":"'[1]FR - Smoothed Self DUTL Mic3'!B76","v":66.939},{"$f":"'[1]FR - Smoothed Self DUTL Mic4'!B76","v":65.7434},null,3550,76.5703,82.2261,83.78420000000001,82.1263,82.80940000000001,81.8853,66.49940000000001,61.75110000000001,66.2164,65.36510000000001]
[{"$f":"'[1]FR - Smoothed DUTL Left'!A77","v":3750},{"$f":"'[1]FR - Smoothed DUTL Left'!B77","v":77.30510000000001},{"$f":"'[1]FR - Smoothed DUTL Right'!B77","v":83.12},{"$f":"'[1]FR - Smoothed DUTL Mic1'!B77","v":82.7203},{"$f":"'[1]FR - Smoothed DUTL Mic2'!B77","v":82.852},{"$f":"'[1]FR - Smoothed DUTL Mic3'!B77","v":81.6658},{"$f":"'[1]FR - Smoothed DUTL Mic4'!B77","v":82.7351},{"$f":"'[1]FR - Smoothed Self DUTL Mic1'!B77","v":68.8158},{"$f":"'[1]FR - Smoothed Self DUTL Mic2'!B77","v":63.01550000000001},{"$f":"'[1]FR - Smoothed Self DUTL Mic3'!B77","v":65.7723},{"$f":"'[1]FR - Smoothed Self DUTL Mic4'!B77","v":66.6755},null,3750,77.6894,82.4068,82.64880000000001,82.81090000000002,81.49269999999999,82.5569,69.32849999999999,62.7075,64.72009999999997,66.52350000000001]
[{"$f":"'[1]FR - Smoothed DUTL Left'!A78","v":4000},{"$f":"'[1]FR - Smoothed DUTL Left'!B78","v":78.76470000000002},{"$f":"'[1]FR - Smoothed DUTL Right'!B78","v":84.26509999999999},{"$f":"'[1]FR - Smoothed DUTL Mic1'!B78","v":80.7424},{"$f":"'[1]FR - Smoothed DUTL Mic2'!B78","v":82.71189999999999},{"$f":"'[1]FR - Smoothed DUTL Mic3'!B78","v":80.06380000000001},{"$f":"'[1]FR - Smoothed DUTL Mic4'!B78","v":82.7049},{"$f":"'[1]FR - Smoothed Self DUTL Mic1'!B78","v":71.2354},{"$f":"'[1]FR - Smoothed Self DUTL Mic2'!B78","v":65.8031},{"$f":"'[1]FR - Smoothed Self DUTL Mic3'!B78","v":67.6787},{"$f":"'[1]FR - Smoothed Self DUTL Mic4'!B78","v":68.2397},null,4000,79.01379999999997,83.5931,80.7174,82.7365,79.8832,82.5743,71.4337,65.53200000000001,66.6618,68.0368]
[{"$f":"'[1]FR - Smoothed DUTL Left'!A79","v":4250},{"$f":"'[1]FR - Smoothed DUTL Left'!B79","v":81.42749999999998},{"$f":"'[1]FR - Smoothed DUTL Right'!B79","v":85.34009999999999},{"$f":"'[1]FR - Smoothed DUTL Mic1'!B79","v":78.7154},{"$f":"'[1]FR - Smoothed DUTL Mic2'!B79","v":81.8013},{"$f":"'[1]FR - Smoothed DUTL Mic3'!B79","v":79.1064},{"$f":"'[1]FR - Smoothed DUTL Mic4'!B79","v":81.93659999999998},{"$f":"'[1]FR - Smoothed Self DUTL Mic1'!B79","v":73.1588},{"$f":"'[1]FR - Smoothed Self DUTL Mic2'!B79","v":69.12559999999999},{"$f":"'[1]FR - Smoothed Self DUTL Mic3'!B79","v":70.2568},{"$f":"'[1]FR - Smoothed Self DUTL Mic4'!B79","v":69.83009999999999},null,4250,81.5096,84.6986,78.70949999999999,81.9006,78.89320000000001,81.8511,73.00150000000001,68.9775,69.4798,69.47970000000001]
[{"$f":"'[1]FR - Smoothed DUTL Left'!A80","v":4500},{"$f":"'[1]FR - Smoothed DUTL Left'!B80","v":83.639},{"$f":"'[1]FR - Smoothed DUTL Right'!B80","v":86.10150000000002},{"$f":"'[1]FR - Smoothed DUTL Mic1'!B80","v":78.6497},{"$f":"'[1]FR - Smoothed DUTL Mic2'!B80","v":80.43999999999998},{"$f":"'[1]FR - Smoothed DUTL Mic3'!B80","v":80.0274},{"$f":"'[1]FR - Smoothed DUTL Mic4'!B80","v":80.85400000000001},{"$f":"'[1]FR - Smoothed Self DUTL Mic1'!B80","v":74.7622},{"$f":"'[1]FR - Smoothed Self DUTL Mic2'!B80","v":71.1395},{"$f":"'[1]FR - Smoothed Self DUTL Mic3'!B80","v":71.51469999999999},{"$f":"'[1]FR - Smoothed Self DUTL Mic4'!B80","v":70.43429999999998},null,4500,83.64699999999999,85.46000000000001,78.60330000000002,80.57770000000002,79.7438,80.8063,74.48060000000001,71.1247,70.88309999999998,69.93430000000001]
[{"$f":"'[1]FR - Smoothed DUTL Left'!A81","v":4750},{"$f":"'[1]FR - Smoothed DUTL Left'!B81","v":84.5211},{"$f":"'[1]FR - Smoothed DUTL Right'!B81","v":86.68019999999999},{"$f":"'[1]FR - Smoothed DUTL Mic1'!B81","v":80.5444},{"$f":"'[1]FR - Smoothed DUTL Mic2'!B81","v":79.2942},{"$f":"'[1]FR - Smoothed DUTL Mic3'!B81","v":82.17949999999999},{"$f":"'[1]FR - Smoothed DUTL Mic4'!B81","v":80.4232},{"$f":"'[1]FR - Smoothed Self DUTL Mic1'!B81","v":75.85079999999999},{"$f":"'[1]FR - Smoothed Self DUTL Mic2'!B81","v":72.25919999999999},{"$f":"'[1]FR - Smoothed Self DUTL Mic3'!B81","v":71.6083},{"$f":"'[1]FR - Smoothed Self DUTL Mic4'!B81","v":70.14509999999999},null,4750,84.508,86.10069999999999,80.42100000000002,79.398,81.8646,80.3345,75.7793,72.4154,71.1403,69.4525]
[{"$f":"'[1]FR - Smoothed DUTL Left'!A82","v":5000},{"$f":"'[1]FR - Smoothed DUTL Left'!B82","v":85.10040000000001},{"$f":"'[1]FR - Smoothed DUTL Right'!B82","v":86.70779999999999},{"$f":"'[1]FR - Smoothed DUTL Mic1'!B82","v":82.33600000000001},{"$f":"'[1]FR - Smoothed DUTL Mic2'!B82","v":79.5606},{"$f":"'[1]FR - Smoothed DUTL Mic3'!B82","v":83.8552},{"$f":"'[1]FR - Smoothed DUTL Mic4'!B82","v":81.2917},{"$f":"'[1]FR - Smoothed Self DUTL Mic1'!B82","v":76.50599999999999},{"$f":"'[1]FR - Smoothed Self DUTL Mic2'!B82","v":73.2357},{"$f":"'[1]FR - Smoothed Self DUTL Mic3'!B82","v":71.22909999999999},{"$f":"'[1]FR - Smoothed Self DUTL Mic4'!B82","v":69.32169999999999},null,5000,85.10389999999998,86.1712,82.1632,79.5351,83.55140000000002,81.1379,76.7457,73.5065,71.0014,68.446]
[{"$f":"'[1]FR - Smoothed DUTL Left'!A83","v":5300},{"$f":"'[1]FR - Smoothed DUTL Left'!B83","v":85.7067},{"$f":"'[1]FR - Smoothed DUTL Right'!B83","v":86.5836},{"$f":"'[1]FR - Smoothed DUTL Mic1'!B83","v":83.0233},{"$f":"'[1]FR - Smoothed DUTL Mic2'!B83","v":81.00000000000001},{"$f":"'[1]FR - Smoothed DUTL Mic3'!B83","v":84.2977},{"$f":"'[1]FR - Smoothed DUTL Mic4'!B83","v":82.5755},{"$f":"'[1]FR - Smoothed Self DUTL Mic1'!B83","v":76.9941},{"$f":"'[1]FR - Smoothed Self DUTL Mic2'!B83","v":74.06159999999998},{"$f":"'[1]FR - Smoothed Self DUTL Mic3'!B83","v":71.0266},{"$f":"'[1]FR - Smoothed Self DUTL Mic4'!B83","v":68.2082},null,5300,85.8038,86.01480000000001,82.854,80.87610000000002,84.00450000000002,82.4287,77.38430000000001,74.3107,71.0622,67.287]
[{"$f":"'[1]FR - Smoothed DUTL Left'!A84","v":5600},{"$f":"'[1]FR - Smoothed DUTL Left'!B84","v":85.7481},{"$f":"'[1]FR - Smoothed DUTL Right'!B84","v":86.91080000000001},{"$f":"'[1]FR - Smoothed DUTL Mic1'!B84","v":82.3416},{"$f":"'[1]FR - Smoothed DUTL Mic2'!B84","v":82.24740000000001},{"$f":"'[1]FR - Smoothed DUTL Mic3'!B84","v":83.4477},{"$f":"'[1]FR - Smoothed DUTL Mic4'!B84","v":83.38159999999999},{"$f":"'[1]FR - Smoothed Self DUTL Mic1'!B84","v":77.27869999999999},{"$f":"'[1]FR - Smoothed Self DUTL Mic2'!B84","v":74.3126},{"$f":"'[1]FR - Smoothed Self DUTL Mic3'!B84","v":71.2278},{"$f":"'[1]FR - Smoothed Self DUTL Mic4'!B84","v":67.2185},null,5600,85.97529999999999,86.32910000000001,82.19269999999999,82.1187,83.16170000000001,83.23499999999999,77.64520000000002,74.4799,71.463,66.5963]
[{"$f":"'[1]FR - Smoothed DUTL Left'!A85","v":6000},{"$f":"'[1]FR - Smoothed DUTL Left'!B85","v":85.93280000000001},{"$f":"'[1]FR - Smoothed DUTL Right'!B85","v":87.15209999999999},{"$f":"'[1]FR - Smoothed DUTL Mic1'!B85","v":80.77629999999999},{"$f":"'[1]FR - Smoothed DUTL Mic2'!B85","v":82.63630000000002},{"$f":"'[1]FR - Smoothed DUTL Mic3'!B85","v":81.73620000000001},{"$f":"'[1]FR - Smoothed DUTL Mic4'!B85","v":83.304},{"$f":"'[1]FR - Smoothed Self DUTL Mic1'!B85","v":77.243},{"$f":"'[1]FR - Smoothed Self DUTL Mic2'!B85","v":73.77279999999999},{"$f":"'[1]FR - Smoothed Self DUTL Mic3'!B85","v":71.5347},{"$f":"'[1]FR - Smoothed Self DUTL Mic4'!B85","v":67.70689999999999},null,6000,86.27250000000001,86.5776,80.5986,82.5275,81.4191,83.1333,77.59509999999999,73.8979,71.95320000000001,67.5273]
[{"$f":"'[1]FR - Smoothed DUTL Left'!A86","v":6300},{"$f":"'[1]FR - Smoothed DUTL Left'!B86","v":86.24920000000002},{"$f":"'[1]FR - Smoothed DUTL Right'!B86","v":87.18059999999998},{"$f":"'[1]FR - Smoothed DUTL Mic1'!B86","v":80.28659999999999},{"$f":"'[1]FR - Smoothed DUTL Mic2'!B86","v":81.9057},{"$f":"'[1]FR - Smoothed DUTL Mic3'!B86","v":80.63119999999999},{"$f":"'[1]FR - Smoothed DUTL Mic4'!B86","v":82.08560000000001},{"$f":"'[1]FR - Smoothed Self DUTL Mic1'!B86","v":76.80879999999999},{"$f":"'[1]FR - Smoothed Self DUTL Mic2'!B86","v":73.129},{"$f":"'[1]FR - Smoothed Self DUTL Mic3'!B86","v":71.75429999999999},{"$f":"'[1]FR - Smoothed Self DUTL Mic4'!B86","v":69.50689999999999},null,6300,86.6737,86.7027,80.0264,81.80879999999999,80.2856,81.85940000000001,77.17589999999998,73.40039999999999,72.44149999999999,69.388]
[{"$f":"'[1]FR - Smoothed DUTL Left'!A87","v":6700},{"$f":"'[1]FR - Smoothed DUTL Left'!B87","v":86.239},{"$f":"'[1]FR - Smoothed DUTL Right'!B87","v":87.0567},{"$f":"'[1]FR - Smoothed DUTL Mic1'!B87","v":81.35170000000001},{"$f":"'[1]FR - Smoothed DUTL Mic2'!B87","v":80.36080000000001},{"$f":"'[1]FR - Smoothed DUTL Mic3'!B87","v":80.9632},{"$f":"'[1]FR - Smoothed DUTL Mic4'!B87","v":80.1626},{"$f":"'[1]FR - Smoothed Self DUTL Mic1'!B87","v":76.4366},{"$f":"'[1]FR - Smoothed Self DUTL Mic2'!B87","v":73.28400000000002},{"$f":"'[1]FR - Smoothed Self DUTL Mic3'!B87","v":71.5395},{"$f":"'[1]FR - Smoothed Self DUTL Mic4'!B87","v":70.6251},null,6700,86.75430000000001,86.76149999999998,81.1187,80.24269999999999,80.6863,79.86300000000001,76.4721,74.03229999999999,72.6916,70.53970000000001]
[{"$f":"'[1]FR - Smoothed DUTL Left'!A88","v":7100},{"$f":"'[1]FR - Smoothed DUTL Left'!B88","v":86.363},{"$f":"'[1]FR - Smoothed DUTL Right'!B88","v":87.05600000000001},{"$f":"'[1]FR - Smoothed DUTL Mic1'!B88","v":81.71170000000001},{"$f":"'[1]FR - Smoothed DUTL Mic2'!B88","v":79.6874},{"$f":"'[1]FR - Smoothed DUTL Mic3'!B88","v":81.12589999999999},{"$f":"'[1]FR - Smoothed DUTL Mic4'!B88","v":79.7947},{"$f":"'[1]FR - Smoothed Self DUTL Mic1'!B88","v":76.83149999999999},{"$f":"'[1]FR - Smoothed Self DUTL Mic2'!B88","v":74.0536},{"$f":"'[1]FR - Smoothed Self DUTL Mic3'!B88","v":71.80409999999999},{"$f":"'[1]FR - Smoothed Self DUTL Mic4'!B88","v":70.67949999999999},null,7100,86.9005,86.9408,81.5537,79.4983,80.90639999999999,79.4404,76.1528,75.1409,73.26259999999999,70.86240000000001]
[{"$f":"'[1]FR - Smoothed DUTL Left'!A89","v":7500},{"$f":"'[1]FR - Smoothed DUTL Left'!B89","v":86.785},{"$f":"'[1]FR - Smoothed DUTL Right'!B89","v":87.22200000000001},{"$f":"'[1]FR - Smoothed DUTL Mic1'!B89","v":80.9666},{"$f":"'[1]FR - Smoothed DUTL Mic2'!B89","v":80.5648},{"$f":"'[1]FR - Smoothed DUTL Mic3'!B89","v":80.7505},{"$f":"'[1]FR - Smoothed DUTL Mic4'!B89","v":81.2614},{"$f":"'[1]FR - Smoothed Self DUTL Mic1'!B89","v":77.4322},{"$f":"'[1]FR - Smoothed Self DUTL Mic2'!B89","v":74.9038},{"$f":"'[1]FR - Smoothed Self DUTL Mic3'!B89","v":72.92929999999998},{"$f":"'[1]FR - Smoothed Self DUTL Mic4'!B89","v":70.8043},null,7500,87.29249999999999,87.21029999999999,80.8252,80.32759999999999,80.52,80.91279999999999,76.368,75.7843,74.11269999999999,71.11429999999999]
[{"$f":"'[1]FR - Smoothed DUTL Left'!A90","v":8000},{"$f":"'[1]FR - Smoothed DUTL Left'!B90","v":87.1793},{"$f":"'[1]FR - Smoothed DUTL Right'!B90","v":87.40579999999999},{"$f":"'[1]FR - Smoothed DUTL Mic1'!B90","v":80.1926},{"$f":"'[1]FR - Smoothed DUTL Mic2'!B90","v":80.8326},{"$f":"'[1]FR - Smoothed DUTL Mic3'!B90","v":81.10499999999999},{"$f":"'[1]FR - Smoothed DUTL Mic4'!B90","v":81.905},{"$f":"'[1]FR - Smoothed Self DUTL Mic1'!B90","v":77.599},{"$f":"'[1]FR - Smoothed Self DUTL Mic2'!B90","v":75.2562},{"$f":"'[1]FR - Smoothed Self DUTL Mic3'!B90","v":73.424},{"$f":"'[1]FR - Smoothed Self DUTL Mic4'!B90","v":71.5313},null,8000,87.67429999999999,87.3498,79.9704,80.55279999999998,80.78139999999999,81.5987,76.5616,75.5489,74.23669999999998,71.5502]
[{"$f":"'[1]FR - Smoothed DUTL Left'!A91","v":8500},{"$f":"'[1]FR - Smoothed DUTL Left'!B91","v":87.13050000000001},{"$f":"'[1]FR - Smoothed DUTL Right'!B91","v":87.6196},{"$f":"'[1]FR - Smoothed DUTL Mic1'!B91","v":80.04990000000001},{"$f":"'[1]FR - Smoothed DUTL Mic2'!B91","v":80.12129999999999},{"$f":"'[1]FR - Smoothed DUTL Mic3'!B91","v":82.0222},{"$f":"'[1]FR - Smoothed DUTL Mic4'!B91","v":81.43929999999999},{"$f":"'[1]FR - Smoothed Self DUTL Mic1'!B91","v":77.17530000000001},{"$f":"'[1]FR - Smoothed Self DUTL Mic2'!B91","v":74.8039},{"$f":"'[1]FR - Smoothed Self DUTL Mic3'!B91","v":72.8551},{"$f":"'[1]FR - Smoothed Self DUTL Mic4'!B91","v":72.0475},null,8500,87.6115,87.4837,79.79650000000001,79.7757,81.66349999999998,81.20679999999999,76.31039999999999,74.5501,73.42380000000001,71.5704]
[{"$f":"'[1]FR - Smoothed DUTL Left'!A92","v":9000},{"$f":"'[1]FR - Smoothed DUTL Left'!B92","v":87.05570000000002},{"$f":"'[1]FR - Smoothed DUTL Right'!B92","v":87.58070000000001},{"$f":"'[1]FR - Smoothed DUTL Mic1'!B92","v":80.05760000000001},{"$f":"'[1]FR - Smoothed DUTL Mic2'!B92","v":80.2847},{"$f":"'[1]FR - Smoothed DUTL Mic3'!B92","v":82.1407},{"$f":"'[1]FR - Smoothed DUTL Mic4'!B92","v":81.16060000000002},{"$f":"'[1]FR - Smoothed Self DUTL Mic1'!B92","v":76.3347},{"$f":"'[1]FR - Smoothed Self DUTL Mic2'!B92","v":73.6182},{"$f":"'[1]FR - Smoothed Self DUTL Mic3'!B92","v":71.5104},{"$f":"'[1]FR - Smoothed Self DUTL Mic4'!B92","v":72.1315},null,9000,87.52860000000001,87.5105,79.8406,79.97630000000001,81.79150000000001,80.9845,75.7809,73.4124,72.167,71.08579999999999]
[{"$f":"'[1]FR - Smoothed DUTL Left'!A93","v":9500},{"$f":"'[1]FR - Smoothed DUTL Left'!B93","v":87.5735},{"$f":"'[1]FR - Smoothed DUTL Right'!B93","v":87.7154},{"$f":"'[1]FR - Smoothed DUTL Mic1'!B93","v":80.18709999999999},{"$f":"'[1]FR - Smoothed DUTL Mic2'!B93","v":81.40889999999999},{"$f":"'[1]FR - Smoothed DUTL Mic3'!B93","v":81.27579999999999},{"$f":"'[1]FR - Smoothed DUTL Mic4'!B93","v":81.54060000000001},{"$f":"'[1]FR - Smoothed Self DUTL Mic1'!B93","v":75.72420000000001},{"$f":"'[1]FR - Smoothed Self DUTL Mic2'!B93","v":72.8514},{"$f":"'[1]FR - Smoothed Self DUTL Mic3'!B93","v":71.22099999999999},{"$f":"'[1]FR - Smoothed Self DUTL Mic4'!B93","v":72.0359},null,9500,88.0952,87.73679999999999,79.93039999999999,81.205,80.9133,81.3128,75.6806,73.0529,71.8198,71.0053]
[{"$f":"'[1]FR - Smoothed DUTL Left'!A94","v":10000},{"$f":"'[1]FR - Smoothed DUTL Left'!B94","v":88.1797},{"$f":"'[1]FR - Smoothed DUTL Right'!B94","v":88.385},{"$f":"'[1]FR - Smoothed DUTL Mic1'!B94","v":80.9159},{"$f":"'[1]FR - Smoothed DUTL Mic2'!B94","v":81.8816},{"$f":"'[1]FR - Smoothed DUTL Mic3'!B94","v":80.39439999999999},{"$f":"'[1]FR - Smoothed DUTL Mic4'!B94","v":81.70750000000001},{"$f":"'[1]FR - Smoothed Self DUTL Mic1'!B94","v":75.7401},{"$f":"'[1]FR - Smoothed Self DUTL Mic2'!B94","v":73.68459999999999},{"$f":"'[1]FR - Smoothed Self DUTL Mic3'!B94","v":72.5243},{"$f":"'[1]FR - Smoothed Self DUTL Mic4'!B94","v":72.2641},null,10000,88.64110000000001,88.3798,80.60370000000002,81.726,80.0519,81.3894,76.05390000000001,74.05969999999999,72.4563,71.87089999999999]
[{"$f":"'[1]FR - Smoothed DUTL Left'!A95","v":10600},{"$f":"'[1]FR - Smoothed DUTL Left'!B95","v":88.9849},{"$f":"'[1]FR - Smoothed DUTL Right'!B95","v":89.298},{"$f":"'[1]FR - Smoothed DUTL Mic1'!B95","v":81.5111},{"$f":"'[1]FR - Smoothed DUTL Mic2'!B95","v":82.04209999999999},{"$f":"'[1]FR - Smoothed DUTL Mic3'!B95","v":80.64020000000001},{"$f":"'[1]FR - Smoothed DUTL Mic4'!B95","v":82.34},{"$f":"'[1]FR - Smoothed Self DUTL Mic1'!B95","v":76.4946},{"$f":"'[1]FR - Smoothed Self DUTL Mic2'!B95","v":74.93190000000001},{"$f":"'[1]FR - Smoothed Self DUTL Mic3'!B95","v":74.4236},{"$f":"'[1]FR - Smoothed Self DUTL Mic4'!B95","v":72.9896},null,10600,89.2867,89.1747,81.2595,81.97489999999999,80.36389999999999,82.00460000000001,76.96700000000001,75.5211,73.4859,73.6862]
[{"$f":"'[1]FR - Smoothed DUTL Left'!A96","v":11200},{"$f":"'[1]FR - Smoothed DUTL Left'!B96","v":90.20840000000001},{"$f":"'[1]FR - Smoothed DUTL Right'!B96","v":90.2846},{"$f":"'[1]FR - Smoothed DUTL Mic1'!B96","v":82.3989},{"$f":"'[1]FR - Smoothed DUTL Mic2'!B96","v":83.02279999999999},{"$f":"'[1]FR - Smoothed DUTL Mic3'!B96","v":82.11030000000001},{"$f":"'[1]FR - Smoothed DUTL Mic4'!B96","v":83.8486},{"$f":"'[1]FR - Smoothed Self DUTL Mic1'!B96","v":77.74300000000001},{"$f":"'[1]FR - Smoothed Self DUTL Mic2'!B96","v":75.9465},{"$f":"'[1]FR - Smoothed Self DUTL Mic3'!B96","v":76.08139999999999},{"$f":"'[1]FR - Smoothed Self DUTL Mic4'!B96","v":74.5465},null,11200,90.4254,90.02760000000002,82.189,83.0845,81.77529999999999,83.5567,78.3222,76.75619999999999,74.82750000000001,75.69680000000001]
[{"$f":"'[1]FR - Smoothed DUTL Left'!A97","v":11800},{"$f":"'[1]FR - Smoothed DUTL Left'!B97","v":91.24460000000002},{"$f":"'[1]FR - Smoothed DUTL Right'!B97","v":91.3245},{"$f":"'[1]FR - Smoothed DUTL Mic1'!B97","v":83.9725},{"$f":"'[1]FR - Smoothed DUTL Mic2'!B97","v":84.829},{"$f":"'[1]FR - Smoothed DUTL Mic3'!B97","v":83.4609},{"$f":"'[1]FR - Smoothed DUTL Mic4'!B97","v":84.99680000000001},{"$f":"'[1]FR - Smoothed Self DUTL Mic1'!B97","v":80.42129999999999},{"$f":"'[1]FR - Smoothed Self DUTL Mic2'!B97","v":77.72240000000002},{"$f":"'[1]FR - Smoothed Self DUTL Mic3'!B97","v":77.69949999999999},{"$f":"'[1]FR - Smoothed Self DUTL Mic4'!B97","v":76.8693},null,11800,91.4066,90.86210000000001,83.7091,84.80550000000002,83.01810000000002,84.70510000000002,80.7766,78.2642,76.8806,76.8786]
[{"$f":"'[1]FR - Smoothed DUTL Left'!A98","v":12500},{"$f":"'[1]FR - Smoothed DUTL Left'!B98","v":91.5778},{"$f":"'[1]FR - Smoothed DUTL Right'!B98","v":91.6977},{"$f":"'[1]FR - Smoothed DUTL Mic1'!B98","v":85.8214},{"$f":"'[1]FR - Smoothed DUTL Mic2'!B98","v":87.07560000000002},{"$f":"'[1]FR - Smoothed DUTL Mic3'!B98","v":84.59790000000001},{"$f":"'[1]FR - Smoothed DUTL Mic4'!B98","v":86.0088},{"$f":"'[1]FR - Smoothed Self DUTL Mic1'!B98","v":83.52180000000001},{"$f":"'[1]FR - Smoothed Self DUTL Mic2'!B98","v":80.08309999999999},{"$f":"'[1]FR - Smoothed Self DUTL Mic3'!B98","v":79.6221},{"$f":"'[1]FR - Smoothed Self DUTL Mic4'!B98","v":78.8875},null,12500,91.77940000000001,91.14100000000002,85.45329999999998,86.7982,84.11189999999999,85.6673,83.5287,80.1426,79.25179999999999,77.4402]
[{"$f":"'[1]FR - Smoothed DUTL Left'!A99","v":13200},{"$f":"'[1]FR - Smoothed DUTL Left'!B99","v":91.68469999999999},{"$f":"'[1]FR - Smoothed DUTL Right'!B99","v":91.81749999999998},{"$f":"'[1]FR - Smoothed DUTL Mic1'!B99","v":87.5961},{"$f":"'[1]FR - Smoothed DUTL Mic2'!B99","v":88.9018},{"$f":"'[1]FR - Smoothed DUTL Mic3'!B99","v":86.12679999999999},{"$f":"'[1]FR - Smoothed DUTL Mic4'!B99","v":87.8039},{"$f":"'[1]FR - Smoothed Self DUTL Mic1'!B99","v":85.35180000000001},{"$f":"'[1]FR - Smoothed Self DUTL Mic2'!B99","v":81.8179},{"$f":"'[1]FR - Smoothed Self DUTL Mic3'!B99","v":81.01870000000001},{"$f":"'[1]FR - Smoothed Self DUTL Mic4'!B99","v":79.9856},null,13200,91.9771,91.3514,87.1418,88.45160000000001,85.5808,87.3731,85.186,81.66959999999999,80.7353,77.8657]
[{"$f":"'[1]FR - Smoothed DUTL Left'!A100","v":14000},{"$f":"'[1]FR - Smoothed DUTL Left'!B100","v":91.89759999999998},{"$f":"'[1]FR - Smoothed DUTL Right'!B100","v":92.2607},{"$f":"'[1]FR - Smoothed DUTL Mic1'!B100","v":89.59779999999999},{"$f":"'[1]FR - Smoothed DUTL Mic2'!B100","v":90.9205},{"$f":"'[1]FR - Smoothed DUTL Mic3'!B100","v":90.04249999999999},{"$f":"'[1]FR - Smoothed DUTL Mic4'!B100","v":90.7724},{"$f":"'[1]FR - Smoothed Self DUTL Mic1'!B100","v":85.74250000000002},{"$f":"'[1]FR - Smoothed Self DUTL Mic2'!B100","v":82.5735},{"$f":"'[1]FR - Smoothed Self DUTL Mic3'!B100","v":81.72569999999999},{"$f":"'[1]FR - Smoothed Self DUTL Mic4'!B100","v":80.3259},null,14000,92.1942,91.8647,89.1176,90.32079999999999,89.27359999999999,90.3075,85.59299999999999,82.29220000000001,81.16670000000002,78.4606]
[{"$f":"'[1]FR - Smoothed DUTL Left'!A101","v":15000},{"$f":"'[1]FR - Smoothed DUTL Left'!B101","v":92.5706},{"$f":"'[1]FR - Smoothed DUTL Right'!B101","v":93.2164},{"$f":"'[1]FR - Smoothed DUTL Mic1'!B101","v":91.83229999999999},{"$f":"'[1]FR - Smoothed DUTL Mic2'!B101","v":93.09969999999998},{"$f":"'[1]FR - Smoothed DUTL Mic3'!B101","v":93.46489999999999},{"$f":"'[1]FR - Smoothed DUTL Mic4'!B101","v":93.62280000000001},{"$f":"'[1]FR - Smoothed Self DUTL Mic1'!B101","v":85.30520000000001},{"$f":"'[1]FR - Smoothed Self DUTL Mic2'!B101","v":82.95020000000002},{"$f":"'[1]FR - Smoothed Self DUTL Mic3'!B101","v":82.4154},{"$f":"'[1]FR - Smoothed Self DUTL Mic4'!B101","v":80.73590000000002},null,15000,92.77059999999999,92.94429999999998,91.33840000000001,92.29520000000002,92.6765,93.1948,85.4047,82.32449999999999,81.16720000000001,79.6261]
[{"$f":"'[1]FR - Smoothed DUTL Left'!A102","v":16000},{"$f":"'[1]FR - Smoothed DUTL Left'!B102","v":93.8308},{"$f":"'[1]FR - Smoothed DUTL Right'!B102","v":94.5008},{"$f":"'[1]FR - Smoothed DUTL Mic1'!B102","v":94.43730000000001},{"$f":"'[1]FR - Smoothed DUTL Mic2'!B102","v":95.37629999999999},{"$f":"'[1]FR - Smoothed DUTL Mic3'!B102","v":95.72220000000002},{"$f":"'[1]FR - Smoothed DUTL Mic4'!B102","v":95.92519999999999},{"$f":"'[1]FR - Smoothed Self DUTL Mic1'!B102","v":85.34790000000001},{"$f":"'[1]FR - Smoothed Self DUTL Mic2'!B102","v":83.60040000000001},{"$f":"'[1]FR - Smoothed Self DUTL Mic3'!B102","v":83.3852},{"$f":"'[1]FR - Smoothed Self DUTL Mic4'!B102","v":81.40640000000002},null,16000,94.0352,94.25970000000002,94.00269999999998,94.6085,95.17850000000001,95.67549999999999,85.8551,82.63910000000001,81.6809,80.88109999999999]
[{"$f":"'[1]FR - Smoothed DUTL Left'!A103","v":17000},{"$f":"'[1]FR - Smoothed DUTL Left'!B103","v":94.394},{"$f":"'[1]FR - Smoothed DUTL Right'!B103","v":95.0468},{"$f":"'[1]FR - Smoothed DUTL Mic1'!B103","v":96.47369999999998},{"$f":"'[1]FR - Smoothed DUTL Mic2'!B103","v":96.95860000000002},{"$f":"'[1]FR - Smoothed DUTL Mic3'!B103","v":97.1625},{"$f":"'[1]FR - Smoothed DUTL Mic4'!B103","v":97.2693},{"$f":"'[1]FR - Smoothed Self DUTL Mic1'!B103","v":85.9585},{"$f":"'[1]FR - Smoothed Self DUTL Mic2'!B103","v":83.9958},{"$f":"'[1]FR - Smoothed Self DUTL Mic3'!B103","v":83.86890000000001},{"$f":"'[1]FR - Smoothed Self DUTL Mic4'!B103","v":81.5949},null,17000,94.71199999999999,94.7937,96.0771,96.38860000000001,96.9306,97.21370000000002,86.62259999999999,83.0965,82.36600000000001,81.42480000000002]
[{"$f":"'[1]FR - Smoothed DUTL Left'!A104","v":18000},{"$f":"'[1]FR - Smoothed DUTL Left'!B104","v":94.00519999999999},{"$f":"'[1]FR - Smoothed DUTL Right'!B104","v":94.75520000000002},{"$f":"'[1]FR - Smoothed DUTL Mic1'!B104","v":97.31190000000001},{"$f":"'[1]FR - Smoothed DUTL Mic2'!B104","v":97.3356},{"$f":"'[1]FR - Smoothed DUTL Mic3'!B104","v":97.6614},{"$f":"'[1]FR - Smoothed DUTL Mic4'!B104","v":97.36040000000001},{"$f":"'[1]FR - Smoothed Self DUTL Mic1'!B104","v":85.7537},{"$f":"'[1]FR - Smoothed Self DUTL Mic2'!B104","v":83.2942},{"$f":"'[1]FR - Smoothed Self DUTL Mic3'!B104","v":83.1052},{"$f":"'[1]FR - Smoothed Self DUTL Mic4'!B104","v":80.68889999999999},null,18000,94.4295,94.5118,96.95649999999999,97.0129,97.68209999999999,97.4595,86.3622,82.7388,82.0821,80.70110000000001]
[{"$f":"'[1]FR - Smoothed DUTL Left'!A105","v":19000},{"$f":"'[1]FR - Smoothed DUTL Left'!B105","v":92.62180000000001},{"$f":"'[1]FR - Smoothed DUTL Right'!B105","v":93.4285},{"$f":"'[1]FR - Smoothed DUTL Mic1'!B105","v":97.00750000000001},{"$f":"'[1]FR - Smoothed DUTL Mic2'!B105","v":96.60760000000002},{"$f":"'[1]FR - Smoothed DUTL Mic3'!B105","v":97.22670000000001},{"$f":"'[1]FR - Smoothed DUTL Mic4'!B105","v":96.25500000000001},{"$f":"'[1]FR - Smoothed Self DUTL Mic1'!B105","v":83.96279999999999},{"$f":"'[1]FR - Smoothed Self DUTL Mic2'!B105","v":80.8998},{"$f":"'[1]FR - Smoothed Self DUTL Mic3'!B105","v":80.74730000000001},{"$f":"'[1]FR - Smoothed Self DUTL Mic4'!B105","v":78.34530000000001},null,19000,93.21400000000001,93.1646,96.74019999999999,96.56469999999999,97.41290000000001,96.4683,84.41159999999999,80.82939999999999,80.3211,78.24730000000001]
[{"$f":"'[1]FR - Smoothed DUTL Left'!A106","v":20000},{"$f":"'[1]FR - Smoothed DUTL Left'!B106","v":89.502},{"$f":"'[1]FR - Smoothed DUTL Right'!B106","v":90.5328},{"$f":"'[1]FR - Smoothed DUTL Mic1'!B106","v":95.671},{"$f":"'[1]FR - Smoothed DUTL Mic2'!B106","v":94.83489999999999},{"$f":"'[1]FR - Smoothed DUTL Mic3'!B106","v":95.7642},{"$f":"'[1]FR - Smoothed DUTL Mic4'!B106","v":94.07500000000002},{"$f":"'[1]FR - Smoothed Self DUTL Mic1'!B106","v":80.1628},{"$f":"'[1]FR - Smoothed Self DUTL Mic2'!B106","v":76.27239999999999},{"$f":"'[1]FR - Smoothed Self DUTL Mic3'!B106","v":76.77329999999999},{"$f":"'[1]FR - Smoothed Self DUTL Mic4'!B106","v":74.63449999999999},null,20000,90.37380000000003,90.3011,95.51849999999999,95.06129999999999,96.0446,94.34699999999998,80.2227,76.7652,76.77369999999999,73.76480000000001]
[{"$f":"'[1]FR - Smoothed DUTL Left'!A107","v":21200},{"$f":"'[1]FR - Smoothed DUTL Left'!B107","v":80.72749999999999},{"$f":"'[1]FR - Smoothed DUTL Right'!B107","v":83.08759999999998},{"$f":"'[1]FR - Smoothed DUTL Mic1'!B107","v":93.7884},{"$f":"'[1]FR - Smoothed DUTL Mic2'!B107","v":92.43609999999998},{"$f":"'[1]FR - Smoothed DUTL Mic3'!B107","v":92.9635},{"$f":"'[1]FR - Smoothed DUTL Mic4'!B107","v":91.35730000000001},{"$f":"'[1]FR - Smoothed Self DUTL Mic1'!B107","v":70.6051},{"$f":"'[1]FR - Smoothed Self DUTL Mic2'!B107","v":64.5741},{"$f":"'[1]FR - Smoothed Self DUTL Mic3'!B107","v":69.9209},{"$f":"'[1]FR - Smoothed Self DUTL Mic4'!B107","v":65.5667},null,21200,81.25129999999999,82.17620000000001,93.7941,92.9096,93.3526,91.6395,68.84320000000001,63.721199999999996,68.5755,64.2005]
[{"$f":"'[1]FR - Smoothed DUTL Left'!A108","v":22400},{"$f":"'[1]FR - Smoothed DUTL Left'!B108","v":65.4019},{"$f":"'[1]FR - Smoothed DUTL Right'!B108","v":64.44640000000001},{"$f":"'[1]FR - Smoothed DUTL Mic1'!B108","v":89.3693},{"$f":"'[1]FR - Smoothed DUTL Mic2'!B108","v":89.72170000000001},{"$f":"'[1]FR - Smoothed DUTL Mic3'!B108","v":88.09519999999999},{"$f":"'[1]FR - Smoothed DUTL Mic4'!B108","v":88.5221},{"$f":"'[1]FR - Smoothed Self DUTL Mic1'!B108","v":58.3578},{"$f":"'[1]FR - Smoothed Self DUTL Mic2'!B108","v":50.17540000000001},{"$f":"'[1]FR - Smoothed Self DUTL Mic3'!B108","v":44.6703},{"$f":"'[1]FR - Smoothed Self DUTL Mic4'!B108","v":54.3122},null,22400,61.273099999999985,60.1518,89.3059,90.66489999999999,88.61979999999998,89.58710000000002,52.8547,45.211299999999994,37.5921,48.6103]

{"sheet":"FR - Smoothed DUTL Left","index":5,"n_rows":108,"n_cols":4,"rows_kept":108}
["Frequecy","Post DUTL L","NTX2B16CP00374","NTX3209CP02597"]
[50,{"$f":"C2-D2","v":-0.44700000000000273},85.577,86.024]
[53,{"$f":"C3-D3","v":-0.18999999999999773},88.458,88.648]
[56,-0.06099999999999284,90.152,90.213]
[60,-0.008000000000009777,91.151,91.159]
[63,0.009000000000000341,91.752,91.743]
[67,0.003999999999990678,92.076,92.072]
[71,-0.013999999999995794,92.296,92.31]
[75,-0.03900000000000148,92.505,92.544]
[80,-0.05700000000000216,92.698,92.755]
[85,-0.07699999999999818,92.804,92.881]
[90,-0.10699999999999932,92.795,92.902]
[95,-0.15000000000000568,92.648,92.798]
[100,-0.23100000000000875,92.329,92.56]
[106,-0.34900000000000375,91.938,92.287]
[112,-0.44199999999999307,91.557,91.999]
[118,-0.4520000000000124,91.103,91.555]
[125,-0.340999999999994,90.542,90.883]
[132,-0.10999999999999943,89.835,89.945]
[140,0.10899999999999466,88.854,88.745]
[150,0.12299999999999045,87.734,87.611]
[160,-0.14699999999999136,86.906,87.053]
[170,-0.49500000000000455,86.616,87.111]
[180,-0.605000000000004,86.836,87.441]
[190,-0.5229999999999961,87.242,87.765]
[200,-0.42600000000000193,87.623,88.049]
[212,-0.3430000000000035,88.062,88.405]
[224,-0.2819999999999965,88.644,88.926]
[236,-0.2149999999999892,89.37,89.585]
[250,-0.1360000000000099,90.109,90.245]
[265,-0.07299999999999329,90.733,90.806]
[280,-0.04400000000001114,91.207,91.251]
[300,-0.04399999999999693,91.532,91.576]
[315,-0.0660000000000025,91.741,91.807]
[335,-0.10800000000000409,91.922,92.03]
[355,-0.1629999999999967,92.184,92.347]
[375,-0.21800000000000352,92.578,92.796]
[400,-0.2669999999999959,92.977,93.244]
[425,-0.32100000000001216,93.204,93.525]
[450,-0.37700000000000955,93.178,93.555]
[475,-0.402000000000001,92.887,93.289]
[500,-0.3859999999999957,92.506,92.892]
[530,-0.35899999999999466,92.25,92.609]
[560,-0.34600000000000364,92.146,92.492]
[600,-0.36999999999999034,92.043,92.413]
[630,-0.4309999999999974,91.64,92.071]
[670,-0.4830000000000041,90.746,91.229]
[710,-0.49800000000000466,89.291,89.789]
[750,-0.5180000000000007,87.248,87.766]
[800,-0.5300000000000011,85.608,86.138]
[850,-0.4509999999999934,86.56,87.011]
[900,-0.41100000000000136,88.509,88.92]
[950,-0.39799999999999613,89.763,90.161]
[1000,-0.34499999999999886,90.294,90.639]
[1060,-0.2749999999999915,90.164,90.439]
[1120,-0.20600000000000307,89.539,89.745]
[1180,-0.14300000000000068,88.935,89.078]
[1250,-0.12199999999999989,88.641,88.763]
[1320,-0.07099999999999795,88.474,88.545]
[1400,0.01999999999999602,88.333,88.313]
[1500,0.10099999999999909,88.112,88.011]
[1600,0.1349999999999909,87.591,87.456]
[1700,0.08100000000000307,86.718,86.637]
[1800,0.02200000000000557,86.045,86.023]
[1900,0.020000000000010232,85.843,85.823]
[2000,0.007000000000005002,85.467,85.46]
[2120,{"$f":"C67-D67","v":-0.028000000000005798},84.594,84.622]
[2240,-0.11299999999999955,82.595,82.708]
[2360,-0.41100000000000136,78.267,78.678]
[2500,-1.3390000000000128,70.963,72.302]
[2650,-0.8149999999999977,68.503,69.318]
[2800,-0.38299999999999557,69.337,69.72]
[3000,-0.12599999999999056,70.462,70.588]
[3150,0.3230000000000075,72.792,72.469]
[3350,0.5750000000000028,74.684,74.109]
[3550,0.7180000000000035,76.592,75.874]
[3750,0.902000000000001,77.885,76.983]
[4000,0.9520000000000124,79.022,78.07]
[4250,0.8320000000000078,81.688,80.856]
[4500,0.7740000000000009,84.244,83.47]
[4750,0.7289999999999992,85.482,84.753]
[5000,0.7169999999999987,86.38,85.663]
[5300,0.7209999999999894,87.079,86.358]
[5600,0.7409999999999997,86.942,86.201]
[6000,0.8190000000000026,86.848,86.029]
[6300,0.9120000000000061,87.055,86.143]
[6700,1.0079999999999956,87.089,86.081]
[7100,1.0160000000000053,87.29,86.274]
[7500,0.936000000000007,87.48,86.544]
[8000,0.855000000000004,87.47,86.615]
[8500,0.7689999999999912,87.445,86.676]
[9000,0.722999999999999,87.569,86.846]
[9500,0.7819999999999965,88.063,87.281]
[10000,0.7809999999999917,88.586,87.805]
[10600,0.6559999999999917,89.449,88.793]
[11200,0.6020000000000039,90.671,90.069]
[11800,0.5740000000000123,91.528,90.954]
[12500,0.5669999999999931,91.886,91.319]
[13200,0.5890000000000128,91.93,91.341]
[14000,0.6550000000000011,92.096,91.441]
[15000,0.7250000000000085,93.049,92.324]
[16000,0.6349999999999909,94.386,93.751]
[17000,0.6290000000000049,94.988,94.359]
[18000,0.6340000000000003,94.609,93.975]
[19000,0.5010000000000048,93.168,92.667]
[20000,0.4860000000000042,90.059,89.573]
[21200,-3.171999999999997,77.394,80.566]
[22400,-7.370999999999995,59.009,66.38]

{"sheet":"FR - Smoothed DUTL Right","index":6,"n_rows":108,"n_cols":4,"rows_kept":108}
["Frequecy","Post DUTL R","NTX2B16CP00374","NTX3209CP02597"]
[50,{"$f":"C2-D2","v":-0.34499999999999886},86.746,87.091]
[53,{"$f":"C3-D3","v":-0.18099999999999739},89.503,89.684]
[56,-0.057999999999992724,91.078,91.136]
[60,-0.008000000000009777,92.192,92.2]
[63,0.01300000000000523,93.11,93.097]
[67,0.006000000000000227,93.935,93.929]
[71,-0.01999999999999602,94.668,94.688]
[75,-0.045000000000001705,95.245,95.29]
[80,-0.06700000000000728,95.613,95.68]
[85,-0.09000000000000341,95.753,95.843]
[90,-0.11999999999999034,95.727,95.847]
[95,-0.16199999999999193,95.587,95.749]
[100,-0.22699999999998965,95.343,95.57]
[106,-0.3049999999999926,95.069,95.374]
[112,-0.35200000000000387,94.794,95.146]
[118,-0.33800000000000807,94.463,94.801]
[125,-0.2740000000000009,94.051,94.325]
[132,-0.17300000000000182,93.538,93.711]
[140,-0.07100000000001216,92.856,92.927]
[150,-0.049000000000006594,92.008,92.057]
[160,-0.14699999999999136,91.174,91.321]
[170,-0.29699999999999704,90.497,90.794]
[180,-0.4299999999999926,90.025,90.455]
[190,-0.4989999999999952,89.765,90.264]
[200,-0.4549999999999983,89.59,90.045]
[212,-0.355000000000004,89.396,89.751]
[224,-0.28000000000000114,89.254,89.534]
[236,-0.21300000000000807,89.294,89.507]
[250,-0.1419999999999959,89.458,89.6]
[265,-0.0899999999999892,89.614,89.704]
[280,-0.06800000000001205,89.71,89.778]
[300,-0.054000000000002046,89.745,89.799]
[315,-0.060000000000002274,89.755,89.815]
[335,-0.10999999999999943,89.857,89.967]
[355,-0.18899999999999295,90.215,90.404]
[375,-0.27199999999999136,90.793,91.065]
[400,-0.34199999999999875,91.378,91.72]
[425,-0.394999999999996,91.812,92.207]
[450,-0.4350000000000023,91.999,92.434]
[475,-0.4420000000000073,91.982,92.424]
[500,-0.41899999999999693,91.92,92.339]
[530,-0.4059999999999917,91.926,92.332]
[560,-0.40800000000000125,91.999,92.407]
[600,-0.4299999999999926,92.027,92.457]
[630,-0.45999999999999375,91.92,92.38]
[670,-0.4679999999999893,91.671,92.139]
[710,-0.458999999999989,91.281,91.74]
[750,-0.44700000000000273,90.845,91.292]
[800,-0.42900000000000205,90.679,91.108]
[850,-0.3990000000000009,90.931,91.33]
[900,-0.367999999999995,91.322,91.69]
[950,-0.32200000000000273,91.541,91.863]
[1000,-0.25799999999999557,91.434,91.692]
[1060,-0.1909999999999883,90.912,91.103]
[1120,-0.12099999999999511,90.191,90.312]
[1180,-0.07099999999999795,89.726,89.797]
[1250,-0.01300000000000523,89.937,89.95]
[1320,0.09199999999999875,91.071,90.979]
[1400,0.19299999999999784,92.276,92.083]
[1500,0.30299999999999727,92.981,92.678]
[1600,0.42199999999999704,93.096,92.674]
[1700,0.5940000000000083,92.67,92.076]
[1800,0.8239999999999981,92.089,91.265]
[1900,1.0049999999999955,91.52,90.515]
[2000,1.1110000000000042,90.909,89.798]
[2120,{"$f":"C67-D67","v":1.1749999999999972},89.986,88.811]
[2240,1.2779999999999916,88.267,86.989]
[2360,1.3430000000000035,85.982,84.639]
[2500,1.051000000000002,84.131,83.08]
[2650,0.5859999999999985,83.331,82.745]
[2800,0.3470000000000084,83.022,82.675]
[3000,0.2469999999999999,82.799,82.552]
[3150,0.1280000000000001,83.028,82.9]
[3350,-0.009000000000000341,83.25,83.259]
[3550,-0.20699999999999363,83.037,83.244]
[3750,-0.32399999999999807,83.249,83.573]
[4000,-0.2599999999999909,84.322,84.582]
[4250,-0.14499999999999602,85.464,85.609]
[4500,-0.0730000000000075,86.333,86.406]
[4750,0.021000000000000796,86.981,86.96]
[5000,0.0799999999999983,87.066,86.986]
[5300,-0.001999999999995339,86.861,86.863]
[5600,-0.08100000000000307,87.017,87.098]
[6000,-0.0940000000000083,87.213,87.307]
[6300,-0.022999999999996135,87.284,87.307]
[6700,0.13599999999999568,87.237,87.101]
[7100,0.2890000000000015,87.319,87.03]
[7500,0.3649999999999949,87.532,87.167]
[8000,0.30800000000000693,87.703,87.395]
[8500,0.2120000000000033,87.949,87.737]
[9000,0.27200000000000557,88.021,87.749]
[9500,0.34900000000000375,88.244,87.895]
[10000,0.347999999999999,88.99,88.642]
[10600,0.29400000000001114,89.888,89.594]
[11200,0.22299999999999898,90.724,90.501]
[11800,0.034000000000006025,91.602,91.568]
[12500,-0.1150000000000091,91.892,92.007]
[13200,-0.12699999999999534,91.899,92.026]
[14000,-0.021000000000000796,92.491,92.512]
[15000,0.27299999999999613,93.707,93.434]
[16000,0.20999999999999375,94.97,94.76]
[17000,0.057999999999992724,95.52,95.462]
[18000,-0.06099999999999284,95.15,95.211]
[19000,-0.4300000000000068,93.568,93.998]
[20000,-0.7690000000000055,90.434,91.203]
[21200,-4.445999999999998,79.061,83.507]
[22400,-7.788000000000004,59.621,67.409]

{"sheet":"FR - Smoothed DUTL Mic1","index":7,"n_rows":108,"n_cols":4,"rows_kept":108}
["Frequecy","Post Mic1","NTX2B16CP00374","NTX3209CP02597"]
[50,{"$f":"C2-D2","v":0.09000000000000341},81.653,81.563]
[53,{"$f":"C3-D3","v":0.06300000000000239},81.524,81.461]
[56,0.033999999999991815,81.217,81.183]
[60,-0.02400000000000091,80.385,80.409]
[63,-0.07099999999999795,78.953,79.024]
[67,-0.08599999999999852,76.978,77.064]
[71,-0.0589999999999975,74.663,74.722]
[75,-0.034000000000006025,72.526,72.56]
[80,-0.03999999999999204,71.334,71.374]
[85,-0.045000000000001705,71.074,71.119]
[90,-0.03900000000000148,71.077,71.116]
[95,-0.02599999999999625,71.037,71.063]
[100,3.0000000000001137E-3,70.982,70.979]
[106,0.030000000000001137,70.982,70.952]
[112,0.023000000000010346,70.992,70.969]
[118,-0.007000000000005002,70.833,70.84]
[125,-0.03699999999999193,70.438,70.475]
[132,-0.03300000000000125,69.966,69.999]
[140,-0.009000000000000341,69.608,69.617]
[150,-0.006000000000000227,69.372,69.378]
[160,-0.028999999999996362,69.089,69.118]
[170,-0.04999999999999716,68.694,68.744]
[180,-0.03999999999999204,68.301,68.341]
[190,-0.01999999999999602,68.044,68.064]
[200,-0.02400000000000091,68.048,68.072]
[212,-0.036000000000001364,68.345,68.381]
[224,-0.03100000000000591,68.954,68.985]
[236,-0.016999999999995907,69.801,69.818]
[250,-0.012999999999991019,70.676,70.689]
[265,-0.018999999999991246,71.444,71.463]
[280,-0.025000000000005684,72.067,72.092]
[300,-0.027000000000001023,72.569,72.596]
[315,-0.027000000000001023,72.979,73.006]
[335,-0.022999999999996135,73.291,73.314]
[355,-0.015999999999991132,73.456,73.472]
[375,-0.01100000000000989,73.35,73.361]
[400,-0.016999999999995907,72.812,72.829]
[425,-0.0350000000000108,71.713,71.748]
[450,-0.058000000000006935,69.967,70.025]
[475,-0.07099999999999795,67.744,67.815]
[500,-0.04599999999999227,66.727,66.773]
[530,-0.012999999999991019,69.48,69.493]
[560,-0.015000000000000568,73.063,73.078]
[600,-0.02400000000000091,75.586,75.61]
[630,-0.031999999999996476,77.074,77.106]
[670,-0.03899999999998727,77.778,77.817]
[710,-0.04100000000001103,77.844,77.885]
[750,-0.0379999999999967,77.286,77.324]
[800,-0.031999999999996476,76.087,76.119]
[850,-0.03100000000000591,74.371,74.402]
[900,-0.04099999999999682,72.495,72.536]
[950,-0.057999999999992724,70.98,71.038]
[1000,-0.0589999999999975,70.986,71.045]
[1060,-0.04399999999999693,72.872,72.916]
[1120,-0.027999999999991587,75.26,75.288]
[1180,-0.012000000000000455,77.142,77.154]
[1250,1.0000000000047748E-3,78.126,78.125]
[1320,0.009000000000000341,78.221,78.212]
[1400,0,77.713,77.713]
[1500,-0.030000000000001137,77.526,77.556]
[1600,-0.03999999999999204,78.912,78.952]
[1700,-0.027000000000001023,81.285,81.312]
[1800,-0.022999999999996135,83.272,83.295]
[1900,-0.027999999999991587,84.471,84.499]
[2000,-0.036000000000001364,85.108,85.144]
[2120,{"$f":"C67-D67","v":-0.04200000000000159},85.252,85.294]
[2240,-0.046999999999997044,84.592,84.639]
[2360,-0.054000000000002046,82.841,82.895]
[2500,-0.05100000000000193,80.595,80.646]
[2650,-0.02400000000000091,80.39,80.414]
[2800,-0.02400000000000091,81.85,81.874]
[3000,-0.0379999999999967,82.974,83.012]
[3150,-0.04599999999999227,83.7,83.746]
[3350,-0.04400000000001114,84.112,84.156]
[3550,-0.038000000000010914,83.874,83.912]
[3750,-0.03499999999999659,82.696,82.731]
[4000,-0.04200000000000159,80.613,80.655]
[4250,-0.05200000000000671,78.354,78.406]
[4500,-0.03900000000000148,78.277,78.316]
[4750,-0.036000000000001364,80.367,80.403]
[5000,-0.04999999999999716,82.224,82.274]
[5300,-0.060000000000002274,82.883,82.943]
[5600,-0.06199999999999761,82.158,82.22]
[6000,-0.04600000000000648,80.583,80.629]
[6300,-0.016000000000005343,80.139,80.155]
[6700,-0.028999999999996362,81.172,81.201]
[7100,-0.06900000000000261,81.419,81.488]
[7500,-0.11099999999999,80.638,80.749]
[8000,-0.09599999999998943,79.998,80.094]
[8500,-0.027000000000001023,79.998,80.025]
[9000,-3.0000000000001137E-3,80.034,80.037]
[9500,-0.01099999999999568,80.301,80.312]
[10000,0.015000000000000568,81.286,81.271]
[10600,0.04200000000000159,81.962,81.92]
[11200,0.027000000000001023,82.645,82.618]
[11800,-0.018000000000000682,83.985,84.003]
[12500,-0.031999999999996476,85.801,85.833]
[13200,-0.0870000000000033,87.542,87.629]
[14000,-0.18299999999999272,89.355,89.538]
[15000,-0.20199999999999818,91.419,91.621]
[16000,-0.17499999999999716,93.901,94.076]
[17000,-0.11299999999999955,96.021,96.134]
[18000,-0.05300000000001148,97.008,97.061]
[19000,-0.01099999999999568,96.798,96.809]
[20000,0.027000000000001023,95.507,95.48]
[21200,0.01099999999999568,93.439,93.428]
[22400,0.10699999999999932,89.389,89.282]

{"sheet":"FR - Smoothed DUTL Mic2","index":8,"n_rows":108,"n_cols":4,"rows_kept":108}
["Frequecy","Post Mic2","NTX2B16CP00374","NTX3209CP02597"]
[50,{"$f":"C2-D2","v":0.09900000000000375},81.867,81.768]
[53,{"$f":"C3-D3","v":0.08399999999998897},81.764,81.68]
[56,0.07299999999999329,81.482,81.409]
[60,0.0589999999999975,80.705,80.646]
[63,0.054000000000002046,79.322,79.268]
[67,0.06400000000000716,77.381,77.317]
[71,0.07200000000000273,75.069,74.997]
[75,0.060000000000002274,72.927,72.867]
[80,0.03300000000000125,71.774,71.741]
[85,0.018000000000000682,71.597,71.579]
[90,0.030000000000001137,71.7,71.67]
[95,0.049000000000006594,71.744,71.695]
[100,0.07200000000000273,71.732,71.66]
[106,0.0870000000000033,71.732,71.645]
[112,0.07399999999999807,71.715,71.641]
[118,0.036000000000001364,71.517,71.481]
[125,0.012000000000000455,71.094,71.082]
[132,0.03599999999998715,70.594,70.558]
[140,0.07500000000000284,70.194,70.119]
[150,0.07500000000000284,69.922,69.847]
[160,0.04899999999999238,69.624,69.575]
[170,0.03300000000000125,69.202,69.169]
[180,0.04599999999999227,68.723,68.677]
[190,0.05699999999998795,68.353,68.296]
[200,0.04999999999999716,68.288,68.238]
[212,0.05100000000000193,68.547,68.496]
[224,0.0660000000000025,69.122,69.056]
[236,0.08500000000000796,69.962,69.877]
[250,0.09199999999999875,70.867,70.775]
[265,0.08300000000001262,71.677,71.594]
[280,0.06599999999998829,72.332,72.266]
[300,0.05500000000000682,72.855,72.8]
[315,0.05700000000000216,73.274,73.217]
[335,0.06199999999999761,73.574,73.512]
[355,0.06499999999999773,73.715,73.65]
[375,0.06900000000000261,73.602,73.533]
[400,0.07099999999999795,73.102,73.031]
[425,0.0660000000000025,72.108,72.042]
[450,0.05200000000000671,70.557,70.505]
[475,0.0379999999999967,68.622,68.584]
[500,0.045000000000001705,67.663,67.618]
[530,0.06199999999999761,69.968,69.906]
[560,0.06799999999999784,73.333,73.265]
[600,0.06900000000000261,75.842,75.773]
[630,0.06599999999998829,77.442,77.376]
[670,0.06099999999999284,78.344,78.283]
[710,0.05700000000000216,78.639,78.582]
[750,0.05299999999999727,78.347,78.294]
[800,0.05299999999999727,77.576,77.523]
[850,0.053999999999987836,76.57,76.516]
[900,0.0519999999999925,75.461,75.409]
[950,0.04399999999999693,73.976,73.932]
[1000,0.03300000000000125,72.053,72.02]
[1060,0.036000000000001364,71.061,71.025]
[1120,0.04999999999999716,72.472,72.422]
[1180,0.06099999999999284,74.583,74.522]
[1250,0.07099999999999795,76.033,75.962]
[1320,0.07799999999998875,76.71,76.632]
[1400,0.07500000000000284,76.84,76.765]
[1500,0.06200000000001182,77.165,77.103]
[1600,0.053999999999987836,78.731,78.677]
[1700,0.06199999999999761,81.066,81.004]
[1800,0.07200000000000273,83.027,82.955]
[1900,0.07500000000000284,84.348,84.273]
[2000,0.07000000000000739,85.331,85.261]
[2120,{"$f":"C67-D67","v":0.060000000000002274},85.965,85.905]
[2240,0.05099999999998772,85.862,85.811]
[2360,0.045000000000001705,84.738,84.693]
[2500,0.043000000000006366,82.745,82.702]
[2650,0.05500000000000682,81.134,81.079]
[2800,0.07099999999999795,80.88,80.809]
[3000,0.08199999999999363,80.853,80.771]
[3150,0.09099999999999397,80.717,80.626]
[3350,0.09600000000000364,81.301,81.205]
[3550,0.08899999999999864,82.384,82.295]
[3750,0.0799999999999983,82.989,82.909]
[4000,0.0730000000000075,82.754,82.681]
[4250,0.06400000000000716,81.748,81.684]
[4500,0.054000000000002046,80.351,80.297]
[4750,0.055999999999997385,79.246,79.19]
[5000,0.06500000000001194,79.546,79.481]
[5300,0.049000000000006594,81.003,80.954]
[5600,0.03499999999999659,82.258,82.223]
[6000,0.030000000000001137,82.634,82.604]
[6300,0.036000000000001364,81.866,81.83]
[6700,0.05200000000000671,80.271,80.219]
[7100,0.10999999999999943,79.598,79.488]
[7500,0.17199999999999704,80.512,80.34]
[8000,0.20199999999999818,80.816,80.614]
[8500,0.17099999999999227,80.211,80.04]
[9000,0.04999999999999716,80.434,80.384]
[9500,0.006000000000000227,81.507,81.501]
[10000,0.06099999999999284,82.077,82.016]
[10600,0.14699999999999136,82.463,82.316]
[11200,0.14000000000000057,83.441,83.301]
[11800,0.08299999999999841,85.139,85.056]
[12500,-0.007999999999995566,87.242,87.25]
[13200,-0.09000000000000341,88.886,88.976]
[14000,-0.19199999999999307,90.629,90.821]
[15000,-0.26200000000000045,92.738,93]
[16000,-0.25500000000000966,95.109,95.364]
[17000,-0.2190000000000083,96.731,96.95]
[18000,-0.17399999999999238,97.057,97.231]
[19000,-0.11599999999999966,96.22,96.336]
[20000,-0.02200000000000557,94.393,94.415]
[21200,0.132000000000005,92.28,92.148]
[22400,0.4340000000000117,89.311,88.877]

{"sheet":"FR - Smoothed DUTL Mic3","index":9,"n_rows":108,"n_cols":4,"rows_kept":108}
["Frequecy","Post Mic3","NTX2B16CP00374","NTX3209CP02597"]
[50,{"$f":"C2-D2","v":-0.10299999999999443},81.793,81.896]
[53,{"$f":"C3-D3","v":-0.11800000000000921},81.663,81.781]
[56,-0.12699999999999534,81.354,81.481]
[60,-0.1419999999999959,80.513,80.655]
[63,-0.14799999999999613,79.046,79.194]
[67,-0.14099999999999113,76.983,77.124]
[71,-0.13400000000000034,74.504,74.638]
[75,-0.14300000000000068,72.226,72.369]
[80,-0.16599999999999682,71.144,71.31]
[85,-0.17799999999999727,71.101,71.279]
[90,-0.16300000000001091,71.204,71.367]
[95,-0.14099999999999113,71.171,71.312]
[100,-0.11899999999999977,71.142,71.261]
[106,-0.10999999999999943,71.245,71.355]
[112,-0.1280000000000001,71.4,71.528]
[118,-0.16100000000000136,71.398,71.559]
[125,-0.1700000000000017,71.2,71.37]
[132,-0.13799999999999102,70.941,71.079]
[140,-0.1039999999999992,70.736,70.84]
[150,-0.10699999999999932,70.552,70.659]
[160,-0.13500000000000512,70.258,70.393]
[170,-0.15200000000000102,69.84,69.992]
[180,-0.13700000000000045,69.403,69.54]
[190,-0.11899999999999977,69.076,69.195]
[200,-0.12599999999999056,69.001,69.127]
[212,-0.14300000000000068,69.239,69.382]
[224,-0.13700000000000045,69.8,69.937]
[236,-0.11199999999999477,70.572,70.684]
[250,-0.10099999999999909,71.345,71.446]
[265,-0.1110000000000042,72,72.111]
[280,-0.1290000000000049,72.515,72.644]
[300,-0.13800000000000523,72.931,73.069]
[315,-0.13599999999999568,73.274,73.41]
[335,-0.13400000000000034,73.517,73.651]
[355,-0.1349999999999909,73.599,73.734]
[375,-0.13700000000000045,73.397,73.534]
[400,-0.13700000000000045,72.754,72.891]
[425,-0.14399999999999125,71.522,71.666]
[450,-0.15899999999999181,69.611,69.77]
[475,-0.15900000000000603,67.451,67.61]
[500,-0.11800000000000921,67.52,67.638]
[530,-0.10099999999999909,70.772,70.873]
[560,-0.1039999999999992,73.97,74.074]
[600,-0.10999999999999943,76.087,76.197]
[630,-0.11599999999999966,77.265,77.381]
[670,-0.11899999999999977,77.739,77.858]
[710,-0.11899999999999977,77.621,77.74]
[750,-0.117999999999995,76.876,76.994]
[800,-0.11600000000001387,75.439,75.555]
[850,-0.11399999999999011,73.549,73.663]
[900,-0.11899999999999977,71.998,72.117]
[950,-0.14499999999999602,71.438,71.583]
[1000,-0.17399999999999238,71.876,72.05]
[1060,-0.17900000000000205,73.334,73.513]
[1120,-0.1670000000000016,75.562,75.729]
[1180,-0.1489999999999867,77.558,77.707]
[1250,-0.12599999999999056,78.709,78.835]
[1320,-0.10699999999999932,78.904,79.011]
[1400,-0.10299999999999443,78.409,78.512]
[1500,-0.12699999999999534,78.25,78.377]
[1600,-0.1490000000000009,79.466,79.615]
[1700,-0.1490000000000009,81.322,81.471]
[1800,-0.1490000000000009,82.736,82.885]
[1900,-0.15099999999999625,83.491,83.642]
[2000,-0.15399999999999636,83.75,83.904]
[2120,{"$f":"C67-D67","v":-0.1559999999999917},83.533,83.689]
[2240,-0.15699999999999648,82.7,82.857]
[2360,-0.1599999999999966,81.108,81.268]
[2500,-0.16199999999999193,79.186,79.348]
[2650,-0.1460000000000008,78.89,79.036]
[2800,-0.13500000000000512,80.583,80.718]
[3000,-0.132000000000005,82.362,82.494]
[3150,-0.12699999999999534,83.409,83.536]
[3350,-0.11499999999999488,83.54,83.655]
[3550,-0.0940000000000083,82.856,82.95]
[3750,-0.07200000000000273,81.575,81.647]
[4000,-0.06900000000000261,79.978,80.047]
[4250,-0.10800000000000409,78.946,79.054]
[4500,-0.14500000000001023,79.85,79.995]
[4750,-0.14799999999999613,82.046,82.194]
[5000,-0.14000000000000057,83.708,83.848]
[5300,-0.125,84.099,84.224]
[5600,-0.1039999999999992,83.191,83.295]
[6000,-0.10000000000000853,81.437,81.537]
[6300,-0.1530000000000058,80.327,80.48]
[6700,-0.18600000000000705,80.66,80.846]
[7100,-0.16100000000000136,80.829,80.99]
[7500,-0.12399999999999523,80.452,80.576]
[8000,-0.12700000000000955,80.731,80.858]
[8500,-0.1559999999999917,81.563,81.719]
[9000,-0.17499999999999716,81.655,81.83]
[9500,-0.1810000000000116,80.823,81.004]
[10000,-0.15200000000000102,79.982,80.134]
[10600,-0.1670000000000016,80.283,80.45]
[11200,-0.2009999999999934,81.793,81.994]
[11800,-0.2079999999999984,83.161,83.369]
[12500,-0.23000000000000398,84.264,84.494]
[13200,-0.24099999999999966,85.735,85.976]
[14000,-0.27599999999999625,89.575,89.851]
[15000,-0.3269999999999982,92.88,93.207]
[16000,-0.3329999999999984,95.012,95.345]
[17000,-0.257000000000005,96.499,96.756]
[18000,-0.13599999999999568,97.205,97.341]
[19000,-3.0000000000001137E-3,97.051,97.054]
[20000,0.11400000000000432,95.882,95.768]
[21200,0.2609999999999957,93.369,93.108]
[22400,-0.2189999999999941,88.168,88.387]

{"sheet":"FR - Smoothed DUTL Mic4","index":10,"n_rows":108,"n_cols":4,"rows_kept":108}
["Frequecy","Post Mic4","NTX2B16CP00374","NTX3209CP02597"]
[50,{"$f":"C2-D2","v":0.0689999999999884},81.823,81.754]
[53,{"$f":"C3-D3","v":0.0519999999999925},81.702,81.65]
[56,0.03900000000000148,81.399,81.36]
[60,0.019000000000005457,80.572,80.553]
[63,0.007999999999995566,79.116,79.108]
[67,0.01099999999999568,77.064,77.053]
[71,0.013999999999995794,74.607,74.593]
[75,-4.0000000000048885E-3,72.389,72.393]
[80,-0.033999999999991815,71.406,71.44]
[85,-0.05200000000000671,71.445,71.497]
[90,-0.04099999999999682,71.617,71.658]
[95,-0.021000000000000796,71.651,71.672]
[100,2.0000000000095497E-3,71.671,71.669]
[106,0.012000000000000455,71.78,71.768]
[112,-0.006000000000000227,71.906,71.912]
[118,-0.04200000000000159,71.872,71.914]
[125,-0.06100000000000705,71.648,71.709]
[132,-0.036000000000001364,71.359,71.395]
[140,-0.003999999999990678,71.111,71.115]
[150,-0.009000000000000341,70.886,70.895]
[160,-0.038000000000010914,70.567,70.605]
[170,-0.05499999999999261,70.108,70.163]
[180,-0.04400000000001114,69.585,69.629]
[190,-0.034000000000006025,69.149,69.183]
[200,-0.04099999999999682,68.994,69.035]
[212,-0.04099999999999682,69.185,69.226]
[224,-0.028000000000005798,69.71,69.738]
[236,-0.012000000000000455,70.478,70.49]
[250,-0.009000000000000341,71.287,71.296]
[265,-0.021000000000000796,71.994,72.015]
[280,-0.03900000000000148,72.553,72.592]
[300,-0.04800000000000182,72.998,73.046]
[315,-0.04599999999999227,73.352,73.398]
[335,-0.04200000000000159,73.59,73.632]
[355,-0.04099999999999682,73.656,73.697]
[375,-0.03900000000000148,73.448,73.487]
[400,-0.03900000000000148,72.832,72.871]
[425,-0.045000000000001705,71.692,71.737]
[450,-0.060000000000002274,69.979,70.039]
[475,-0.06400000000000716,68.139,68.203]
[500,-0.03999999999999204,68.221,68.261]
[530,-0.025000000000005684,71.097,71.122]
[560,-0.02400000000000091,74.103,74.127]
[600,-0.024999999999991473,76.185,76.21]
[630,-0.027000000000001023,77.446,77.473]
[670,-0.029000000000010573,78.103,78.132]
[710,-0.030000000000001137,78.231,78.261]
[750,-0.03100000000000591,77.8,77.831]
[800,-0.029000000000010573,76.865,76.894]
[850,-0.021000000000000796,75.741,75.762]
[900,-0.016000000000005343,74.767,74.783]
[950,-0.023000000000010346,73.749,73.772]
[1000,-0.04399999999999693,72.407,72.451]
[1060,-0.07500000000000284,71.466,71.541]
[1120,-0.08100000000000307,72.58,72.661]
[1180,-0.06499999999999773,74.744,74.809]
[1250,-0.05299999999999727,76.322,76.375]
[1320,-0.05000000000001137,77.002,77.052]
[1400,-0.060000000000002274,77.106,77.166]
[1500,-0.0759999999999934,77.626,77.702]
[1600,-0.0870000000000033,79.193,79.28]
[1700,-0.08299999999999841,81.014,81.097]
[1800,-0.0660000000000025,82.318,82.384]
[1900,-0.045000000000001705,83.139,83.184]
[2000,-0.031999999999996476,83.806,83.838]
[2120,{"$f":"C67-D67","v":-0.03100000000000591},84.323,84.354]
[2240,-0.03300000000000125,84.471,84.504]
[2360,-0.031999999999996476,84.042,84.074]
[2500,-0.02199999999999136,82.947,82.969]
[2650,-4.9999999999954525E-3,81.295,81.3]
[2800,0.019000000000005457,79.546,79.527]
[3000,0.001999999999995339,78.925,78.923]
[3150,-0.05700000000000216,79.756,79.813]
[3350,-0.0730000000000075,80.985,81.058]
[3550,-0.03900000000000148,82.092,82.131]
[3750,-4.9999999999954525E-3,82.736,82.741]
[4000,0.006000000000000227,82.634,82.628]
[4250,0.001999999999995339,81.78,81.778]
[4500,0,80.7,80.7]
[4750,-3.0000000000001137E-3,80.4,80.403]
[5000,-0.024999999999991473,81.331,81.356]
[5300,-0.049000000000006594,82.57,82.619]
[5600,-0.05500000000000682,83.336,83.391]
[6000,-0.049000000000006594,83.246,83.295]
[6300,-0.034000000000006025,82.026,82.06]
[6700,-0.01100000000000989,80.16,80.171]
[7100,0.005000000000009663,79.84,79.835]
[7500,0.017000000000010118,81.206,81.189]
[8000,0.02400000000000091,81.712,81.688]
[8500,-3.0000000000001137E-3,81.122,81.125]
[9000,-0.09600000000000364,80.875,80.971]
[9500,-0.17399999999999238,81.319,81.493]
[10000,-0.2149999999999892,81.421,81.636]
[10600,-0.2539999999999907,82.004,82.258]
[11200,-0.22499999999999432,83.601,83.826]
[11800,-0.19599999999999795,84.949,85.145]
[12500,-0.2150000000000034,86.017,86.232]
[13200,-0.27599999999999625,87.643,87.919]
[14000,-0.3020000000000067,90.291,90.593]
[15000,-0.27199999999999136,93.019,93.291]
[16000,-0.15799999999998704,95.415,95.573]
[17000,-0.031999999999996476,96.881,96.913]
[18000,0.08599999999999852,97.109,97.023]
[19000,0.20600000000000307,96.183,95.977]
[20000,0.3089999999999975,94.239,93.93]
[21200,0.34900000000000375,91.78,91.431]
[22400,0.5420000000000016,88.221,87.679]

{"sheet":"FR - Smoothed Self DUTL Mic1","index":11,"n_rows":108,"n_cols":4,"rows_kept":108}
["Frequecy","Post Self Mic1","NTX2B16CP00374","NTX3209CP02597"]
[50,{"$f":"C2-D2","v":0.02200000000000557},72.417,72.395]
[53,{"$f":"C3-D3","v":0.132000000000005},74.686,74.554]
[56,0.23000000000000398,76.03,75.8]
[60,0.29999999999999716,77.202,76.902]
[63,0.29599999999999227,78.564,78.268]
[67,0.2179999999999893,80.151,79.933]
[71,0.13400000000000034,81.644,81.51]
[75,0.07699999999999818,82.782,82.705]
[80,0.04399999999999693,83.505,83.461]
[85,0.018999999999991246,83.868,83.849]
[90,-0.005000000000009663,83.975,83.98]
[95,-0.036000000000001364,83.914,83.95]
[100,-0.07800000000000296,83.728,83.806]
[106,-0.1460000000000008,83.462,83.608]
[112,-0.23199999999999932,83.21,83.442]
[118,-0.269999999999996,83.039,83.309]
[125,-0.2219999999999942,82.87,83.092]
[132,-0.11199999999999477,82.584,82.696]
[140,-0.001999999999995339,82.196,82.198]
[150,0.05499999999999261,81.815,81.76]
[160,0.027000000000001023,81.508,81.481]
[170,-0.06400000000000716,81.338,81.402]
[180,-0.13700000000000045,81.364,81.501]
[190,-0.132000000000005,81.527,81.659]
[200,-0.09499999999999886,81.683,81.778]
[212,-0.08500000000000796,81.83,81.915]
[224,-0.0940000000000083,82.067,82.161]
[236,-0.0799999999999983,82.383,82.463]
[250,-0.04399999999999693,82.647,82.691]
[265,-0.016999999999995907,82.766,82.783]
[280,-4.9999999999954525E-3,82.768,82.773]
[300,-4.9999999999954525E-3,82.721,82.726]
[315,-0.01999999999999602,82.653,82.673]
[335,-0.0589999999999975,82.554,82.613]
[355,-0.09300000000000352,82.452,82.545]
[375,-0.10200000000000387,82.444,82.546]
[400,-0.15000000000000568,82.571,82.721]
[425,-0.30700000000000216,82.708,83.015]
[450,-0.5539999999999878,82.644,83.198]
[475,-0.8070000000000022,82.207,83.014]
[500,-0.9540000000000077,81.345,82.299]
[530,-0.902000000000001,80.108,81.01]
[560,-0.6260000000000048,78.682,79.308]
[600,-0.3019999999999925,77.406,77.708]
[630,-0.22100000000000364,76.547,76.768]
[670,-0.3149999999999977,75.995,76.31]
[710,-0.37700000000000955,75.532,75.909]
[750,-0.3509999999999991,75.2,75.551]
[800,-0.2849999999999966,75.072,75.357]
[850,-0.2510000000000048,75.291,75.542]
[900,-0.27599999999999625,76.086,76.362]
[950,-0.3119999999999976,77.142,77.454]
[1000,-0.3089999999999975,77.768,78.077]
[1060,-0.2540000000000049,77.631,77.885]
[1120,-0.17099999999999227,76.903,77.074]
[1180,-0.12399999999999523,75.986,76.11]
[1250,-0.0870000000000033,75.038,75.125]
[1320,0.17500000000001137,73.897,73.722]
[1400,0.9159999999999968,72.896,71.98]
[1500,1.4569999999999936,72.878,71.421]
[1600,1.0390000000000015,73.444,72.405]
[1700,0.30299999999999727,74.051,73.748]
[1800,-0.24400000000001398,74.567,74.811]
[1900,-0.5090000000000003,74.819,75.328]
[2000,-0.5939999999999941,74.51,75.104]
[2120,{"$f":"C67-D67","v":-0.5969999999999942},73.296,73.893]
[2240,-0.4439999999999884,71.299,71.743]
[2360,-0.006000000000000227,68.865,68.871]
[2500,0.6659999999999968,66.071,65.405]
[2650,1.0530000000000044,63.264,62.211]
[2800,0.3230000000000004,60.98,60.657]
[3000,-0.2220000000000013,60.623,60.845]
[3150,0.32800000000000296,61.792,61.464]
[3350,1.0279999999999987,63.673,62.645]
[3550,1.2309999999999945,66.755,65.524]
[3750,1.0900000000000034,69.811,68.721]
[4000,0.8619999999999948,72.067,71.205]
[4250,0.6289999999999907,73.767,73.138]
[4500,0.5820000000000078,75.277,74.695]
[4750,0.7530000000000001,76.457,75.704]
[5000,0.9579999999999984,77.189,76.231]
[5300,0.9930000000000092,77.56,76.567]
[5600,0.8640000000000043,77.656,76.792]
[6000,0.7780000000000058,77.634,76.856]
[6300,0.8159999999999883,77.466,76.65]
[6700,0.6189999999999998,77.111,76.492]
[7100,-0.000999999999990564,76.9,76.901]
[7500,-0.5109999999999957,76.888,77.399]
[8000,-0.6550000000000011,76.825,77.48]
[8500,-0.5480000000000018,76.493,77.041]
[9000,-0.277000000000001,75.957,76.234]
[9500,0.04100000000001103,75.662,75.621]
[10000,0.0969999999999942,75.692,75.595]
[10600,0.45999999999999375,76.832,76.372]
[11200,1.4609999999999985,79.223,77.762]
[11800,1.6209999999999951,82.008,80.387]
[12500,0.9609999999999985,84.394,83.433]
[13200,0.34199999999999875,85.629,85.287]
[14000,-0.034000000000006025,85.702,85.736]
[15000,-0.08500000000000796,85.19,85.275]
[16000,0.07600000000000762,85.254,85.178]
[17000,0.0759999999999934,85.847,85.771]
[18000,-0.12000000000000455,85.524,85.644]
[19000,-0.42099999999999227,83.537,83.958]
[20000,-0.9480000000000075,79.232,80.18]
[21200,-5.570999999999998,65.083,70.654]
[22400,-960.655,-902.3,58.355]

{"sheet":"FR - Smoothed Self DUTL Mic2","index":12,"n_rows":108,"n_cols":4,"rows_kept":108}
["Frequecy","Post Self Mic2","NTX2B16CP00374","NTX3209CP02597"]
[50,{"$f":"C2-D2","v":-0.11400000000000432},70.661,70.775]
[53,{"$f":"C3-D3","v":0.0689999999999884},73.222,73.153]
[56,0.2079999999999984,74.611,74.403]
[60,0.3090000000000117,75.665,75.356]
[63,0.34600000000000364,76.804,76.458]
[67,0.29399999999999693,78.21,77.916]
[71,0.21699999999999875,79.639,79.422]
[75,0.15899999999999181,80.794,80.635]
[80,0.12400000000000944,81.566,81.442]
[85,0.10600000000000875,81.98,81.874]
[90,0.09099999999999397,82.118,82.027]
[95,0.07899999999999352,82.065,81.986]
[100,0.06499999999999773,81.846,81.781]
[106,0.01999999999999602,81.478,81.458]
[112,-0.07800000000000296,81.085,81.163]
[118,-0.15899999999999181,80.834,80.993]
[125,-0.11299999999999955,80.677,80.79]
[132,0.055999999999997385,80.392,80.336]
[140,0.20700000000000784,79.902,79.695]
[150,0.17799999999999727,79.358,79.18]
[160,-0.0309999999999917,78.933,78.964]
[170,-0.26500000000000057,78.728,78.993]
[180,-0.3860000000000099,78.814,79.2]
[190,-0.37300000000000466,79.097,79.47]
[200,-0.3130000000000024,79.368,79.681]
[212,-0.2749999999999915,79.62,79.895]
[224,-0.23299999999998988,80.022,80.255]
[236,-0.14100000000000534,80.57,80.711]
[250,-0.02599999999999625,81.044,81.07]
[265,0.055999999999997385,81.292,81.236]
[280,0.09199999999999875,81.349,81.257]
[300,0.09999999999999432,81.318,81.218]
[315,0.0870000000000033,81.251,81.164]
[335,0.03900000000000148,81.138,81.099]
[355,-0.000999999999990564,81.001,81.002]
[375,0.009999999999990905,80.954,80.944]
[400,0.01300000000000523,81.096,81.083]
[425,-0.09199999999999875,81.348,81.44]
[450,-0.3190000000000026,81.48,81.799]
[475,-0.6009999999999991,81.272,81.873]
[500,-0.8340000000000032,80.624,81.458]
[530,-0.9200000000000017,79.547,80.467]
[560,-0.777000000000001,78.164,78.941]
[600,-0.4680000000000035,76.678,77.146]
[630,-0.24399999999999977,75.299,75.543]
[670,-0.18999999999999773,74.203,74.393]
[710,-0.14699999999999136,73.545,73.692]
[750,-0.07200000000000273,73.38,73.452]
[800,-0.03300000000000125,73.501,73.534]
[850,-0.06100000000000705,73.687,73.748]
[900,-0.13400000000000034,74.046,74.18]
[950,-0.21800000000000352,74.663,74.881]
[1000,-0.2609999999999957,75.235,75.496]
[1060,-0.22400000000000375,75.423,75.647]
[1120,-0.13900000000001,75.341,75.48]
[1180,-0.14800000000001035,75.246,75.394]
[1250,-0.3580000000000041,74.817,75.175]
[1320,-0.6089999999999947,73.586,74.195]
[1400,-0.5619999999999976,71.541,72.103]
[1500,0.16599999999999682,69.83,69.664]
[1600,0.5489999999999924,69.845,69.296]
[1700,-0.033999999999991815,71.281,71.315]
[1800,-0.367999999999995,73.071,73.439]
[1900,-0.4239999999999924,74.191,74.615]
[2000,-0.39800000000001035,74.219,74.617]
[2120,{"$f":"C67-D67","v":-0.28899999999998727},73.043,73.332]
[2240,-0.023000000000010346,71.011,71.034]
[2360,0.2360000000000042,68.632,68.396]
[2500,0.028000000000005798,66.774,66.746]
[2650,-0.31400000000000716,66.288,66.602]
[2800,-0.2989999999999924,65.891,66.19]
[3000,-0.04600000000000648,64.773,64.819]
[3150,0.1559999999999988,62.635,62.479]
[3350,0.28699999999999903,60.998,60.711]
[3550,0.4819999999999993,61.599,61.117]
[3750,0.7070000000000007,62.833,62.126]
[4000,0.9000000000000057,66.072,65.172]
[4250,0.8870000000000005,69.528,68.641]
[4500,0.8810000000000002,71.571,70.69]
[4750,0.9059999999999917,72.817,71.911]
[5000,0.9099999999999966,73.938,73.028]
[5300,0.8560000000000088,74.766,73.91]
[5600,0.7360000000000042,74.878,74.142]
[6000,0.5300000000000011,74.108,73.578]
[6300,0.37699999999999534,73.353,72.976]
[6700,0.6340000000000003,73.862,73.228]
[7100,0.9450000000000074,75.049,74.104]
[7500,0.8370000000000033,75.858,75.021]
[8000,0.37000000000000455,75.739,75.369]
[8500,-0.07600000000000762,74.794,74.87]
[9000,-0.07500000000000284,73.545,73.62]
[9500,0.12999999999999545,72.898,72.768]
[10000,0.05100000000000193,73.601,73.55]
[10600,0.15200000000000102,74.884,74.732]
[11200,0.47800000000000864,75.935,75.457]
[11800,0.22900000000001342,77.052,76.823]
[12500,-0.6169999999999902,78.736,79.353]
[13200,-1.1329999999999956,80.284,81.417]
[14000,-1.2999999999999972,81.056,82.356]
[15000,-1.4680000000000035,81.209,82.677]
[16000,-1.7120000000000033,81.599,83.311]
[17000,-1.668999999999997,82.33,83.999]
[18000,-1.3419999999999987,82.34,83.682]
[19000,-0.8109999999999928,80.884,81.695]
[20000,-0.046999999999997044,77.342,77.389]
[21200,-4.534999999999997,60.075,64.61]
[22400,-953.7130000000001,-905.19,48.523]

{"sheet":"FR - Smoothed Self DUTL Mic3","index":13,"n_rows":108,"n_cols":4,"rows_kept":108}
["Frequecy","Post Self Mic3","NTX2B16CP00374","NTX3209CP02597"]
[50,{"$f":"C2-D2","v":-0.39800000000001035},72.407,72.805]
[53,{"$f":"C3-D3","v":-0.23599999999999},74.73,74.966]
[56,-0.11499999999999488,76.125,76.24]
[60,-0.03100000000000591,77.356,77.387]
[63,-0.021000000000000796,78.783,78.804]
[67,-0.0799999999999983,80.412,80.492]
[71,-0.14400000000000546,81.913,82.057]
[75,-0.1839999999999975,83.038,83.222]
[80,-0.20399999999999352,83.741,83.945]
[85,-0.22000000000001307,84.091,84.311]
[90,-0.23999999999999488,84.199,84.439]
[95,-0.269999999999996,84.15,84.42]
[100,-0.3130000000000024,83.981,84.294]
[106,-0.38700000000000045,83.727,84.114]
[112,-0.4759999999999991,83.477,83.953]
[118,-0.5210000000000008,83.291,83.812]
[125,-0.492999999999995,83.101,83.594]
[132,-0.41899999999999693,82.797,83.216]
[140,-0.3059999999999974,82.398,82.704]
[150,-0.13300000000000978,81.999,82.132]
[160,0.05100000000000193,81.643,81.592]
[170,0.11899999999999977,81.379,81.26]
[180,0.0309999999999917,81.294,81.263]
[190,-0.08599999999999852,81.377,81.463]
[200,-0.1600000000000108,81.499,81.659]
[212,-0.20600000000000307,81.645,81.851]
[224,-0.22400000000000375,81.884,82.108]
[236,-0.20399999999999352,82.185,82.389]
[250,-0.16499999999999204,82.415,82.58]
[265,-0.13500000000000512,82.497,82.632]
[280,-0.12599999999999056,82.465,82.591]
[300,-0.13700000000000045,82.394,82.531]
[315,-0.17300000000000182,82.313,82.486]
[335,-0.2289999999999992,82.208,82.437]
[355,-0.26600000000000534,82.101,82.367]
[375,-0.27000000000001023,82.1,82.37]
[400,-0.3199999999999932,82.26,82.58]
[425,-0.47700000000000387,82.469,82.946]
[450,-0.7109999999999985,82.497,83.208]
[475,-0.9359999999999928,82.15,83.086]
[500,-1.046999999999997,81.372,82.419]
[530,-0.953000000000003,80.258,81.211]
[560,-0.6170000000000044,79.092,79.709]
[600,-0.26300000000000523,78.214,78.477]
[630,-0.19200000000000728,77.701,77.893]
[670,-0.28000000000000114,77.283,77.563]
[710,-0.367999999999995,76.673,77.041]
[750,-0.4720000000000084,75.874,76.346]
[800,-0.6030000000000086,75.157,75.76]
[850,-0.6650000000000063,75.077,75.742]
[900,-0.6199999999999903,75.933,76.553]
[950,-0.5799999999999983,77.052,77.632]
[1000,-0.5409999999999968,77.629,78.17]
[1060,-0.4479999999999933,77.405,77.853]
[1120,-0.30999999999998806,76.552,76.862]
[1180,-0.2049999999999983,75.41,75.615]
[1250,-0.1460000000000008,74.24,74.386]
[1320,0.1280000000000001,73.389,73.261]
[1400,0.6800000000000068,73.494,72.814]
[1500,0.9449999999999932,74.198,73.253]
[1600,0.8430000000000035,74.422,73.579]
[1700,0.6599999999999966,74.282,73.622]
[1800,0.6869999999999976,74.67,73.983]
[1900,0.8359999999999985,75.511,74.675]
[2000,0.8810000000000002,75.803,74.922]
[2120,{"$f":"C67-D67","v":0.8250000000000028},74.9,74.075]
[2240,0.737000000000009,72.828,72.091]
[2360,0.7309999999999945,70.098,69.367]
[2500,0.8440000000000083,67.388,66.544]
[2650,0.9080000000000013,65.259,64.351]
[2800,0.757000000000005,64.872,64.115]
[3000,0.46000000000000796,66.59,66.13]
[3150,0.25799999999999557,67.972,67.714]
[3350,0.14200000000001012,68.061,67.919]
[3550,0.0870000000000033,66.93,66.843]
[3750,-0.030000000000001137,66.032,66.062]
[4000,-0.09399999999999409,67.825,67.919]
[4250,-0.021000000000000796,70.243,70.264]
[4500,0.06400000000000716,71.427,71.363]
[4750,0.23499999999999943,71.56,71.325]
[5000,0.527000000000001,71.337,70.81]
[5300,0.7759999999999962,71.249,70.473]
[5600,0.8619999999999948,71.44,70.578]
[6000,0.929000000000002,71.825,70.896]
[6300,1.0889999999999986,72.303,71.214]
[6700,1.2510000000000048,72.272,71.021]
[7100,0.9780000000000086,72.087,71.109]
[7500,0.3539999999999992,72.472,72.118]
[8000,3.0000000000001137E-3,72.737,72.734]
[8500,-0.1039999999999992,72.414,72.518]
[9000,-0.024999999999991473,71.647,71.672]
[9500,0.25900000000000034,71.724,71.465]
[10000,0.7120000000000033,73.048,72.336]
[10600,0.9370000000000118,75.034,74.097]
[11200,1.0370000000000061,76.762,75.725]
[11800,1.4939999999999998,78.56,77.066]
[12500,1.6910000000000025,80.438,78.747]
[13200,1.311000000000007,81.506,80.195]
[14000,0.6139999999999901,81.788,81.174]
[15000,-0.23999999999999488,82.095,82.335]
[16000,-0.7830000000000013,83.048,83.831]
[17000,-0.9129999999999967,83.809,84.722]
[18000,-0.9080000000000013,83.373,84.281]
[19000,-0.8080000000000069,81.366,82.174]
[20000,-0.6840000000000117,77.499,78.183]
[21200,-4.701000000000008,64.886,69.587]
[22400,-941.862,-903.01,38.852]

{"sheet":"FR - Smoothed Self DUTL Mic4","index":14,"n_rows":108,"n_cols":4,"rows_kept":108}
["Frequecy","Post Self Mic4","NTX2B16CP00374","NTX3209CP02597"]
[50,{"$f":"C2-D2","v":-0.09900000000000375},71.297,71.396]
[53,{"$f":"C3-D3","v":0.055999999999997385},73.728,73.672]
[56,0.1769999999999925,75.086,74.909]
[60,0.2680000000000007,76.174,75.906]
[63,0.2920000000000016,77.384,77.092]
[67,0.23099999999999454,78.838,78.607]
[71,0.1460000000000008,80.254,80.108]
[75,0.0799999999999983,81.354,81.274]
[80,0.038000000000010914,82.058,82.02]
[85,0.009000000000000341,82.415,82.406]
[90,-0.018000000000000682,82.521,82.539]
[95,-0.04400000000001114,82.46,82.504]
[100,-0.07499999999998863,82.248,82.323]
[106,-0.13700000000000045,81.896,82.033]
[112,-0.2510000000000048,81.509,81.76]
[118,-0.34900000000000375,81.237,81.586]
[125,-0.3430000000000035,81.039,81.382]
[132,-0.23999999999999488,80.717,80.957]
[140,-0.1110000000000042,80.207,80.318]
[150,-1.0000000000047748E-3,79.639,79.64]
[160,0.07200000000000273,79.142,79.07]
[170,0.04800000000000182,78.788,78.74]
[180,-0.09600000000000364,78.69,78.786]
[190,-0.25,78.842,79.092]
[200,-0.33800000000000807,79.064,79.402]
[212,-0.3739999999999952,79.316,79.69]
[224,-0.3499999999999943,79.717,80.067]
[236,-0.2580000000000098,80.237,80.495]
[250,-0.1419999999999959,80.667,80.809]
[265,-0.056000000000011596,80.871,80.927]
[280,-0.018000000000000682,80.889,80.907]
[300,-0.02400000000000091,80.826,80.85]
[315,-0.06900000000000261,80.736,80.805]
[335,-0.14800000000001035,80.603,80.751]
[355,-0.19599999999999795,80.446,80.642]
[375,-0.17399999999999238,80.397,80.571]
[400,-0.1740000000000066,80.577,80.751]
[425,-0.2920000000000016,80.914,81.206]
[450,-0.5210000000000008,81.145,81.666]
[475,-0.784000000000006,81.015,81.799]
[500,-0.9889999999999901,80.418,81.407]
[530,-1.032999999999987,79.412,80.445]
[560,-0.8179999999999978,78.221,79.039]
[600,-0.4380000000000024,77.123,77.561]
[630,-0.21099999999999852,76.23,76.441]
[670,-0.1910000000000025,75.515,75.706]
[710,-0.1939999999999884,74.933,75.127]
[750,-0.19299999999999784,74.433,74.626]
[800,-0.242999999999995,73.986,74.229]
[850,-0.3359999999999985,73.76,74.096]
[900,-0.3990000000000009,74.082,74.481]
[950,-0.43599999999999284,74.798,75.234]
[1000,-0.44199999999999307,75.343,75.785]
[1060,-0.382000000000005,75.408,75.79]
[1120,-0.2960000000000065,75.109,75.405]
[1180,-0.23400000000000887,74.636,74.87]
[1250,-0.15399999999999636,73.794,73.948]
[1320,0.16100000000000136,72.368,72.207]
[1400,0.9269999999999925,70.978,70.051]
[1500,1.237000000000009,70.864,69.627]
[1600,0.8329999999999984,71.32,70.487]
[1700,0.5669999999999931,71.8,71.233]
[1800,0.6640000000000015,72.824,72.16]
[1900,0.8140000000000072,74.054,73.24]
[2000,0.8289999999999935,74.567,73.738]
[2120,{"$f":"C67-D67","v":0.7940000000000111},73.861,73.067]
[2240,0.8019999999999925,72.092,71.29]
[2360,1.007000000000005,69.808,68.801]
[2500,1.3399999999999892,68.323,66.983]
[2650,1.2569999999999908,68.273,67.016]
[2800,0.965999999999994,68.152,67.186]
[3000,0.6499999999999915,67.377,66.727]
[3150,0.3340000000000032,66.074,65.74]
[3350,0.14400000000000546,65.271,65.127]
[3550,0.14000000000000057,65.68,65.54]
[3750,0.13599999999999568,66.544,66.408]
[4000,0.12600000000000477,68.173,68.047]
[4250,0.14099999999999113,69.815,69.674]
[4500,0.15000000000000568,70.411,70.261]
[4750,0.17799999999999727,70.145,69.967]
[5000,0.25200000000000955,69.465,69.213]
[5300,0.3359999999999985,68.596,68.26]
[5600,0.42199999999999704,67.806,67.384]
[6000,0.4280000000000115,68.046,67.618]
[6300,0.340999999999994,69.491,69.15]
[6700,0.612000000000009,70.822,70.21]
[7100,1.4339999999999975,71.717,70.283]
[7500,1.7909999999999968,72.326,70.535]
[8000,1.0930000000000035,72.571,71.478]
[8500,0.09900000000000375,72.218,72.119]
[9000,-0.6340000000000003,71.452,72.086]
[9500,-0.47400000000000375,71.173,71.647]
[10000,0.12600000000000477,71.712,71.586]
[10600,0.882000000000005,73.307,72.425]
[11200,0.9099999999999966,75.082,74.172]
[11800,-0.05299999999999727,76.427,76.48]
[12500,-0.9919999999999902,77.447,78.439]
[13200,-1.3969999999999914,78.174,79.571]
[14000,-1.2449999999999903,78.805,80.05]
[15000,-0.9599999999999937,79.635,80.595]
[16000,-0.8500000000000085,80.725,81.575]
[17000,-0.7949999999999875,81.427,82.222]
[18000,-0.7189999999999941,81.043,81.762]
[19000,-0.6599999999999966,79.125,79.785]
[20000,-0.7749999999999915,75.191,75.966]
[21200,-6.618999999999993,59.996,66.615]
[22400,-959.1550000000001,-904.46,54.695]