{"text_format":"3","workbook":"xlsx","n_sheets":5,"sheets":["Fundamental","Sheet1","Smoothed","Sheet2","Unwrap"],"read":"whole","date_system":"1900"}

{"sheet":"Fundamental","index":0,"n_rows":108,"n_cols":12,"rows_kept":108}
[]
[50,-31.79,-129.93,null,{"$f":"10^(B2/20)","v":0.0257335676442611},{"$f":"ABS(C2)","v":129.93},null,null,50,{"$f":"C2","v":-129.93},null,{"$f":"SUM(J2:J8)/7","v":-135.68571428571428}]
[53,-30.58,-134.5,null,{"$f":"10^(B3/20)","v":0.029580124665515455},{"$f":"ABS(C3)","v":134.5},null,{"$f":"SUM(F2:F4)/3","v":135.88333333333333},51,{"$f":"C2-(I3-I2)*((C2-C3)/3)","v":-131.45333333333335}]
[56,-29.01,-143.22,null,0.03544051302809925,143.22,null,null,52,{"$f":"C2-(I4-I2)*((C2-C3)/3)","v":-132.97666666666666}]
[60,-28.45,-157.83,null,0.03780071373018111,157.83,null,null,53,{"$f":"C2-(I5-I2)*((C2-C3)/3)","v":-134.5}]
[63,-27.9,-161.46,null,0.04027170343254589,161.46,null,null,54,{"$f":"C3-((I6-I5)*((C3-C4)/3))","v":-137.40666666666667}]
[67,-27.19,-168.67,null,0.0437018679070613,{"$nulls":3},55,{"$f":"C3-((I7-I5)*((C3-C4)/3))","v":-140.31333333333333}]
[71,-26.17,-172.16,null,0.04914733801992677,{"$nulls":3},56,{"$f":"C3-((I8-I5)*((C3-C4)/3))","v":-143.22}]
[75,-25.1,179.23,null,0.055590425727040337,{"$nulls":3},57]
[80,-24.98,168.62,null,0.056363765582595406,{"$nulls":3},58]
[85,-25.06,168.58,null,0.055847019473683084,{"$nulls":3},59]
[90,-24.23,167.26,null,0.061446903170576134,{"$nulls":3},60]
[95,-23.46,170.18,null,0.06714288529259521,{"$nulls":3},61]
[100,-21.79,167.26,null,0.08137668607787872]
[106,-20.86,163.92,null,0.09057326008982]
[112,-19.64,164.81,null,0.10423174293933041]
[118,-16.93,166.95,null,0.14239672466462425]
[125,-14.19,151.69,null,0.1952090734043305]
[132,-12.91,139.31,null,0.22620385397696208]
[140,-11.53,125.89,null,0.2651551093009209]
[150,-10.55,109.01,null,0.2968246743463241]
[160,-10.19,95.83,null,0.30938553154516524]
[170,-9.48,86.36,null,0.3357376142429546]
[180,-8.71,71.86,null,0.366859694441342]
[190,-8.66,56.77,null,0.3689775985701503]
[200,-9.29,47.28,null,0.3431626397964684]
[212,-9.18,35.27,null,0.3475361614432058]
[224,-10.1,22.41,null,0.3126079367123955]
[236,-11.25,15.57,null,0.2738419634264361]
[250,-12.22,11.45,null,0.24490632418447453]
[265,-13.07,10.79,null,0.22207516834507543]
[280,-12.72,11.13,null,0.23120647901755942]
[300,-11.97,1.11,null,0.25205771796391074]
[315,-12.38,-8.59,null,0.2404362800006933]
[335,-13.43,-15.35,null,0.21305905675427247]
[355,-13.96,-18.75,null,0.20044720273651603]
[375,-14.47,-22.95,null,0.18901662311868994]
[400,-14.48,-27.06,null,0.18879913490962932]
[425,-14.69,-37.88,null,0.18428924889705542]
[450,-16.18,-44.86,null,0.15523870099580822]
[475,-17.01,-46.83,null,0.1410912236458096]
[500,-17.62,-51.66,null,0.1315224832192238]
[530,-18.4,-59.05,null,0.12022644346174129]
[560,-20.73,-69.66,null,0.0919390474803981]
[600,-24.43,-67.01,null,0.06004820089075459]
[630,-26.9,-52.47,null,0.04518559443749223]
[670,-27,-32.8,null,0.04466835921509629]
[710,-25.51,-21.96,null,0.05302735926292141]
[750,-24.97,-22.7,null,0.05642869413451035]
[800,-25.9,-31.08,null,0.05069907082747043]
[850,-27.6,-10.71,null,0.04168693834703352]
[900,-24.56,12.29,null,0.05915616341754738]
[950,-22.45,8.96,null,0.07542233958475705]
[1000,-19.48,11.23,null,0.10616955571987244]
[1060,-17.05,-21.13,null,0.1404429683577947]
[1120,-20.79,-38.5,null,0.09130614352931758]
[1180,-21.78,-29.1,null,0.08147042840208396]
[1250,-21.89,-19.53,null,0.08044517485521321]
[1320,-19.44,-16.39,null,0.10665961212302572]
[1400,-17.63,-36.86,null,0.13137114949600628]
[1500,-18.25,-54.12,null,0.12232071190499315]
[1600,-18.3,-83.86,null,0.12161860006463679]
[1700,-26.3,-130.87,null,0.04841723675840992]
[1800,-37.99,-39.2,null,0.012603756378944238]
[1900,-22.86,28.8,null,0.07194489780036994]
[2000,-18.74,-11.44,null,0.11561122421920988]
[2120,-20.45,-55.41,null,{"$f":"10^(B67/20)","v":0.09495109992021981}]
[2240,-19.34,-46.66,null,0.10789467222298285]
[2360,-19.2,-50.9,null,0.10964781961431849]
[2500,-15.89,-117.39,null,0.16050922580968904]
[2650,-27.37,-162.32,null,0.04280554195862038]
[2800,-27.82,-88.39,null,0.04064433291652127]
[3000,-42.87,173.08,null,0.007186211583804573]
[3150,-33.54,-174.24,null,0.021037784397664742]
[3350,-38.91,108.65,null,0.011337048381054112]
[3550,-25.08,-110.2,null,0.05571857489319297]
[3750,-15.75,91.63,null,0.16311729092278382]
[4000,-19.51,27.34,null,0.10580349159962306]
[4250,-22.2,23.32,null,0.07762471166286916]
[4500,-16.27,-8.04,null,0.15363847933315974]
[4750,-23.14,-22.75,null,0.06966265141107686]
[5000,-23.32,-33.65,null,0.06823386941416694]
[5300,-24.39,-37.52,null,0.06032537079266126]
[5600,-21.37,3.25,null,0.08540828474185443]
[6000,-18.23,-27.15,null,0.12260269026779229]
[6300,-18.18,-32.81,null,0.12331048332289087]
[6700,-19.58,-101.49,null,0.10495424286523226]
[7100,-32.66,-144.41,null,0.023280912576650083]
[7500,-14.2,36.02,null,0.1949844599758045]
[8000,-15.74,-19.3,null,0.16330519478943337]
[8500,-22.53,-91.23,null,0.07473086341912759]
[9000,-22.98,-27.52,null,0.07095777679633886]
[9500,-17.14,-45.76,null,0.1389952631213353,null,null,{"$f":"20*LOG(SUM(E92:E96)/5)","v":-21.82566674802692}]
[10000,-16.52,-97.31,null,0.14927944095789958]
[10600,-32.44,-1.22,null,0.023878112829131774]
[11200,-33.11,4.19,null,0.02210548256299404]
[11800,-20.65,-29.53,null,0.09278974901273308]
[12500,-26.66,-67.74,null,0.04645152752227494]
[13200,-18.89,-83.37,null,0.11363182976673099]
[14000,-21.55,-18.4,null,0.08365655957558098]
[15000,-19.78,-89.54,null,0.10256519262514072]
[16000,-20.5,-96.89,null,0.09440608762859233]
[17000,-23.26,-124.76,null,0.0687068440014232]
[18000,-18.14,-50.41,null,0.12387965865303686]
[19000,-19.76,-112.12,null,0.10280162981264733]
[20000,-17.24,152.61,null,0.13740419750125155]
[21200,-33.91,39.26,null,0.020160439706643628]
[22400,-28.29,-137.91,null,0.0385034814678615]

{"sheet":"Sheet1","index":1,"n_rows":110,"n_cols":4,"rows_kept":110}
[]
[]
[]
[{"$nulls":3},-30.3851]
[{"$nulls":3},-30.3851]
[{"$nulls":3},-29.8594]
[{"$nulls":3},-28.1113]
[{"$nulls":3},-27.8313]
[{"$nulls":3},-26.8776]
[{"$nulls":3},-26.1114]
[{"$nulls":3},-25.8145]
[{"$nulls":3},-25.0465]
[{"$nulls":3},-24.408]
[{"$nulls":3},-23.5497]
[{"$nulls":3},-22.941]
[{"$nulls":3},-21.8352]
[{"$nulls":3},-20.2517]
[{"$nulls":3},-18.219]
[{"$nulls":3},-16.379]
[{"$nulls":3},-14.5799]
[{"$nulls":3},-13.6705]
[{"$nulls":3},-12.1867]
[{"$nulls":3},-10.7384]
[{"$nulls":3},-10.0619]
[{"$nulls":3},-9.23758]
[{"$nulls":3},-9.02768]
[{"$nulls":3},-9.05793]
[{"$nulls":3},-9.17269]
[{"$nulls":3},-9.65014]
[{"$nulls":3},-10.3308]
[{"$nulls":3},-10.6117]
[{"$nulls":3},-11.8038]
[{"$nulls":3},-12.663]
[{"$nulls":3},-12.4845]
[{"$nulls":3},-12.6086]
[{"$nulls":3},-12.5718]
[{"$nulls":3},-13.191]
[{"$nulls":3},-13.943]
[{"$nulls":3},-14.0741]
[{"$nulls":3},-14.5461]
[{"$nulls":3},-15.5272]
[{"$nulls":3},-16.3042]
[{"$nulls":3},-16.6848]
[{"$nulls":3},-17.8556]
[{"$nulls":3},-18.3303]
[{"$nulls":3},-19.9192]
[{"$nulls":3},-24.3706]
[{"$nulls":3},-26.0263]
[{"$nulls":3},-25.7014]
[{"$nulls":3},-25.785]
[{"$nulls":3},-25.8136]
[{"$nulls":3},-26.0895]
[{"$nulls":3},-24.922]
[{"$nulls":3},-23.0228]
[{"$nulls":3},-21.4551]
[{"$nulls":3},-20.4914]
[{"$nulls":3},-20.0906]
[{"$nulls":3},-20.0029]
[{"$nulls":3},-19.9944]
[{"$nulls":3},-20.1533]
[{"$nulls":3},-20.0012]
[{"$nulls":3},-19.1564]
[{"$nulls":3},-18.0546]
[{"$nulls":3},-20.2242]
[{"$nulls":3},-23.9246]
[{"$nulls":3},-24.132]
[{"$nulls":3},-23.2602]
[{"$nulls":3},-21.8732]
[{"$nulls":3},-19.9991]
[{"$nulls":3},-18.5828]
[{"$nulls":3},-18.5439]
[{"$nulls":3},-20.6959]
[{"$nulls":3},-21.7961]
[{"$nulls":3},-24.0427]
[{"$nulls":3},-33.9571]
[{"$nulls":3},-37.5971]
[{"$nulls":3},-25.7337]
[{"$nulls":3},-22.3013]
[{"$nulls":3},-21.515]
[{"$nulls":3},-18.7472]
[{"$nulls":3},-19.8551]
[{"$nulls":3},-20.6969]
[{"$nulls":3},-21.3204]
[{"$nulls":3},-21.1644]
[{"$nulls":3},-22.9862]
[{"$nulls":3},-21.4997]
[{"$nulls":3},-19.246]
[{"$nulls":3},-18.6396]
[{"$nulls":3},-18.8751]
[{"$nulls":3},-19.3525]
[{"$nulls":3},-18.2991]
[{"$nulls":3},-16.8123]
[{"$nulls":3},-19.0159]
[{"$nulls":3},-19.2921]
[{"$nulls":3},-20.7651]
[{"$nulls":3},-21.8257]
[{"$nulls":3},-21.3699]
[{"$nulls":3},-23.4914]
[{"$nulls":3},-24.4701]
[{"$nulls":3},-22.8863]
[{"$nulls":3},-21.5007]
[{"$nulls":3},-21.252]
[{"$nulls":3},-20.5798]
[{"$nulls":3},-21.0553]
[{"$nulls":3},-20.2245]
[{"$nulls":3},-19.3156]
[{"$nulls":3},-20.8583]
[{"$nulls":3},-21.4577]
[{"$nulls":3},-22.5316]
[{"$nulls":3},-23.6943]

{"sheet":"Smoothed","index":2,"n_rows":108,"n_cols":18,"rows_kept":108}
[{"$nulls":7},"delta",null,null,{"$f":"2^(1/12)","v":1.0594630943592953},null,{"$f":"2^(1/6)","v":1.122462048309373},null,{"$f":"2^(1/3)","v":1.2599210498948732},null,null,"3rd octave"]
[50,-31.79,-129.93,-30.3851,null,{"$f":"20*LOG(Fundamental!E2)","v":-31.790000000000003},null,{"$f":"F2-B2","v":0},{"$f":"D2-B2","v":1.4048999999999978},50,{"$f":"J2/K$1","v":47.193715634084676},{"$f":"J2*K$1","v":52.97315471796477},{"$f":"J2/M$1","v":44.54493590701696},{"$f":"J2*M$1","v":56.12310241546865},{"$f":"J2/O$1","v":39.685026299204985},{"$f":"J2*O$1","v":62.99605249474366}]
[53,-30.37,-135.54,-30.3851,null,{"$f":"20*LOG((Fundamental!E2+Fundamental!E4)/2)","v":-30.28925088387656},null,{"$f":"F3-B3","v":0.08074911612344238},{"$f":"D3-B3","v":-0.015100000000000335},53,{"$f":"J3/K$1","v":50.025338572129755},{"$f":"J3*K$1","v":56.15154400104265},{"$f":"J3/M$1","v":47.21763206143798},{"$f":"J3*M$1","v":59.49048856039677},{"$f":"J3/O$1","v":42.066127877157285},{"$f":"J3*O$1","v":66.77581564442828}]
[56,-29.3,-145.31,-29.8594,null,{"$f":"20*LOG((SUM(Fundamental!E2:E6)-Fundamental!E4)/4)","v":-29.538987716738916},null,-0.23898771673891517,-0.5594000000000001,56,52.856961510174834,59.329933284120536,49.890328215859,62.85787470532489,44.447229455109586,70.5555787941129]
[60,-28.46,-153.52,-28.1113,null,{"$f":"20*LOG((SUM(Fundamental!E3:E7)-Fundamental!E5)/4)","v":-28.57781204674209},null,-0.11781204674208823,0.3487000000000009,60,56.632458760901606,63.56778566155772,53.45392308842035,67.34772289856238,47.622031559045986,75.59526299369239]
[63,-27.7,-161.41,-27.8313,null,{"$f":"20*LOG((SUM(Fundamental!E4:E8)-Fundamental!E6)/4)","v":-27.634307496816547},null,0.06569250318345254,-0.13129999999999953,63,59.464081698946686,66.7461749446356,56.12661924284137,70.7151090434905,50.00313313699828,79.37502614337701]
[67,-26.88,-167.9,-26.8776,null,{"$f":"20*LOG((SUM(Fundamental!E5:E9)-Fundamental!E7)/4)","v":-26.80119225792695},null,0.07880774207304952,2.3999999999979593E-3,67,63.239578949673465,70.98402732207279,59.69021411540273,75.20495723672799,53.17793524093468,84.41471034295651]
[71,-26.1,-174.51,-26.1114,null,{"$f":"20*LOG((SUM(Fundamental!E6:E10)-Fundamental!E8)/4)","v":-26.19928024284743},null,-0.09928024284742776,-0.0113999999999983,71,67.01507620040023,75.22187969950997,63.25380898796409,79.69480542996548,56.35273734487108,89.454394542536]
[75,-25.53,178.91,-25.8145,null,{"$f":"20*LOG((SUM(Fundamental!E7:E11)-Fundamental!E9)/4)","v":-25.80358114773013},null,-0.2735811477301304,-0.28449999999999775,75,70.790573451127,79.45973207694715,66.81740386052545,84.18465362320298,59.52753944880748,94.49407874211549]
[80,-25.06,173.49,-25.0465,null,{"$f":"20*LOG((SUM(Fundamental!E8:E12)-Fundamental!E10)/4)","v":-25.11290067602626},null,-0.052900676026261806,0.013499999999996959,80,75.50994501453548,84.75704754874363,71.27189745122715,89.79696386474984,63.496042078727974,100.79368399158986]
[85,-24.6,169.79,-24.408,null,{"$f":"20*LOG((SUM(Fundamental!E9:E13)-Fundamental!E11)/4)","v":-24.417309985630226},null,0.1826900143697756,0.19200000000000017,85,80.22931657794395,90.0543630205401,75.72639104192884,95.4092741062967,67.46454470864848,107.09328924106423]
[90,-23.9,168.49,-23.5497,null,{"$f":"20*LOG((SUM(Fundamental!E10:E14)-Fundamental!E12)/4)","v":-23.71736785979992},null,0.18263214020007723,0.35029999999999717,90,84.9486881413524,95.35167849233657,80.18088463263054,101.02158434784357,71.43304733856897,113.39289449053858]
[95,-22.89,167.74,-22.941,null,{"$f":"20*LOG((SUM(Fundamental!E11:E15)-Fundamental!E13)/4)","v":-22.815916589509982},null,0.07408341049001876,-0.05099999999999838,95,89.66805970476088,100.64899396413306,84.63537822333222,106.63389458939044,75.40154996848948,119.69249974001295]
[100,-21.76,166.85,-21.8352,null,{"$f":"20*LOG((SUM(Fundamental!E12:E16)-Fundamental!E14)/4)","v":-21.84653940657766},null,-0.08653940657765702,-0.07519999999999882,100,94.38743126816935,105.94630943592954,89.08987181403393,112.2462048309373,79.37005259840997,125.99210498948732]
[106,-20.21,166.14,-20.2517,null,{"$f":"20*LOG((SUM(Fundamental!E13:E17)-Fundamental!E15)/4)","v":-20.106003206948234},null,0.1039967930517669,-0.04169999999999874,106,100.05067714425951,112.3030880020853,94.43526412287596,118.98097712079354,84.13225575431457,133.55163128885656]
[112,-18.12,163.79,-18.219,null,{"$f":"20*LOG((SUM(Fundamental!E14:E18)-Fundamental!E16)/4)","v":-17.897365791207857},null,0.2226342087921438,-0.0990000000000002,112,105.71392302034967,118.65986656824107,99.780656431718,125.71574941064978,88.89445891021917,141.1111575882258]
[118,-16.07,158.76,-16.379,null,{"$f":"20*LOG((SUM(Fundamental!E15:E19)-Fundamental!E17)/4)","v":-16.246513205460115},null,-0.17651320546011462,-0.30900000000000105,118,111.37716889643983,125.01664513439685,105.12604874056004,132.45052170050602,93.65666206612377,148.67068388759503]
[125,-14.26,150.82,-14.5799,null,{"$f":"20*LOG((SUM(Fundamental!E16:E20)-Fundamental!E18)/4)","v":-14.680220523571188},null,-0.42022052357118866,-0.3199000000000005,125,117.98428908521169,132.43288679491192,111.36233976754241,140.30775603867164,99.21256574801247,157.49013123685916]
[132,-12.72,138.72,-13.6705,null,{"$f":"20*LOG((SUM(Fundamental!E17:E21)-Fundamental!E19)/4)","v":-12.960350104966185},null,-0.24035010496618447,-0.9504999999999999,132,124.59140927398353,139.84912845542698,117.59863079452478,148.16499037683724,104.76846942990116,166.30957858612325]
[140,-11.61,124.49,-12.1867,null,{"$f":"20*LOG((SUM(Fundamental!E18:E22)-Fundamental!E20)/4)","v":-11.804522380620245},null,-0.19452238062024563,-0.5767000000000007,140,132.1424037754371,148.32483321030134,124.7258205396475,157.14468676331222,111.11807363777396,176.38894698528225]
[150,-10.76,110.89,-10.7384,null,{"$f":"20*LOG((SUM(Fundamental!E19:E23)-Fundamental!E21)/4)","v":-10.929947760844417},null,-0.16994776084441732,0.021599999999999397,150,141.581146902254,158.9194641538943,133.6348077210509,168.36930724640595,119.05507889761496,188.98815748423098]
[160,-10.01,97.52,-10.0619,null,{"$f":"20*LOG((SUM(Fundamental!E20:E24)-Fundamental!E22)/4)","v":-10.002293619481078},null,0.007706380518921918,-0.051899999999999835,160,151.01989002907095,169.51409509748726,142.5437949024543,179.59392772949968,126.99208415745595,201.58736798317972]
[170,-9.44,84.24,-9.23758,null,{"$f":"20*LOG((SUM(Fundamental!E21:E25)-Fundamental!E23)/4)","v":-9.485842085959305},null,-0.045842085959305834,0.20242000000000004,170,160.4586331558879,180.1087260410802,151.45278208385767,190.8185482125934,134.92908941729695,214.18657848212845]
[180,-9.12,71.64,-9.02768,null,{"$f":"20*LOG((SUM(Fundamental!E22:E26)-Fundamental!E24)/4)","v":-9.387917166869691},null,-0.267917166869692,0.09231999999999907,180,169.8973762827048,190.70335698467315,160.36176926526107,202.04316869568714,142.86609467713794,226.78578898107716]
[190,-8.99,59.18,-9.05793,null,{"$f":"20*LOG((SUM(Fundamental!E23:E27)-Fundamental!E25)/4)","v":-9.160331335268445},null,-0.17033133526844502,-0.06793000000000049,190,179.33611940952176,201.2979879282661,169.27075644666445,213.26778917878087,150.80309993697895,239.3849994800259]
[200,-9.11,46.62,-9.17269,null,{"$f":"20*LOG((SUM(Fundamental!E24:E28)-Fundamental!E26)/4)","v":-9.143607245448372},null,-0.03360724544837268,-0.06268999999999991,200,188.7748625363387,211.89261887185907,178.17974362806785,224.4924096618746,158.74010519681994,251.98420997897463]
[212,-9.57,35.28,-9.65014,null,{"$f":"20*LOG((SUM(Fundamental!E25:E29)-Fundamental!E27)/4)","v":-9.771757816226907},null,-0.20175781622690714,-0.0801400000000001,212,200.10135428851902,224.6061760041706,188.87052824575193,237.96195424158708,168.26451150862914,267.1032625777131]
[224,-10.2,25.65,-10.3308,null,{"$f":"20*LOG((SUM(Fundamental!E26:E30)-Fundamental!E28)/4)","v":-10.389462356443532},null,-0.18946235644353315,-0.1308000000000007,224,211.42784604069934,237.31973313648214,199.561312863436,251.43149882129956,177.78891782043834,282.2223151764516]
[236,-11,18.12,-10.6117,null,{"$f":"20*LOG((SUM(Fundamental!E27:E31)-Fundamental!E29)/4)","v":-11.001753620940335},null,-1.7536209403345993E-3,0.3882999999999992,236,222.75433779287965,250.0332902687937,210.25209748112007,264.90104340101203,187.31332413224754,297.34136777519007]
[250,-11.87,13.64,-11.8038,null,{"$f":"20*LOG((SUM(Fundamental!E28:E32)-Fundamental!E30)/4)","v":-11.702775396132918},null,0.1672246038670817,0.06619999999999848,250,235.96857817042337,264.86577358982385,222.72467953508482,280.6155120773433,198.42513149602493,314.9802624737183]
[265,-12.37,10.43,-12.663,null,{"$f":"20*LOG((SUM(Fundamental!E29:E33)-Fundamental!E31)/4)","v":-12.02373717326401},null,0.3462628267359893,-0.29300000000000104,265,250.12669286064877,280.75772000521323,236.0881603071899,297.45244280198386,210.3306393857864,333.8790782221414]
[280,-12.5,6.12,-12.4845,null,{"$f":"20*LOG((SUM(Fundamental!E30:E34)-Fundamental!E32)/4)","v":-12.400522120670768},null,0.09947787932923191,0.015499999999999403,280,264.2848075508742,296.64966642060267,249.451641079295,314.28937352662444,222.23614727554792,352.7778939705645]
[300,-12.55,0.34,-12.6086,null,{"$f":"20*LOG((SUM(Fundamental!E31:E35)-Fundamental!E33)/4)","v":-12.891190060583384},null,-0.34119006058338286,-0.05859999999999843,300,283.162293804508,317.8389283077886,267.2696154421018,336.7386144928119,238.11015779522992,377.97631496846196]
[315,-12.73,-6.66,-12.5718,null,{"$f":"20*LOG((SUM(Fundamental!E32:E36)-Fundamental!E34)/4)","v":-12.987573981172819},null,-0.2575739811728184,0.15820000000000078,315,297.32040849473344,333.73087472317803,280.6330962142069,353.5755452174525,250.0156656849914,396.87513071688505]
[335,-13.17,-13.4,-13.191,null,{"$f":"20*LOG((SUM(Fundamental!E33:E37)-Fundamental!E35)/4)","v":-13.13224348265945},null,0.037756517340550744,-0.021000000000000796,335,316.19789474836733,354.92013661036395,298.45107057701364,376.02478618363995,265.8896762046734,422.0735517147825]
[355,-13.77,-18.72,-13.943,null,{"$f":"20*LOG((SUM(Fundamental!E34:E38)-Fundamental!E36)/4)","v":-13.645928292763275},null,0.124071707236725,-0.17300000000000004,355,335.07538100200117,376.1093984975498,316.26904493982045,398.4740271498274,281.7636867243554,447.27197271268]
[375,-14.23,-23.84,-14.0741,null,{"$f":"20*LOG((SUM(Fundamental!E35:E39)-Fundamental!E37)/4)","v":-14.126180135714485},null,0.1038198642855157,0.15590000000000082,375,353.95286725563506,397.29866038473574,334.08701930262725,420.92326811601487,297.6376972440374,472.47039371057747]
[400,-14.64,-29.92,-14.5461,null,{"$f":"20*LOG((SUM(Fundamental!E36:E40)-Fundamental!E38)/4)","v":-14.786747251074344},null,-0.14674725107434305,0.09390000000000143,400,377.5497250726774,423.78523774371814,356.3594872561357,448.9848193237492,317.4802103936399,503.96841995794927]
[425,-15.17,-36.17,-15.5272,null,{"$f":"20*LOG((SUM(Fundamental!E37:E41)-Fundamental!E39)/4)","v":-15.466124674993944},null,-0.2961246749939441,-0.35720000000000063,425,401.1465828897197,450.2718151027005,378.6319552096442,477.04637053148355,337.3227235432424,535.4664462053211]
[450,-15.83,-42.23,-16.3042,null,{"$f":"20*LOG((SUM(Fundamental!E38:E42)-Fundamental!E40)/4)","v":-15.840555974988199},null,-0.010555974988198713,-0.4742000000000015,450,424.74344070676204,476.7583924616829,400.90442316315267,505.1079217392179,357.16523669284487,566.9644724526929]
[475,-16.7,-47.95,-16.6848,null,{"$f":"20*LOG((SUM(Fundamental!E39:E43)-Fundamental!E41)/4)","v":-16.60538192432965},null,0.09461807567035052,0.015200000000000102,475,448.3402985238044,503.2449698206653,423.1768911166612,533.1694729469522,377.00774984244737,598.4624987000648]
[500,-17.7,-53.7,-17.8556,null,{"$f":"20*LOG((SUM(Fundamental!E40:E44)-Fundamental!E42)/4)","v":-17.915458989964193},null,-0.2154589899641941,-0.15559999999999974,500,471.93715634084674,529.7315471796477,445.44935907016963,561.2310241546866,396.85026299204986,629.9605249474366]
[530,-18.86,-59.32,-18.3303,null,{"$f":"20*LOG((SUM(Fundamental!E41:E45)-Fundamental!E43)/4)","v":-19.481580489058192},null,-0.6215804890581929,0.5296999999999983,530,500.25338572129755,561.5154400104265,472.1763206143798,594.9048856039677,420.6612787715728,667.7581564442828]
[560,-20.44,-61.94,-19.9192,null,{"$f":"20*LOG((SUM(Fundamental!E42:E46)-Fundamental!E44)/4)","v":-20.988255891858543},null,-0.5482558918585418,0.5208000000000013,560,528.5696151017484,593.2993328412053,498.90328215859,628.5787470532489,444.47229455109584,705.555787941129]
[600,-22.53,-58.76,-24.3706,null,{"$f":"20*LOG((SUM(Fundamental!E43:E47)-Fundamental!E45)/4)","v":-22.44050173507551},null,0.0894982649244902,-1.8405999999999985,600,566.324587609016,635.6778566155772,534.5392308842036,673.4772289856238,476.22031559045985,755.9526299369239]
[630,-24.79,-49.52,-26.0263,null,{"$f":"20*LOG((SUM(Fundamental!E44:E48)-Fundamental!E46)/4)","v":-24.093421503018966},null,0.6965784969810329,-1.2363,630,594.6408169894669,667.4617494463561,561.2661924284138,707.151090434905,500.0313313699828,793.7502614337701]
[670,-25.91,-38.02,-25.7014,null,{"$f":"20*LOG((SUM(Fundamental!E45:E49)-Fundamental!E47)/4)","v":-25.404969626856012},null,0.5050303731439882,0.20860000000000056,670,632.3957894967347,709.8402732207279,596.9021411540273,752.0495723672799,531.7793524093468,844.147103429565]
[710,-25.89,-29.81,-25.785,null,{"$f":"20*LOG((SUM(Fundamental!E46:E50)-Fundamental!E48)/4)","v":-26.15268138182745},null,-0.2626813818274485,0.10500000000000043,710,670.1507620040023,752.2187969950996,632.5380898796409,796.9480542996548,563.5273734487108,894.54394542536]
[750,-25.84,-24.37,-25.8136,null,{"$f":"20*LOG((SUM(Fundamental!E47:E51)-Fundamental!E49)/4)","v":-26.46239241414132},null,-0.62239241414132,0.02639999999999887,750,707.9057345112701,794.5973207694715,668.1740386052545,841.8465362320297,595.2753944880748,944.9407874211549]
[800,-25.75,-17.33,-26.0895,null,{"$f":"20*LOG((SUM(Fundamental!E48:E52)-Fundamental!E50)/4)","v":-25.58444926671899},null,0.1655507332810089,-0.339500000000001,800,755.0994501453548,847.5704754874363,712.7189745122714,897.9696386474984,634.9604207872798,1007.9368399158985]
[850,-25.14,-9.09,-24.922,null,{"$f":"20*LOG((SUM(Fundamental!E49:E53)-Fundamental!E51)/4)","v":-24.37544157165357},null,0.7645584283464295,0.21799999999999997,850,802.2931657794394,900.543630205401,757.2639104192884,954.0927410629671,674.6454470864848,1070.9328924106421]
[900,-23.51,0.15,-23.0228,null,{"$f":"20*LOG((SUM(Fundamental!E50:E54)-Fundamental!E52)/4)","v":-23.2868890336347},null,0.2231109663653008,0.4872000000000014,900,849.4868814135241,953.5167849233658,801.8088463263053,1010.2158434784358,714.3304733856897,1133.9289449053858]
[950,-21.08,4.14,-21.4551,null,{"$f":"20*LOG((SUM(Fundamental!E51:E55)-Fundamental!E53)/4)","v":-21.22321286716716},null,-0.1432128671671613,-0.3751000000000033,950,896.6805970476088,1006.4899396413306,846.3537822333224,1066.3389458939043,754.0154996848947,1196.9249974001295]
[1000,-19.73,-3.51,-20.4914,null,{"$f":"20*LOG((SUM(Fundamental!E52:E56)-Fundamental!E54)/4)","v":-20.763806659817817},null,-1.0338066598178166,-0.7613999999999983,1000,943.8743126816935,1059.4630943592954,890.8987181403393,1122.4620483093731,793.7005259840997,1259.9210498948732]
[1060,-19.44,-14.62,-20.0906,null,{"$f":"20*LOG((SUM(Fundamental!E53:E57)-Fundamental!E55)/4)","v":-21.052098424260215},null,-1.612098424260214,-0.6505999999999972,1060,1000.5067714425951,1123.030880020853,944.3526412287596,1189.8097712079355,841.3225575431456,1335.5163128885656]
[1120,-19.63,-23.22,-20.0029,null,{"$f":"20*LOG((SUM(Fundamental!E54:E58)-Fundamental!E56)/4)","v":-19.81676056141415},null,-0.18676056141415032,-0.37290000000000134,1120,1057.1392302034967,1186.5986656824107,997.80656431718,1257.1574941064978,888.9445891021917,1411.111575882258]
[1180,-20.34,-26.47,-19.9944,null,{"$f":"20*LOG((SUM(Fundamental!E55:E59)-Fundamental!E57)/4)","v":-19.59994857876088},null,0.7400514212391194,0.345600000000001,1180,1113.7716889643982,1250.1664513439684,1051.2604874056003,1324.50521700506,936.5666206612377,1486.7068388759503]
[1250,-20.31,-25.67,-20.1533,null,{"$f":"20*LOG((SUM(Fundamental!E56:E60)-Fundamental!E58)/4)","v":-19.768436070018506},null,0.5415639299814927,0.15669999999999717,1250,1179.8428908521169,1324.328867949119,1113.623397675424,1403.0775603867162,992.1256574801247,1574.9013123685916]
[1320,-19.4,-28.6,-20.0012,null,{"$f":"20*LOG((SUM(Fundamental!E57:E61)-Fundamental!E59)/4)","v":-19.667533041599757},null,-0.26753304159975855,-0.6012000000000022,1320,1245.9140927398353,1398.49128455427,1175.9863079452477,1481.6499037683725,1047.6846942990117,1663.0957858612326]
[1400,-18.68,-39.77,-19.1564,null,{"$f":"20*LOG((SUM(Fundamental!E58:E62)-Fundamental!E60)/4)","v":-19.35076574817093},null,-0.670765748170929,-0.4764000000000017,1400,1321.4240377543708,1483.2483321030134,1247.258205396475,1571.446867633122,1111.1807363777395,1763.8894698528225]
[1500,-18.71,-62.12,-18.0546,null,{"$f":"20*LOG((SUM(Fundamental!E59:E63)-Fundamental!E61)/4)","v":-19.826578869881473},null,-1.1165788698814723,0.6554000000000002,1500,1415.8114690225402,1589.194641538943,1336.348077210509,1683.6930724640595,1190.5507889761495,1889.8815748423099]
[1600,-19.91,-76.72,-20.2242,null,{"$f":"20*LOG((SUM(Fundamental!E60:E64)-Fundamental!E62)/4)","v":-22.08291018335298},null,-2.172910183352979,-0.3141999999999996,1600,1510.1989002907096,1695.1409509748726,1425.4379490245428,1795.9392772949968,1269.9208415745595,2015.873679831797]
[1700,-21.65,-66.65,-23.9246,null,{"$f":"20*LOG((SUM(Fundamental!E61:E65)-Fundamental!E63)/4)","v":-21.710810542301555},null,-0.06081054230155658,-2.274600000000003,1700,1604.5863315588788,1801.087260410802,1514.5278208385769,1908.1854821259342,1349.2908941729695,2141.8657848212843]
[1800,-22.64,-47.23,-24.132,null,{"$f":"20*LOG((SUM(Fundamental!E62:E66)-Fundamental!E64)/4)","v":-20.97344494117001},null,1.6665550588299922,-1.4920000000000009,1800,1698.9737628270482,1907.0335698467316,1603.6176926526107,2020.4316869568715,1428.6609467713795,2267.8578898107717]
[1900,-22.15,-28.75,-23.2602,null,{"$f":"20*LOG((SUM(Fundamental!E63:E67)-Fundamental!E65)/4)","v":-23.36313805173603},null,-1.2131380517360313,-1.1102000000000025,1900,1793.3611940952176,2012.9798792826612,1692.7075644666447,2132.6778917878087,1508.0309993697895,2393.849994800259]
[2000,-20.78,-20.25,-21.8732,null,{"$f":"20*LOG((SUM(Fundamental!E64:E68)-Fundamental!E66)/4)","v":-22.871633001593526},null,-2.091633001593525,-1.0931999999999995,2000,1887.748625363387,2118.9261887185908,1781.7974362806785,2244.9240966187463,1587.4010519681995,2519.8420997897465]
[2120,-19.73,-31.14,-19.9991,null,{"$f":"20*LOG((SUM(Fundamental!E65:E69)-Fundamental!E67)/4)","v":-19.889984683713827},null,{"$f":"F67-B67","v":-0.15998468371382657},{"$f":"D67-B67","v":-0.2690999999999981},2120,{"$f":"J67/K$1","v":2001.0135428851902},{"$f":"J67*K$1","v":2246.061760041706},{"$f":"J67/M$1","v":1888.7052824575192},{"$f":"J67*M$1","v":2379.619542415871},{"$f":"J67/O$1","v":1682.6451150862913},{"$f":"J67*O$1","v":2671.032625777131}]
[2240,-18.84,-54.35,-18.5828,null,{"$f":"20*LOG((SUM(Fundamental!E66:E70)-Fundamental!E68)/4)","v":-18.403367397506525},null,0.436632602493475,0.257200000000001,2240,2114.2784604069934,2373.1973313648214,1995.61312863436,2514.3149882129956,1777.8891782043834,2822.223151764516]
[2360,-18.63,-80.95,-18.5439,null,{"$f":"20*LOG((SUM(Fundamental!E67:E71)-Fundamental!E69)/4)","v":-19.86724527241818},null,-1.237245272418182,0.08609999999999829,2360,2227.5433779287964,2500.332902687937,2102.5209748112006,2649.01043401012,1873.1332413224754,2973.4136777519007]
[2500,-19.37,-99.53,-20.6959,null,{"$f":"20*LOG((SUM(Fundamental!E68:E72)-Fundamental!E70)/4)","v":-22.470090189546198},null,-3.100090189546197,-1.3259000000000007,2500,2359.6857817042337,2648.657735898238,2227.246795350848,2806.1551207734324,1984.2513149602494,3149.802624737183]
[2650,-20.54,-121.75,-21.7961,null,{"$f":"20*LOG((SUM(Fundamental!E69:E73)-Fundamental!E71)/4)","v":-21.992996403760586},null,-1.4529964037605865,-1.2561,2650,2501.2669286064875,2807.5772000521324,2360.881603071899,2974.5244280198385,2103.3063938578644,3338.790782221414]
[2800,-23.81,-145.86,-24.0427,null,{"$f":"20*LOG((SUM(Fundamental!E70:E74)-Fundamental!E72)/4)","v":-24.748725623728866},null,-0.9387256237288675,-0.23270000000000124,2800,2642.8480755087417,2966.4966642060267,2494.51641079295,3142.893735266244,2222.361472755479,3527.778939705645]
[3000,-31.07,-164.1,-33.9571,null,{"$f":"20*LOG((SUM(Fundamental!E71:E75)-Fundamental!E73)/4)","v":-30.765175572556437},null,0.3048244274435632,-2.8870999999999967,3000,2831.6229380450804,3178.389283077886,2672.696154421018,3367.386144928119,2381.101577952299,3779.7631496846197]
[3150,-31.25,-177.95,-37.5971,null,{"$f":"20*LOG((SUM(Fundamental!E72:E76)-Fundamental!E74)/4)","v":-30.835844965725848},null,0.41415503427415246,-6.3470999999999975,3150,2973.204084947334,3337.30874723178,2806.3309621420685,3535.755452174525,2500.1566568499143,3968.7513071688504]
[3350,-23.71,169.14,-25.7337,null,{"$f":"20*LOG((SUM(Fundamental!E73:E77)-Fundamental!E75)/4)","v":-24.185155943675195},null,-0.475155943675194,-2.023699999999998,3350,3161.978947483673,3549.2013661036394,2984.5107057701366,3760.2478618364,2658.8967620467342,4220.735517147825]
[3550,-20.5,139.16,-22.3013,null,{"$f":"20*LOG((SUM(Fundamental!E74:E78)-Fundamental!E76)/4)","v":-22.46134359630365},null,-1.9613435963036494,-1.8013000000000012,3550,3350.7538100200118,3761.093984975498,3162.6904493982042,3984.740271498274,2817.636867243554,4472.7197271268]
[3750,-19.59,108.69,-21.515,null,{"$f":"20*LOG((SUM(Fundamental!E75:E79)-Fundamental!E77)/4)","v":-24.065606042662417},null,-4.475606042662417,-1.9250000000000007,3750,3539.5286725563506,3972.9866038473574,3340.8701930262723,4209.232681160149,2976.376972440374,4724.7039371057745]
[4000,-18.45,65.79,-18.7472,null,{"$f":"20*LOG((SUM(Fundamental!E76:E80)-Fundamental!E78)/4)","v":-18.975037769156945},null,-0.5250377691569454,-0.29720000000000013,4000,3775.497250726774,4237.8523774371815,3563.594872561357,4489.8481932374925,3174.802103936399,5039.684199579493]
[4250,-18.5,19.26,-19.8551,null,{"$f":"20*LOG((SUM(Fundamental!E77:E81)-Fundamental!E79)/4)","v":-18.197980942801763},null,0.30201905719823685,-1.3551000000000002,4250,4011.4658288971973,4502.718151027005,3786.319552096442,4770.463705314835,3373.2272354324236,5354.664462053211]
[4500,-19.75,-2.66,-20.6969,null,{"$f":"20*LOG((SUM(Fundamental!E78:E82)-Fundamental!E80)/4)","v":-21.90231696061027},null,-2.1523169606102712,-0.9468999999999994,4500,4247.434407067621,4767.583924616829,4009.0442316315266,5051.079217392178,3571.652366928449,5669.644724526929]
[4750,-20.23,-17.89,-21.3204,null,{"$f":"20*LOG((SUM(Fundamental!E79:E83)-Fundamental!E81)/4)","v":-20.91943515420804},null,-0.6894351542080379,-1.090399999999999,4750,4483.402985238044,5032.449698206653,4231.768911166611,5331.694729469522,3770.0774984244736,5984.624987000648]
[5000,-21.46,-24.08,-21.1644,null,{"$f":"20*LOG((SUM(Fundamental!E80:E84)-Fundamental!E82)/4)","v":-20.69985370788492},null,0.7601462921150812,0.2956000000000003,5000,4719.371563408467,5297.315471796476,4454.493590701696,5612.310241546865,3968.5026299204987,6299.605249474366]
[5300,-21.95,-23.22,-22.9862,null,{"$f":"20*LOG((SUM(Fundamental!E81:E85)-Fundamental!E83)/4)","v":-21.26200036051558},null,0.6879996394844206,-1.036200000000001,5300,5002.533857212975,5615.154400104265,4721.763206143798,5949.048856039677,4206.612787715729,6677.581564442828]
[5600,-20.47,-23.66,-21.4997,null,{"$f":"20*LOG((SUM(Fundamental!E82:E86)-Fundamental!E84)/4)","v":-20.57280322439645},null,-0.10280322439644962,-1.0297000000000018,5600,5285.696151017483,5932.993328412053,4989.0328215859,6285.787470532488,4444.722945510958,7055.55787941129]
[6000,-19.5,-31.55,-19.246,null,{"$f":"20*LOG((SUM(Fundamental!E83:E87)-Fundamental!E85)/4)","v":-20.5838053659961},null,-1.0838053659960991,0.25400000000000134,6000,5663.245876090161,6356.778566155772,5345.392308842036,6734.772289856238,4762.203155904598,7559.5262993692395]
[6300,-19.47,-58.01,-18.6396,null,{"$f":"20*LOG((SUM(Fundamental!E84:E88)-Fundamental!E86)/4)","v":-21.508053923716094},null,-2.0380539237160953,0.8303999999999974,6300,5946.408169894668,6674.61749446356,5612.661924284137,7071.51090434905,5000.3133136998285,7937.502614337701]
[6700,-18.76,-113.57,-18.8751,null,{"$f":"20*LOG((SUM(Fundamental!E85:E89)-Fundamental!E87)/4)","v":-18.707498547804757},null,0.05250145219524427,-0.1150999999999982,6700,6323.957894967346,7098.402732207279,5969.021411540273,7520.4957236728,5317.7935240934685,8441.47103429565]
[7100,-17.54,166.02,-19.3525,null,{"$f":"20*LOG((SUM(Fundamental!E86:E90)-Fundamental!E88)/4)","v":-16.675034169203677},null,0.8649658307963222,-1.8125,7100,6701.5076200400235,7522.187969950996,6325.3808987964085,7969.480542996548,5635.273734487108,8945.4394542536]
[7500,-17.36,78.99,-18.2991,null,{"$f":"20*LOG((SUM(Fundamental!E87:E91)-Fundamental!E89)/4)","v":-20.765144076474943},null,-3.4051440764749437,-0.9390999999999998,7500,7079.057345112701,7945.973207694715,6681.740386052545,8418.465362320298,5952.753944880748,9449.407874211549]
[8000,-17.39,4.88,-16.8123,null,{"$f":"20*LOG((SUM(Fundamental!E88:E92)-Fundamental!E90)/4)","v":-20.82026958560302},null,-3.430269585603021,0.5777000000000001,8000,7550.994501453548,8475.704754874363,7127.189745122714,8979.696386474985,6349.604207872798,10079.368399158986]
[8500,-17.83,-35.73,-19.0159,null,{"$f":"20*LOG((SUM(Fundamental!E89:E93)-Fundamental!E91)/4)","v":-16.950522603530423},null,0.879477396469575,-1.1859000000000002,8500,8022.931657794395,9005.43630205401,7572.639104192884,9540.92741062967,6746.454470864847,10709.328924106421]
[9000,-18.66,-55.7,-19.2921,null,{"$f":"20*LOG((SUM(Fundamental!E90:E94)-Fundamental!E92)/4)","v":-17.616354810617505},null,1.0436451893824952,-0.6321000000000012,9000,8494.868814135241,9535.167849233658,8018.088463263053,10102.158434784356,7143.304733856898,11339.289449053858]
[9500,-19.06,-54.2,-20.7651,null,{"$f":"20*LOG((SUM(Fundamental!E91:E95)-Fundamental!E93)/4)","v":-21.969575081045853},null,-2.9095750810458547,-1.7051000000000016,9500,8966.805970476087,10064.899396413306,8463.537822333223,10663.389458939044,7540.154996848947,11969.249974001295]
[10000,-19.5,-38.99,-21.8257,null,{"$f":"20*LOG((SUM(Fundamental!E92:E96)-Fundamental!E94)/4)","v":-23.87855070325849},null,-4.37855070325849,-2.325700000000001,10000,9438.743126816935,10594.630943592952,8908.987181403392,11224.62048309373,7937.0052598409975,12599.210498948732]
[10600,-20.3,-33,-21.3699,null,{"$f":"20*LOG((SUM(Fundamental!E93:E97)-Fundamental!E95)/4)","v":-19.93143703965319},null,0.3685629603468108,-1.0699000000000005,10600,10005.06771442595,11230.30880020853,9443.526412287596,11898.097712079354,8413.225575431457,13355.163128885655]
[11200,-22.62,-27.27,-23.4914,null,{"$f":"20*LOG((SUM(Fundamental!E94:E98)-Fundamental!E96)/4)","v":-22.147011843941506},null,0.472988156058495,-0.8713999999999977,11200,10571.392302034967,11865.986656824107,9978.0656431718,12571.574941064977,8889.445891021916,14111.11575882258]
[11800,-23.47,-33.84,-24.4701,null,{"$f":"20*LOG((SUM(Fundamental!E95:E99)-Fundamental!E97)/4)","v":-25.761032850656104},null,-2.291032850656105,-1.0000999999999998,11800,11137.716889643983,12501.664513439684,10512.604874056004,13245.052170050601,9365.666206612377,14867.068388759504]
[12500,-21.64,-46.94,-22.8863,null,{"$f":"20*LOG((SUM(Fundamental!E96:E100)-Fundamental!E98)/4)","v":-22.15299755552365},null,-0.5129975555236506,-1.246299999999998,12500,11798.428908521168,13243.288679491192,11136.233976754242,14030.775603867163,9921.256574801246,15749.013123685914]
[13200,-21.02,-57.26,-21.5007,null,{"$f":"20*LOG((SUM(Fundamental!E97:E101)-Fundamental!E99)/4)","v":-21.791166593851287},null,-0.7711665938512873,-0.4806999999999988,13200,12459.140927398354,13984.912845542698,11759.863079452478,14816.499037683723,10476.846942990116,16630.957858612324]
[14000,-20.46,-68.41,-21.252,null,{"$f":"20*LOG((SUM(Fundamental!E98:E102)-Fundamental!E100)/4)","v":-20.98650626242744},null,-0.5265062624274393,-0.791999999999998,14000,13214.240377543709,14832.483321030135,12472.58205396475,15714.468676331222,11111.807363777396,17638.894698528224]
[15000,-20.55,-77.22,-20.5798,null,{"$f":"20*LOG((SUM(Fundamental!E99:E103)-Fundamental!E101)/4)","v":-20.905472344128995},null,-0.3554723441289944,-0.02979999999999805,15000,14158.114690225402,15891.94641538943,13363.48077210509,16836.930724640595,11905.507889761497,18898.815748423098]
[16000,-20.54,-86.4,-21.0553,null,{"$f":"20*LOG((SUM(Fundamental!E100:E104)-Fundamental!E102)/4)","v":-20.47281113804477},null,0.06718886195523055,-0.5152999999999999,16000,15101.989002907096,16951.409509748726,14254.379490245428,17959.39277294997,12699.208415745596,20158.736798317972]
[17000,-20.05,-93.22,-20.2245,null,{"$f":"20*LOG((SUM(Fundamental!E101:E105)-Fundamental!E103)/4)","v":-19.501002946657596},null,0.5489970533424042,-0.17449999999999832,17000,16045.86331558879,18010.87260410802,15145.278208385767,19081.85482125934,13492.908941729695,21418.657848212843]
[18000,-19.54,-109.86,-19.3156,null,{"$f":"20*LOG((SUM(Fundamental!E102:E106)-Fundamental!E104)/4)","v":-19.928231383611774},null,-0.38823138361177456,0.22439999999999927,18000,16989.737628270483,19070.335698467316,16036.176926526106,20204.316869568713,14286.609467713795,22678.578898107717]
[19000,-19.27,-148.17,-20.8583,null,{"$f":"20*LOG((SUM(Fundamental!E103:E107)-Fundamental!E105)/4)","v":-21.156088937275715},null,-1.8860889372757157,-1.5883000000000003,19000,17933.611940952174,20129.798792826612,16927.075644666445,21326.778917878088,15080.309993697894,23938.49994800259]
[20000,-20.19,131.4,-21.4577,null,{"$f":"20*LOG((SUM(Fundamental!E104:E108)-Fundamental!E106)/4)","v":-22.93378810587706},null,-2.7437881058770586,-1.2676999999999978,20000,18877.48625363387,21189.261887185905,17817.974362806784,22449.24096618746,15874.010519681995,25198.420997897465]
[21200,-22.76,23.31,-22.5316,{"$nulls":3},22.76,0.2284000000000006,21200,20010.1354288519,22460.61760041706,18887.052824575192,23796.19542415871,16826.451150862915,26710.32625777131]
[22400,-28.29,-137.91,-23.6943,{"$nulls":3},28.29,4.595700000000001,22400,21142.784604069933,23731.973313648214,19956.1312863436,25143.149882129954,17778.891782043833,28222.23151764516]

{"sheet":"Sheet2","index":3,"n_rows":109,"n_cols":2,"rows_kept":109}
[]
[]
[null,-30.3101]
[null,-30.3101]
[null,-29.7653]
[null,-28.0851]
[null,-27.8159]
[null,-26.7918]
[null,-26.0697]
[null,-25.7706]
[null,-25.0464]
[null,-24.3831]
[null,-23.4619]
[null,-22.802]
[null,-21.6783]
[null,-19.9589]
[null,-17.7431]
[null,-15.8966]
[null,-14.1857]
[null,-13.4713]
[null,-12.0816]
[null,-10.7206]
[null,-10.0503]
[null,-9.21571]
[null,-9.0204]
[null,-9.05185]
[null,-9.15784]
[null,-9.60666]
[null,-10.2573]
[null,-10.537]
[null,-11.7332]
[null,-12.6559]
[null,-12.474]
[null,-12.5926]
[null,-12.5509]
[null,-13.14]
[null,-13.9326]
[null,-14.0631]
[null,-14.5455]
[null,-15.4663]
[null,-16.2312]
[null,-16.5868]
[null,-17.736]
[null,-18.231]
[null,-19.6048]
[null,-23.9535]
[null,-25.9387]
[null,-25.6419]
[null,-25.745]
[null,-25.7832]
[null,-26.025]
[null,-24.7185]
[null,-22.5575]
[null,-20.7653]
[null,-20.1304]
[null,-19.8582]
[null,-19.7929]
[null,-19.7843]
[null,-19.993]
[null,-19.8147]
[null,-19.025]
[null,-18.0491]
[null,-19.7065]
[null,-22.5045]
[null,-22.7891]
[null,-22.2097]
[null,-21.0394]
[null,-19.8952]
[null,-18.4279]
[null,-18.3533]
[null,-19.7542]
[null,-20.1103]
[null,-21.3521]
[null,-32.4513]
[null,-36.828]
[null,-22.1703]
[null,-20.0232]
[null,-19.8891]
[null,-18.3538]
[null,-19.4236]
[null,-20.0945]
[null,-20.6775]
[null,-20.5505]
[null,-22.9153]
[null,-21.1604]
[null,-19.159]
[null,-18.6167]
[null,-17.969]
[null,-17.8185]
[null,-17.1985]
[null,-16.3034]
[null,-18.4918]
[null,-18.8419]
[null,-19.7639]
[null,-20.2047]
[null,-19.8908]
[null,-21.6608]
[null,-23.0559]
[null,-22.0528]
[null,-21.1523]
[null,-20.89]
[null,-20.5502]
[null,-20.9415]
[null,-20.0494]
[null,-19.0732]
[null,-20.0068]
[null,-20.2981]
[null,-21.06]
[null,-21.5971]

{"sheet":"Unwrap","index":4,"n_rows":108,"n_cols":5,"rows_kept":108}
[]
[50,-31.79,-129.93,null,-129.93]
[53,-30.37,-135.54,null,-135.54]
[56,-29.3,-145.31,null,-145.31]
[60,-28.46,-153.52,null,-153.52]
[63,-27.7,-161.41,null,-161.41]
[67,-26.88,-167.9,null,-167.9]
[71,-26.1,-174.51,null,-174.51]
[75,-25.53,-181.09,null,-181.09]
[80,-25.06,-186.51,null,-186.51]
[85,-24.6,-190.21,null,-190.21]
[90,-23.9,-191.51,null,-191.51]
[95,-22.89,-192.26,null,-192.26]
[100,-21.76,-193.15,null,-193.15]
[106,-20.21,-193.86,null,-193.86]
[112,-18.12,-196.21,null,-196.21]
[118,-16.07,-201.24,null,-201.24]
[125,-14.26,-209.18,null,-209.18]
[132,-12.72,-221.28,null,-221.28]
[140,-11.61,-235.51,null,-235.51]
[150,-10.76,-249.11,null,-249.11]
[160,-10.01,-262.48,null,-262.48]
[170,-9.44,-275.76,null,-275.76]
[180,-9.12,-288.36,null,-288.36]
[190,-8.99,-300.82,null,-300.82]
[200,-9.11,-313.38,null,-313.38]
[212,-9.57,-324.72,null,-324.72]
[224,-10.2,-334.35,null,-334.35]
[236,-11,-341.88,null,-341.88]
[250,-11.87,-346.36,null,-346.36]
[265,-12.37,-349.57,null,-349.57]
[280,-12.5,-353.88,null,-353.88]
[300,-12.55,-359.66,null,-359.66]
[315,-12.73,-366.66,null,-366.66]
[335,-13.17,-373.4,null,-373.4]
[355,-13.77,-378.72,null,-378.72]
[375,-14.23,-383.84,null,-383.84]
[400,-14.64,-389.92,null,-389.92]
[425,-15.17,-396.17,null,-396.17]
[450,-15.83,-402.23,null,-402.23]
[475,-16.7,-407.95,null,-407.95]
[500,-17.7,-413.7,null,-413.7]
[530,-18.86,-419.32,null,-419.32]
[560,-20.44,-421.94,null,-421.94]
[600,-22.53,-418.76,null,-418.76]
[630,-24.79,-409.52,null,-409.52]
[670,-25.91,-398.02,null,-398.02]
[710,-25.89,-389.81,null,-389.81]
[750,-25.84,-384.37,null,-384.37]
[800,-25.75,-377.33,null,-377.33]
[850,-25.14,-369.09,null,-369.09]
[900,-23.51,-359.85,null,-359.85]
[950,-21.08,-355.86,null,-355.86]
[1000,-19.73,-363.51,null,-363.51]
[1060,-19.44,-374.62,null,-374.62]
[1120,-19.63,-383.22,null,-383.22]
[1180,-20.34,-386.47,null,-386.47]
[1250,-20.31,-385.67,null,-385.67]
[1320,-19.4,-388.6,null,-388.6]
[1400,-18.68,-399.77,null,-399.77]
[1500,-18.71,-422.12,null,-422.12]
[1600,-19.91,-436.72,null,-436.72]
[1700,-21.65,-426.65,null,-426.65]
[1800,-22.64,-407.23,null,-407.23]
[1900,-22.15,-388.75,null,-388.75]
[2000,-20.78,-380.25,null,-380.25]
[2120,-19.73,-391.14,null,-391.14]
[2240,-18.84,-414.35,null,-414.35]
[2360,-18.63,-440.95,null,-440.95]
[2500,-19.37,-459.53,null,-459.53]
[2650,-20.54,-481.75,null,-481.75]
[2800,-23.81,-505.86,null,-505.86]
[3000,-31.07,-524.1,null,-524.1]
[3150,-31.25,-537.95,null,-537.95]
[3350,-23.71,-550.86,null,-550.86]
[3550,-20.5,-580.84,null,-580.84]
[3750,-19.59,-611.31,null,-611.31]
[4000,-18.45,-654.21,null,-654.21]
[4250,-18.5,-700.74,null,-700.74]
[4500,-19.75,-722.66,null,-722.66]
[4750,-20.23,-737.89,null,-737.89]
[5000,-21.46,-744.08,null,-744.08]
[5300,-21.95,-743.22,null,-743.22]
[5600,-20.47,-743.66,null,-743.66]
[6000,-19.5,-751.55,null,-751.55]
[6300,-19.47,-778.01,null,-778.01]
[6700,-18.76,-833.57,null,-833.57]
[7100,-17.54,-913.98,null,-913.98]
[7500,-17.36,-1001.01,null,-1001.01]
[8000,-17.39,-1075.12,null,-1075.12]
[8500,-17.83,-1115.73,null,-1115.73]
[9000,-18.66,-1135.7,null,-1135.7]
[9500,-19.06,-1134.2,null,-1134.2]
[10000,-19.5,-1118.99,null,-1118.99]
[10600,-20.3,-1113,null,-1113]
[11200,-22.62,-1107.27,null,-1107.27]
[11800,-23.47,-1113.84,null,-1113.84]
[12500,-21.64,-1126.94,null,-1126.94]
[13200,-21.02,-1137.26,null,-1137.26]
[14000,-20.46,-1148.41,null,-1148.41]
[15000,-20.55,-1157.22,null,-1157.22]
[16000,-20.54,-1166.4,null,-1166.4]
[17000,-20.05,-1173.22,null,-1173.22]
[18000,-19.54,-1189.86,null,-1189.86]
[19000,-19.27,-1228.17,null,-1228.17]
[20000,-20.19,-1308.6,null,-1308.6]
[21200,-22.76,-1416.69,null,-1416.69]
[22400,-28.29,-1577.91,null,-1577.91]