{"text_format":"3","workbook":"xlsx","n_sheets":5,"sheets":["Overall","fs-234","K-234","fs-123","K-123"],"read":"whole","date_system":"1900"}

{"sheet":"Overall","index":0,"n_rows":41,"n_cols":19,"rows_kept":41,"merged":[[2,1,2,16],[4,1,4,3],[4,4,4,9],[5,1,5,3],[5,5,5,7],[6,1,6,3],[6,5,6,7],[6,13,6,14],[7,13,7,14],[8,1,8,3],[8,4,8,6],[8,13,8,14],[10,6,11,11],[10,12,11,17],[12,6,12,8],[12,9,12,11],[12,12,12,14],[12,15,12,17],[13,1,13,5],[13,6,13,8],[13,9,13,11],[13,12,13,14],[13,15,13,17],[14,1,14,5],[14,6,14,8],[14,9,14,11],[14,12,14,14],[14,15,14,17],[15,1,15,5],[15,6,15,8],[15,9,15,11],[15,12,15,14],[15,15,15,17],[19,1,19,2],[19,3,20,16],[22,1,22,2],[22,3,23,16],[25,1,25,2],[25,3,26,16],[29,14,29,15],[30,14,30,15],[32,14,32,15]]}
[]
[]
[null,"Klippel QC Gauge Repeatability & Reproducibility Report"]
[]
[null,"Model Name:",null,null,"SO Klippel QC -- Play3 Passive Radiator"]
[null,"Ambient Temperature:",null,null,"     ","℃"]
[null,"Relative Humidity:",{"$nulls":3},"%"]
[]
[null,"Measurement date:",null,null,"2014.04.10"]
[]
[{"$nulls":6},"Analyzed based on data of Trial 1, 2, 3",{"$nulls":5},"Analyzed based on data of Trial 2, 3, 4"]
[]
[{"$nulls":6},"fs",null,null,"Stiffness deviations",null,null,"fs",null,null,"Stiffness deviations"]
[null,"Variation caused by Equipment:",{"$nulls":4},{"$f":"'fs-123'!E31","v":{"v":0.1514020635416667,"d":"15.14%"}},null,null,{"$f":"'K-123'!E31","v":{"v":0.264843305025,"d":"26.48%"}},null,null,{"$f":"'fs-234'!E31","v":{"v":0.05253998625000015,"d":"5.25%"}},null,null,{"$f":"'K-234'!E31","v":{"v":0.11679761296666671,"d":"11.68%"}}]
[null,"Variation caused by Appraiser:",{"$nulls":4},{"$f":"'fs-123'!E32","v":{"v":0.06129509625000065,"d":"6.13%"}},null,null,{"$f":"'K-123'!E32","v":{"v":0.11398560300000024,"d":"11.40%"}},null,null,{"$f":"'fs-234'!E32","v":{"v":0.017161605000000614,"d":"1.72%"}},null,null,{"$f":"'K-234'!E32","v":{"v":0.03008708595000014,"d":"3.01%"}}]
[null,"Overall Gauge RnR Error:",{"$nulls":4},{"$f":"'fs-123'!E33","v":{"v":0.16333913697877714,"d":"16.33%"}},null,null,{"$f":"'K-123'!E33","v":{"v":0.28833087574493105,"d":"28.83%"}},null,null,{"$f":"'fs-234'!E33","v":{"v":0.055271790647004104,"d":"5.53%"}},null,null,{"$f":"'K-234'!E33","v":{"v":0.12061059296626464,"d":"12.06%"}}]
[]
[]
[]
[null,"Repeatability:",null,"Repeatability is the variation in measurements obtained with one measurement instrument when used several times by an appraiser while measuring the identical characteristic on the same part."]
[]
[]
[null,"Reproducibility:",null,"Reproducibility is the variation in the average of the measurements made by different appraisers using the same measuring instrument when measuring the identical characteristic on the same part."]
[]
[]
[null,"Stability:",null,"Stability is the total variation in the measurements obtained with a measurement system on the same master or parts when measuring a single characteristic over an extended time period."]
{"$rows_empty":14}
[{"$nulls":18},"."]

{"sheet":"fs-234","index":1,"n_rows":45,"n_cols":18,"rows_kept":45,"merged":[[2,1,2,16],[4,1,4,3],[4,4,4,8],[5,1,5,3],[5,5,5,7],[6,1,6,3],[6,5,6,7],[6,13,6,14],[7,13,7,14],[8,1,8,3],[8,4,8,6],[8,13,8,14],[10,2,10,6],[10,7,10,11],[10,12,10,16],[11,2,12,2],[11,3,12,3],[11,4,12,5],[11,6,12,6],[11,7,12,8],[11,9,12,9],[11,10,12,10],[11,11,12,11],[11,12,12,13],[11,14,12,14],[11,15,12,15],[11,16,12,16],[23,4,23,5],[23,7,23,8],[23,12,23,13],[25,4,25,5],[25,7,25,8],[25,12,25,13],[26,7,26,8],[26,12,26,13],[29,7,29,9],[29,12,29,14],[30,4,30,5],[31,4,31,5],[32,4,32,5],[35,1,35,2],[35,3,36,16],[38,1,38,2],[38,3,39,16],[41,1,41,2],[41,3,42,16]]}
[]
[]
[null,"Klippel QC Gauge Repeatability & Reproducibility Report"]
[]
[null,"Model Name:",null,null,"SO Klippel QC -- Play3 PR fs"]
[null,"Ambient Temperature:",null,null,"     ","℃"]
[null,"Relative Humidity:",{"$nulls":3},"%",{"$nulls":7},"SPEC (Hz):",null,0]
[{"$nulls":13},"Tolerance (%):"]
[null,"Measurement date:",null,null,"2014.04.10",{"$nulls":8},"Tolerance (mm):",null,4,-4]
[]
[null,"Operators","A",{"$nulls":4},"B",{"$nulls":4},"C"]
[null,"Trails",1,2,3,null,"Range",1,null,2,3,"Range",1,null,2,3,"Range"]
[null,"Sample"]
[null,1,{"v":37.199135,"d":"37.20"},{"v":37.027676,"d":"37.03"},{"v":37.027676,"d":"37.03"},null,{"$f":"MAX(C14:F14)-MIN(C14:F14)","v":{"v":0.1714589999999987,"d":"0.17"}},null,{"v":37.113308,"d":"37.11"},{"v":37.027676,"d":"37.03"},{"v":37.027676,"d":"37.03"},{"$f":"MAX(H14:K14)-MIN(H14:K14)","v":{"v":0.08563200000000393,"d":"0.09"}},null,{"v":37.113308,"d":"37.11"},{"v":37.113308,"d":"37.11"},{"v":37.027676,"d":"37.03"},{"$f":"MAX(M14:P14)-MIN(M14:P14)","v":{"v":0.08563200000000393,"d":"0.09"}}]
[null,2,{"v":37.113308,"d":"37.11"},{"v":37.027676,"d":"37.03"},{"v":36.942242,"d":"36.94"},null,{"$f":"MAX(C15:F15)-MIN(C15:F15)","v":{"v":0.17106600000000327,"d":"0.17"}},null,{"v":37.027676,"d":"37.03"},{"v":36.942242,"d":"36.94"},{"v":36.942242,"d":"36.94"},{"$f":"MAX(H15:K15)-MIN(H15:K15)","v":{"v":0.08543399999999934,"d":"0.09"}},null,{"v":37.027676,"d":"37.03"},{"v":36.942242,"d":"36.94"},{"v":37.027676,"d":"37.03"},{"$f":"MAX(M15:P15)-MIN(M15:P15)","v":{"v":0.08543399999999934,"d":"0.09"}}]
[null,3,{"v":35.932297,"d":"35.93"},{"v":35.684155,"d":"35.68"},{"v":35.519676,"d":"35.52"},null,{"$f":"MAX(C16:F16)-MIN(C16:F16)","v":{"v":0.41262100000000146,"d":"0.41"}},null,{"v":35.766678,"d":"35.77"},{"v":35.355961,"d":"35.36"},{"v":35.601818,"d":"35.60"},{"$f":"MAX(H16:K16)-MIN(H16:K16)","v":{"v":0.4107169999999982,"d":"0.41"}},null,{"v":35.684155,"d":"35.68"},{"v":35.437725,"d":"35.44"},{"v":35.601818,"d":"35.60"},{"$f":"MAX(M16:P16)-MIN(M16:P16)","v":{"v":0.2464299999999966,"d":"0.25"}}]
[null,4,{"v":36.942242,"d":"36.94"},{"v":36.857006,"d":"36.86"},{"v":36.771969,"d":"36.77"},null,{"v":0.17027300000000167,"d":"0.17"},null,{"v":36.857006,"d":"36.86"},{"v":36.771969,"d":"36.77"},{"v":36.771969,"d":"36.77"},{"v":0.08503699999999981,"d":"0.09"},null,{"v":36.857006,"d":"36.86"},{"v":36.771969,"d":"36.77"},{"v":36.857006,"d":"36.86"},{"v":0.08503699999999981,"d":"0.09"}]
[null,5,{"v":36.265839,"d":"36.27"},{"v":36.265839,"d":"36.27"},{"v":36.098682,"d":"36.10"},null,{"v":0.1671570000000031,"d":"0.17"},null,{"v":36.265839,"d":"36.27"},{"v":36.182163,"d":"36.18"},{"v":36.182163,"d":"36.18"},{"v":0.08367599999999698,"d":"0.08"},null,{"v":36.265839,"d":"36.27"},{"v":36.182163,"d":"36.18"},{"v":36.265839,"d":"36.27"},{"v":0.08367599999999698,"d":"0.08"}]
[null,6,{"v":37.631264,"d":"37.63"},{"v":37.457813,"d":"37.46"},{"v":37.371387,"d":"37.37"},null,{"v":0.259877000000003,"d":"0.26"},null,{"v":37.457813,"d":"37.46"},{"v":37.371387,"d":"37.37"},{"v":37.371387,"d":"37.37"},{"v":0.086426000000003,"d":"0.09"},null,{"v":37.457813,"d":"37.46"},{"v":37.371387,"d":"37.37"},{"v":37.371387,"d":"37.37"},{"v":0.086426000000003,"d":"0.09"}]
[null,7,{"v":36.857006,"d":"36.86"},{"v":36.687126,"d":"36.69"},{"v":36.687126,"d":"36.69"},null,{"v":0.16987999999999914,"d":"0.17"},null,{"v":36.771969,"d":"36.77"},{"v":36.687126,"d":"36.69"},{"v":36.687126,"d":"36.69"},{"v":0.08484299999999934,"d":"0.08"},null,{"v":36.771969,"d":"36.77"},{"v":36.687126,"d":"36.69"},{"v":36.687126,"d":"36.69"},{"v":0.08484299999999934,"d":"0.08"}]
[null,8,{"v":37.027676,"d":"37.03"},{"v":36.942242,"d":"36.94"},{"v":36.942242,"d":"36.94"},null,{"v":0.08543399999999934,"d":"0.09"},null,{"v":36.942242,"d":"36.94"},{"v":36.942242,"d":"36.94"},{"v":36.857006,"d":"36.86"},{"v":0.08523600000000187,"d":"0.09"},null,{"v":36.942242,"d":"36.94"},{"v":36.857006,"d":"36.86"},{"v":36.857006,"d":"36.86"},{"v":0.08523600000000187,"d":"0.09"}]
[null,9,{"v":37.027676,"d":"37.03"},{"v":36.942242,"d":"36.94"},{"v":36.857006,"d":"36.86"},null,{"v":0.1706700000000012,"d":"0.17"},null,{"v":36.942242,"d":"36.94"},{"v":36.857006,"d":"36.86"},{"v":36.857006,"d":"36.86"},{"v":0.08523600000000187,"d":"0.09"},null,{"v":36.942242,"d":"36.94"},{"v":36.857006,"d":"36.86"},{"v":36.857006,"d":"36.86"},{"v":0.08523600000000187,"d":"0.09"}]
[null,10,{"v":36.433769,"d":"36.43"},{"v":36.265839,"d":"36.27"},{"v":36.265839,"d":"36.27"},null,{"v":0.16792999999999836,"d":"0.17"},null,{"v":36.349709,"d":"36.35"},{"v":36.265839,"d":"36.27"},{"v":36.349709,"d":"36.35"},{"v":0.08386999999999745,"d":"0.08"},null,{"v":36.349709,"d":"36.35"},{"v":36.265839,"d":"36.27"},{"v":36.265839,"d":"36.27"},{"v":0.08386999999999745,"d":"0.08"}]
[null,"Totals: ",{"$f":"SUM(C14:C23)","v":{"v":368.430212,"d":"368.43"}},{"$f":"SUM(D14:D23)","v":{"v":367.1576140000001,"d":"367.16"}},{"$f":"SUM(E14:F23)","v":{"v":366.4838450000001,"d":"366.48"}},null,{"$f":"SUM(G14:G23)","v":{"v":1.9463670000000093,"d":"1.95"}},{"$f":"SUM(H14:I23)","v":{"v":367.49448200000006,"d":"367.49"}},null,{"$f":"SUM(J14:J23)","v":{"v":366.40361100000007,"d":"366.40"}},{"$f":"SUM(K14:K23)","v":{"v":366.64810200000005,"d":"366.65"}},{"$f":"SUM(L14:L23)","v":{"v":1.1761070000000018,"d":"1.18"}},{"$f":"SUM(M14:N23)","v":{"v":367.4119590000001,"d":"367.41"}},null,{"$f":"SUM(O14:O23)","v":{"v":366.485771,"d":"366.49"}},{"$f":"SUM(P14:P23)","v":{"v":366.81837900000005,"d":"366.82"}},{"$f":"SUM(Q14:Q23)","v":{"v":1.0118200000000002,"d":"1.01"}}]
[]
[null,null,"Sum",{"$f":"SUM(C24:F24)","v":{"v":1102.0716710000002,"d":"1102.07"}},"Ave Ra",null,{"$f":"AVERAGE(G14:G23)","v":{"v":0.19463670000000094,"d":"0.19"}},"Sum",null,{"$f":"SUM(H24:K24)","v":{"v":1100.5461950000001,"d":"1100.55"}},"Ave Rb",{"$f":"AVERAGE(L14:L23)","v":{"v":0.11761070000000018,"d":"0.12"}},"Sum",null,{"$f":"SUM(M24:P24)","v":{"v":1100.7161090000002,"d":"1100.72"}},"Ave Rc",{"$f":"AVERAGE(Q14:Q23)","v":{"v":0.10118200000000002,"d":"0.10"}}]
[null,null,"X Average",{"$f":"D26/(3*MAX(B14:B23))","v":{"v":36.73572236666667,"d":"36.74"}},{"$nulls":3},"X Average",null,{"$f":"J26/(3*MAX(B14:B23))","v":{"v":36.68487316666667,"d":"36.68"}},null,null,"X Average",null,{"$f":"O26/(3*(MAX(B14:B23)))","v":{"v":36.69053696666667,"d":"36.69"}}]
[]
[null,null,"Average R: ",{"$f":"AVERAGE(G26,L26,Q26)","v":{"v":0.1378098000000004,"d":"0.14"}},null,"D4=",2.58]
[null,null,"UCL:",{"$f":"D29*G29","v":{"v":0.355549284000001,"d":"0.36"}},null,"K1=",3.05,"for 3 trials.",null,null,"K2=",2.7,"for 3 appraisers."]
[null,null,"Repeatability:",{"$f":"3.05*D29","v":{"v":0.4203198900000012,"d":"0.42"}},{"$f":"D31/($P$9+ABS($Q$9))","v":{"v":0.05253998625000015,"d":"5.3%"}},null,"Variation caused by Equipment"]
[null,null,"Reproducibility:",{"$f":"L30*(MAX(D27,J27,O27)-MIN(D27,J27,O27))","v":{"v":0.1372928400000049,"d":"0.14"}},{"$f":"D32/($P$9+ABS($Q$9))","v":{"v":0.017161605000000614,"d":"1.7%"}},null,"Variation caused by Operator"]
[null,null,"Gauge Capability:",{"$f":"SQRT(D31^2+D32^2)","v":{"v":0.44217432517603283,"d":"0.44"}},{"v":0.055271790647004104,"d":"5.5%"},null,"Overall Gauge RnR Capability"]
[]
[]
[null,"Repeatability:",null,"Repeatability is the variation in measurements obtained with one measurement instrument when used several times by an appraiser while measuring the identical characteristic on the same part."]
[]
[]
[null,"Reproducibility:",null,"Reproducibility is the variation in the average of the measurements made by different appraisers using the same measuring instrument when measuring the identical characteristic on the same part."]
[]
[]
[null,"Stability:",null,"Stability is the total variation in the measurements obtained with a measurement system on the same master or parts when measuring a single characteristic over an extended time period."]
[]
[]
[{"$nulls":17},"."]

{"sheet":"K-234","index":2,"n_rows":45,"n_cols":18,"rows_kept":45,"merged":[[2,1,2,16],[4,1,4,3],[4,4,4,10],[5,1,5,3],[5,5,5,7],[6,1,6,3],[6,5,6,7],[6,13,6,14],[7,13,7,14],[8,1,8,3],[8,4,8,6],[8,13,8,14],[10,2,10,6],[10,7,10,11],[10,12,10,16],[11,2,12,2],[11,3,12,3],[11,4,12,5],[11,6,12,6],[11,7,12,8],[11,9,12,9],[11,10,12,10],[11,11,12,11],[11,12,12,13],[11,14,12,14],[11,15,12,15],[11,16,12,16],[23,4,23,5],[23,7,23,8],[23,12,23,13],[25,4,25,5],[25,7,25,8],[25,12,25,13],[26,7,26,8],[26,12,26,13],[29,7,29,9],[29,12,29,14],[30,4,30,5],[31,4,31,5],[32,4,32,5],[35,1,35,2],[35,3,36,16],[38,1,38,2],[38,3,39,16],[41,1,41,2],[41,3,42,16]]}
[]
[]
[null,"Klippel QC Gauge Repeatability & Reproducibility Report"]
[]
[null,"Model Name:",null,null,"SO Klippel QC -- Play3 PR Stillness deviations"]
[null,"Ambient Temperature:",null,null,"     ","℃"]
[null,"Relative Humidity:",{"$nulls":3},"%",{"$nulls":7},"SPEC (Hz):",null,0]
[{"$nulls":13},"Tolerance (%):"]
[null,"Measurement date:",null,null,"2014.04.10",{"$nulls":8},"Tolerance (mm):",null,10,-10]
[]
[null,"Operators","A",{"$nulls":4},"B",{"$nulls":4},"C"]
[null,"Trails",1,2,3,null,"Range",1,null,2,3,"Range",1,null,2,3,"Range"]
[null,"Sample"]
[null,1,{"v":-10.533382,"d":"-10.53"},{"v":-11.205781,"d":"-11.21"},{"v":-11.354653,"d":"-11.35"},null,{"$f":"MAX(C14:F14)-MIN(C14:F14)","v":{"v":0.8212710000000012,"d":"0.82"}},null,{"v":-10.633604,"d":"-10.63"},{"v":-11.246927,"d":"-11.25"},{"v":-11.256108,"d":"-11.26"},{"$f":"MAX(H14:K14)-MIN(H14:K14)","v":{"v":0.6225039999999993,"d":"0.62"}},null,{"v":-11.157997,"d":"-11.16"},{"v":-10.81116,"d":"-10.81"},{"v":-11.304944,"d":"-11.30"},{"$f":"MAX(M14:P14)-MIN(M14:P14)","v":{"v":0.49378400000000156,"d":"0.49"}}]
[null,2,{"v":-10.427366,"d":"-10.43"},{"v":-10.64469,"d":"-10.64"},{"v":-11.2366,"d":"-11.24"},null,{"$f":"MAX(C15:F15)-MIN(C15:F15)","v":{"v":0.809234,"d":"0.81"}},null,{"v":-10.545573,"d":"-10.55"},{"v":-11.449513,"d":"-11.45"},{"v":-11.299945,"d":"-11.30"},{"$f":"MAX(H15:K15)-MIN(H15:K15)","v":{"v":0.9039400000000004,"d":"0.90"}},null,{"v":-10.556018,"d":"-10.56"},{"v":-10.999594,"d":"-11.00"},{"v":-10.227353,"d":"-10.23"},{"$f":"MAX(M15:P15)-MIN(M15:P15)","v":{"v":0.7722409999999993,"d":"0.77"}}]
[null,3,{"v":-15.947702,"d":"-15.95"},{"v":-17.455982,"d":"-17.46"},{"v":-18.346202,"d":"-18.35"},null,{"$f":"MAX(C16:F16)-MIN(C16:F16)","v":{"v":2.398500000000002,"d":"2.40"}},null,{"v":-17.275337,"d":"-17.28"},{"v":-18.643527,"d":"-18.64"},{"v":-17.926276,"d":"-17.93"},{"$f":"MAX(H16:K16)-MIN(H16:K16)","v":{"v":1.3681899999999985,"d":"1.37"}},null,{"v":-18.50066,"d":"-18.50"},{"v":-18.839034,"d":"-18.84"},{"v":-18.538243,"d":"-18.54"},{"$f":"MAX(M16:P16)-MIN(M16:P16)","v":{"v":0.33837400000000173,"d":"0.34"}}]
[null,4,{"v":-9.989284,"d":"-9.99"},{"v":-10.516713,"d":"-10.52"},{"v":-10.791821,"d":"-10.79"},null,{"v":0.8025370000000009,"d":"0.80"},null,{"v":-11.062057,"d":"-11.06"},{"v":-11.605835,"d":"-11.61"},{"v":-11.415681,"d":"-11.42"},{"v":0.5437780000000014,"d":"0.54"},null,{"v":-10.865265,"d":"-10.87"},{"v":-11.954665,"d":"-11.95"},{"v":-11.165104,"d":"-11.17"},{"v":1.0893999999999995,"d":"1.09"}]
[null,5,{"v":-14.556147,"d":"-14.56"},{"v":-14.305547,"d":"-14.31"},{"v":-15.592375,"d":"-15.59"},null,{"v":1.2868279999999999,"d":"1.29"},null,{"v":-14.320801,"d":"-14.32"},{"v":-14.080181,"d":"-14.08"},{"v":-13.958827,"d":"-13.96"},{"v":0.361974,"d":"0.36"},null,{"v":-14.138638,"d":"-14.14"},{"v":-14.127006,"d":"-14.13"},{"v":-14.815219,"d":"-14.82"},{"v":0.6882130000000011,"d":"0.69"}]
[null,6,{"v":-8.6428327,"d":"-8.64"},{"v":-9.0924486,"d":"-9.09"},{"v":-9.61206,"d":"-9.61"},null,{"v":0.9692273,"d":"0.97"},null,{"v":-9.6383182,"d":"-9.64"},{"v":-9.7868958,"d":"-9.79"},{"v":-9.3888456,"d":"-9.39"},{"v":0.39805020000000013,"d":"0.40"},null,{"v":-9.2131017,"d":"-9.21"},{"v":-10.147596,"d":"-10.15"},{"v":-9.7594396,"d":"-9.76"},{"v":0.9344943000000008,"d":"0.93"}]
[null,7,{"v":-11.777096,"d":"-11.78"},{"v":-12.505395,"d":"-12.51"},{"v":-12.078752,"d":"-12.08"},null,{"v":0.7282989999999998,"d":"0.73"},null,{"v":-12.13064,"d":"-12.13"},{"v":-12.568417,"d":"-12.57"},{"v":-12.681544,"d":"-12.68"},{"v":0.550904000000001,"d":"0.55"},null,{"v":-11.629092,"d":"-11.63"},{"v":-12.280146,"d":"-12.28"},{"v":-11.829195,"d":"-11.83"},{"v":0.6510540000000002,"d":"0.65"}]
[null,8,{"v":-9.6502622,"d":"-9.65"},{"v":-10.022719,"d":"-10.02"},{"v":-10.344199,"d":"-10.34"},null,{"v":0.6939367999999995,"d":"0.69"},null,{"v":-11.066844,"d":"-11.07"},{"v":-11.09978,"d":"-11.10"},{"v":-10.919056,"d":"-10.92"},{"v":0.18072400000000144,"d":"0.18"},null,{"v":-10.433139,"d":"-10.43"},{"v":-10.693529,"d":"-10.69"},{"v":-10.780762,"d":"-10.78"},{"v":0.3476229999999987,"d":"0.35"}]
[null,9,{"v":-11.517475,"d":"-11.52"},{"v":-12.102627,"d":"-12.10"},{"v":-11.785601,"d":"-11.79"},null,{"v":0.5851520000000008,"d":"0.59"},null,{"v":-11.881972,"d":"-11.88"},{"v":-11.510131,"d":"-11.51"},{"v":-11.872506,"d":"-11.87"},{"v":0.37184099999999987,"d":"0.37"},null,{"v":-10.955397,"d":"-10.96"},{"v":-11.943937,"d":"-11.94"},{"v":-11.796764,"d":"-11.80"},{"v":0.9885400000000004,"d":"0.99"}]
[null,10,{"v":-14.492214,"d":"-14.49"},{"v":-15.429425,"d":"-15.43"},{"v":-15.33588,"d":"-15.34"},null,{"v":0.9372109999999996,"d":"0.94"},null,{"v":-14.400379,"d":"-14.40"},{"v":-14.371245,"d":"-14.37"},{"v":-13.942485,"d":"-13.94"},{"v":0.4578939999999996,"d":"0.46"},null,{"v":-13.951492,"d":"-13.95"},{"v":-14.800747,"d":"-14.80"},{"v":-14.832353,"d":"-14.83"},{"v":0.8808609999999994,"d":"0.88"}]
[null,"Totals: ",{"$f":"SUM(C14:C23)","v":{"v":-117.5337609,"d":"-117.53"}},{"$f":"SUM(D14:D23)","v":{"v":-123.2813276,"d":"-123.28"}},{"$f":"SUM(E14:F23)","v":{"v":-126.478143,"d":"-126.48"}},null,{"$f":"SUM(G14:G23)","v":{"v":10.032196100000004,"d":"10.03"}},{"$f":"SUM(H14:I23)","v":{"v":-122.95552520000001,"d":"-122.96"}},null,{"$f":"SUM(J14:J23)","v":{"v":-126.36245179999999,"d":"-126.36"}},{"$f":"SUM(K14:K23)","v":{"v":-124.6612736,"d":"-124.66"}},{"$f":"SUM(L14:L23)","v":{"v":5.759799200000002,"d":"5.76"}},{"$f":"SUM(M14:N23)","v":{"v":-121.40079970000001,"d":"-121.40"}},null,{"$f":"SUM(O14:O23)","v":{"v":-126.597414,"d":"-126.60"}},{"$f":"SUM(P14:P23)","v":{"v":-125.04937659999999,"d":"-125.05"}},{"$f":"SUM(Q14:Q23)","v":{"v":7.184584300000003,"d":"7.18"}}]
[]
[null,null,"Sum",{"$f":"SUM(C24:F24)","v":{"v":-367.2932315,"d":"-367.29"}},"Ave Ra",null,{"$f":"AVERAGE(G14:G23)","v":{"v":1.0032196100000004,"d":"1.00"}},"Sum",null,{"$f":"SUM(H24:K24)","v":{"v":-373.9792506,"d":"-373.98"}},"Ave Rb",{"$f":"AVERAGE(L14:L23)","v":{"v":0.5759799200000002,"d":"0.58"}},"Sum",null,{"$f":"SUM(M24:P24)","v":{"v":-373.0475903,"d":"-373.05"}},"Ave Rc",{"$f":"AVERAGE(Q14:Q23)","v":{"v":0.7184584300000003,"d":"0.72"}}]
[null,null,"X Average",{"$f":"D26/(3*MAX(B14:B23))","v":{"v":-12.243107716666666,"d":"-12.24"}},{"$nulls":3},"X Average",null,{"$f":"J26/(3*MAX(B14:B23))","v":{"v":-12.46597502,"d":"-12.47"}},null,null,"X Average",null,{"$f":"O26/(3*(MAX(B14:B23)))","v":{"v":-12.434919676666668,"d":"-12.43"}}]
[]
[null,null,"Average R: ",{"$f":"AVERAGE(G26,L26,Q26)","v":{"v":0.765885986666667,"d":"0.77"}},null,"D4=",2.58]
[null,null,"UCL:",{"$f":"D29*G29","v":{"v":1.9759858456000008,"d":"1.98"}},null,"K1=",3.05,"for 3 trials.",null,null,"K2=",2.7,"for 3 appraisers."]
[null,null,"Repeatability:",{"$f":"3.05*D29","v":{"v":2.335952259333334,"d":"2.34"}},{"$f":"D31/($P$9+ABS($Q$9))","v":{"v":0.11679761296666671,"d":"11.7%"}},null,"Variation caused by Equipment"]
[null,null,"Reproducibility:",{"$f":"L30*(MAX(D27,J27,O27)-MIN(D27,J27,O27))","v":{"v":0.6017417190000028,"d":"0.60"}},{"$f":"D32/($P$9+ABS($Q$9))","v":{"v":0.03008708595000014,"d":"3.0%"}},null,"Variation caused by Operator"]
[null,null,"Gauge Capability:",{"$f":"SQRT(D31^2+D32^2)","v":{"v":2.412211859325293,"d":"2.41"}},{"v":0.12061059296626464,"d":"12.1%"},null,"Overall Gauge RnR Capability"]
[]
[]
[null,"Repeatability:",null,"Repeatability is the variation in measurements obtained with one measurement instrument when used several times by an appraiser while measuring the identical characteristic on the same part."]
[]
[]
[null,"Reproducibility:",null,"Reproducibility is the variation in the average of the measurements made by different appraisers using the same measuring instrument when measuring the identical characteristic on the same part."]
[]
[]
[null,"Stability:",null,"Stability is the total variation in the measurements obtained with a measurement system on the same master or parts when measuring a single characteristic over an extended time period."]
[]
[]
[{"$nulls":17},"."]

{"sheet":"fs-123","index":3,"n_rows":45,"n_cols":18,"rows_kept":45,"merged":[[2,1,2,16],[4,1,4,3],[4,4,4,8],[5,1,5,3],[5,5,5,7],[6,1,6,3],[6,5,6,7],[6,13,6,14],[7,13,7,14],[8,1,8,3],[8,4,8,6],[8,13,8,14],[10,2,10,6],[10,7,10,11],[10,12,10,16],[11,2,12,2],[11,3,12,3],[11,4,12,5],[11,6,12,6],[11,7,12,8],[11,9,12,9],[11,10,12,10],[11,11,12,11],[11,12,12,13],[11,14,12,14],[11,15,12,15],[11,16,12,16],[23,4,23,5],[23,7,23,8],[23,12,23,13],[25,4,25,5],[25,7,25,8],[25,12,25,13],[26,7,26,8],[26,12,26,13],[29,7,29,9],[29,12,29,14],[30,4,30,5],[31,4,31,5],[32,4,32,5],[35,1,35,2],[35,3,36,16],[38,1,38,2],[38,3,39,16],[41,1,41,2],[41,3,42,16]]}
[]
[]
[null,"Klippel QC Gauge Repeatability & Reproducibility Report"]
[]
[null,"Model Name:",null,null,"SO Klippel QC -- Play3 PR fs"]
[null,"Ambient Temperature:",null,null,"     ","℃"]
[null,"Relative Humidity:",{"$nulls":3},"%",{"$nulls":7},"SPEC (Hz):",null,0]
[{"$nulls":13},"Tolerance (%):"]
[null,"Measurement date:",null,null,"2014.04.10",{"$nulls":8},"Tolerance (mm):",null,4,-4]
[]
[null,"Operators","A",{"$nulls":4},"B",{"$nulls":4},"C"]
[null,"Trails",1,2,3,null,"Range",1,null,2,3,"Range",1,null,2,3,"Range"]
[null,"Sample"]
[null,1,{"v":37.631264,"d":"37.63"},{"v":37.199135,"d":"37.20"},{"v":37.027676,"d":"37.03"},null,{"$f":"MAX(C14:F14)-MIN(C14:F14)","v":{"v":0.603588000000002,"d":"0.60"}},{"v":37.371387,"d":"37.37"},null,{"v":37.113308,"d":"37.11"},{"v":37.027676,"d":"37.03"},{"$f":"MAX(H14:K14)-MIN(H14:K14)","v":{"v":0.343710999999999,"d":"0.34"}},{"v":37.28516,"d":"37.29"},null,{"v":37.113308,"d":"37.11"},{"v":37.113308,"d":"37.11"},{"$f":"MAX(M14:P14)-MIN(M14:P14)","v":{"v":0.17185199999999412,"d":"0.17"}}]
[null,2,{"v":37.544437,"d":"37.54"},{"v":37.113308,"d":"37.11"},{"v":37.027676,"d":"37.03"},null,{"$f":"MAX(C15:F15)-MIN(C15:F15)","v":{"v":0.5167610000000025,"d":"0.52"}},{"v":37.371387,"d":"37.37"},null,{"v":37.027676,"d":"37.03"},{"v":36.942242,"d":"36.94"},{"$f":"MAX(H15:K15)-MIN(H15:K15)","v":{"v":0.42914499999999833,"d":"0.43"}},{"v":37.113308,"d":"37.11"},null,{"v":37.027676,"d":"37.03"},{"v":36.942242,"d":"36.94"},{"$f":"MAX(M15:P15)-MIN(M15:P15)","v":{"v":0.17106600000000327,"d":"0.17"}}]
[null,3,{"v":36.518028,"d":"36.52"},{"v":35.932297,"d":"35.93"},{"v":35.684155,"d":"35.68"},null,{"$f":"MAX(C16:F16)-MIN(C16:F16)","v":{"v":0.8338730000000041,"d":"0.83"}},{"v":36.349709,"d":"36.35"},null,{"v":35.766678,"d":"35.77"},{"v":35.355961,"d":"35.36"},{"$f":"MAX(H16:K16)-MIN(H16:K16)","v":{"v":0.9937479999999965,"d":"0.99"}},{"v":35.766678,"d":"35.77"},null,{"v":35.684155,"d":"35.68"},{"v":35.437725,"d":"35.44"},{"$f":"MAX(M16:P16)-MIN(M16:P16)","v":{"v":0.3289529999999985,"d":"0.33"}}]
[null,4,{"v":37.28516,"d":"37.29"},{"v":36.942242,"d":"36.94"},{"v":36.857006,"d":"36.86"},null,{"v":0.42815399999999926,"d":"0.43"},{"v":37.113308,"d":"37.11"},null,{"v":36.857006,"d":"36.86"},{"v":36.771969,"d":"36.77"},{"v":0.34133900000000494,"d":"0.34"},{"v":36.942242,"d":"36.94"},null,{"v":36.857006,"d":"36.86"},{"v":36.771969,"d":"36.77"},{"v":0.17027300000000167,"d":"0.17"}]
[null,5,{"v":36.771969,"d":"36.77"},{"v":36.265839,"d":"36.27"},{"v":36.265839,"d":"36.27"},null,{"v":0.5061299999999989,"d":"0.51"},{"v":36.518028,"d":"36.52"},null,{"v":36.265839,"d":"36.27"},{"v":36.182163,"d":"36.18"},{"v":0.3358649999999983,"d":"0.34"},{"v":36.433769,"d":"36.43"},null,{"v":36.265839,"d":"36.27"},{"v":36.182163,"d":"36.18"},{"v":0.25160599999999533,"d":"0.25"}]
[null,6,{"v":38.157288,"d":"38.16"},{"v":37.631264,"d":"37.63"},{"v":37.457813,"d":"37.46"},null,{"v":0.6994749999999996,"d":"0.70"},{"v":37.892944,"d":"37.89"},null,{"v":37.457813,"d":"37.46"},{"v":37.371387,"d":"37.37"},{"v":0.5215570000000014,"d":"0.52"},{"v":37.805515,"d":"37.81"},null,{"v":37.457813,"d":"37.46"},{"v":37.371387,"d":"37.37"},{"v":0.4341280000000012,"d":"0.43"}]
[null,7,{"v":37.199135,"d":"37.20"},{"v":36.857006,"d":"36.86"},{"v":36.687126,"d":"36.69"},null,{"v":0.512008999999999,"d":"0.51"},{"v":37.027676,"d":"37.03"},null,{"v":36.771969,"d":"36.77"},{"v":36.687126,"d":"36.69"},{"v":0.34055000000000035,"d":"0.34"},{"v":36.942242,"d":"36.94"},null,{"v":36.771969,"d":"36.77"},{"v":36.687126,"d":"36.69"},{"v":0.255116000000001,"d":"0.26"}]
[null,8,{"v":37.371387,"d":"37.37"},{"v":37.027676,"d":"37.03"},{"v":36.942242,"d":"36.94"},null,{"v":0.42914499999999833,"d":"0.43"},{"v":37.113308,"d":"37.11"},null,{"v":36.942242,"d":"36.94"},{"v":36.942242,"d":"36.94"},{"v":0.17106600000000327,"d":"0.17"},{"v":37.027676,"d":"37.03"},null,{"v":36.942242,"d":"36.94"},{"v":36.857006,"d":"36.86"},{"v":0.1706700000000012,"d":"0.17"}]
[null,9,{"v":37.371387,"d":"37.37"},{"v":37.027676,"d":"37.03"},{"v":36.942242,"d":"36.94"},null,{"v":0.42914499999999833,"d":"0.43"},{"v":37.199135,"d":"37.20"},null,{"v":36.942242,"d":"36.94"},{"v":36.857006,"d":"36.86"},{"v":0.3421289999999999,"d":"0.34"},{"v":37.113308,"d":"37.11"},null,{"v":36.942242,"d":"36.94"},{"v":36.857006,"d":"36.86"},{"v":0.25630200000000514,"d":"0.26"}]
[null,10,{"v":36.771969,"d":"36.77"},{"v":36.433769,"d":"36.43"},{"v":36.265839,"d":"36.27"},null,{"v":0.5061299999999989,"d":"0.51"},{"v":36.518028,"d":"36.52"},null,{"v":36.349709,"d":"36.35"},{"v":36.265839,"d":"36.27"},{"v":0.25218900000000133,"d":"0.25"},{"v":36.433769,"d":"36.43"},null,{"v":36.349709,"d":"36.35"},{"v":36.265839,"d":"36.27"},{"v":0.16792999999999836,"d":"0.17"}]
[null,"Totals: ",{"$f":"SUM(C14:C23)","v":{"v":372.622024,"d":"372.62"}},{"$f":"SUM(D14:D23)","v":{"v":368.430212,"d":"368.43"}},{"$f":"SUM(E14:F23)","v":{"v":367.1576140000001,"d":"367.16"}},null,{"$f":"SUM(G14:G23)","v":{"v":5.464410000000001,"d":"5.46"}},{"$f":"SUM(H14:I23)","v":{"v":370.47491,"d":"370.47"}},null,{"$f":"SUM(J14:J23)","v":{"v":367.49448200000006,"d":"367.49"}},{"$f":"SUM(K14:K23)","v":{"v":366.40361100000007,"d":"366.40"}},{"$f":"SUM(L14:L23)","v":{"v":4.071299000000003,"d":"4.07"}},{"$f":"SUM(M14:N23)","v":{"v":368.863667,"d":"368.86"}},null,{"$f":"SUM(O14:O23)","v":{"v":367.4119590000001,"d":"367.41"}},{"$f":"SUM(P14:P23)","v":{"v":366.485771,"d":"366.49"}},{"$f":"SUM(Q14:Q23)","v":{"v":2.377896,"d":"2.38"}}]
[]
[null,null,"Sum",{"$f":"SUM(C24:F24)","v":{"v":1108.2098500000002,"d":"1108.21"}},"Ave Ra",null,{"$f":"AVERAGE(G14:G23)","v":{"v":0.5464410000000001,"d":"0.55"}},"Sum",null,{"$f":"SUM(H24:K24)","v":{"v":1104.3730030000002,"d":"1104.37"}},"Ave Rb",{"$f":"AVERAGE(L14:L23)","v":{"v":0.4071299000000003,"d":"0.41"}},"Sum",null,{"$f":"SUM(M24:P24)","v":{"v":1102.7613970000002,"d":"1102.76"}},"Ave Rc",{"$f":"AVERAGE(Q14:Q23)","v":{"v":0.2377896,"d":"0.24"}}]
[null,null,"X Average",{"$f":"D26/(3*MAX(B14:B23))","v":{"v":36.94032833333334,"d":"36.94"}},{"$nulls":3},"X Average",null,{"$f":"J26/(3*MAX(B14:B23))","v":{"v":36.81243343333334,"d":"36.81"}},null,null,"X Average",null,{"$f":"O26/(3*(MAX(B14:B23)))","v":{"v":36.75871323333334,"d":"36.76"}}]
[]
[null,null,"Average R: ",{"$f":"AVERAGE(G26,L26,Q26)","v":{"v":0.3971201666666668,"d":"0.40"}},null,"D4=",2.58]
[null,null,"UCL:",{"$f":"D29*G29","v":{"v":1.0245700300000002,"d":"1.02"}},null,"K1=",3.05,"for 3 trials.",null,null,"K2=",2.7,"for 3 appraisers."]
[null,null,"Repeatability:",{"$f":"3.05*D29","v":{"v":1.2112165083333335,"d":"1.21"}},{"$f":"D31/($P$9+ABS($Q$9))","v":{"v":0.1514020635416667,"d":"15.1%"}},null,"Variation caused by Equipment"]
[null,null,"Reproducibility:",{"$f":"L30*(MAX(D27,J27,O27)-MIN(D27,J27,O27))","v":{"v":0.4903607700000052,"d":"0.49"}},{"$f":"D32/($P$9+ABS($Q$9))","v":{"v":0.06129509625000065,"d":"6.1%"}},null,"Variation caused by Operator"]
[null,null,"Gauge Capability:",{"$f":"SQRT(D31^2+D32^2)","v":{"v":1.306713095830217,"d":"1.31"}},{"v":0.16333913697877714,"d":"16.3%"},null,"Overall Gauge RnR Capability"]
[]
[]
[null,"Repeatability:",null,"Repeatability is the variation in measurements obtained with one measurement instrument when used several times by an appraiser while measuring the identical characteristic on the same part."]
[]
[]
[null,"Reproducibility:",null,"Reproducibility is the variation in the average of the measurements made by different appraisers using the same measuring instrument when measuring the identical characteristic on the same part."]
[]
[]
[null,"Stability:",null,"Stability is the total variation in the measurements obtained with a measurement system on the same master or parts when measuring a single characteristic over an extended time period."]
[]
[]
[{"$nulls":17},"."]

{"sheet":"K-123","index":4,"n_rows":45,"n_cols":18,"rows_kept":45,"merged":[[2,1,2,16],[4,1,4,3],[4,4,4,10],[5,1,5,3],[5,5,5,7],[6,1,6,3],[6,5,6,7],[6,13,6,14],[7,13,7,14],[8,1,8,3],[8,4,8,6],[8,13,8,14],[10,2,10,6],[10,7,10,11],[10,12,10,16],[11,2,12,2],[11,3,12,3],[11,4,12,5],[11,6,12,6],[11,7,12,8],[11,9,12,9],[11,10,12,10],[11,11,12,11],[11,12,12,13],[11,14,12,14],[11,15,12,15],[11,16,12,16],[23,4,23,5],[23,7,23,8],[23,12,23,13],[25,4,25,5],[25,7,25,8],[25,12,25,13],[26,7,26,8],[26,12,26,13],[29,7,29,9],[29,12,29,14],[30,4,30,5],[31,4,31,5],[32,4,32,5],[35,1,35,2],[35,3,36,16],[38,1,38,2],[38,3,39,16],[41,1,41,2],[41,3,42,16]]}
[]
[]
[null,"Klippel QC Gauge Repeatability & Reproducibility Report"]
[]
[null,"Model Name:",null,null,"SO Klippel QC -- Play3 PR Stillness deviations"]
[null,"Ambient Temperature:",null,null,"     ","℃"]
[null,"Relative Humidity:",{"$nulls":3},"%",{"$nulls":7},"SPEC (Hz):",null,0]
[{"$nulls":13},"Tolerance (%):"]
[null,"Measurement date:",null,null,"2014.04.10",{"$nulls":8},"Tolerance (mm):",null,10,-10]
[]
[null,"Operators","A",{"$nulls":4},"B",{"$nulls":4},"C"]
[null,"Trails",1,2,3,null,"Range",1,null,2,3,"Range",1,null,2,3,"Range"]
[null,"Sample"]
[null,1,{"v":-8.7313954,"d":"-8.73"},{"v":-10.533382,"d":"-10.53"},{"v":-11.205781,"d":"-11.21"},null,{"$f":"MAX(C14:F14)-MIN(C14:F14)","v":{"v":2.4743855999999997,"d":"2.47"}},null,{"v":-10.04622,"d":"-10.05"},{"v":-10.633604,"d":"-10.63"},{"v":-11.246927,"d":"-11.25"},{"$f":"MAX(H14:K14)-MIN(H14:K14)","v":{"v":1.2007069999999995,"d":"1.20"}},null,{"v":-10.513577,"d":"-10.51"},{"v":-11.157997,"d":"-11.16"},{"v":-10.81116,"d":"-10.81"},{"$f":"MAX(M14:P14)-MIN(M14:P14)","v":{"v":0.6444200000000002,"d":"0.64"}}]
[null,2,{"v":-8.6926805,"d":"-8.69"},{"v":-10.427366,"d":"-10.43"},{"v":-10.64469,"d":"-10.64"},null,{"$f":"MAX(C15:F15)-MIN(C15:F15)","v":{"v":1.9520095000000008,"d":"1.95"}},null,{"v":-8.7565071,"d":"-8.76"},{"v":-10.545573,"d":"-10.55"},{"v":-11.449513,"d":"-11.45"},{"$f":"MAX(H15:K15)-MIN(H15:K15)","v":{"v":2.6930058999999993,"d":"2.69"}},null,{"v":-10.014941,"d":"-10.01"},{"v":-10.556018,"d":"-10.56"},{"v":-10.999594,"d":"-11.00"},{"$f":"MAX(M15:P15)-MIN(M15:P15)","v":{"v":0.9846529999999998,"d":"0.98"}}]
[null,3,{"v":-12.892849,"d":"-12.89"},{"v":-15.947702,"d":"-15.95"},{"v":-17.455982,"d":"-17.46"},null,{"$f":"MAX(C16:F16)-MIN(C16:F16)","v":{"v":4.563132999999999,"d":"4.56"}},null,{"v":-13.307342,"d":"-13.31"},{"v":-17.275337,"d":"-17.28"},{"v":-18.643527,"d":"-18.64"},{"$f":"MAX(H16:K16)-MIN(H16:K16)","v":{"v":5.336184999999999,"d":"5.34"}},null,{"v":-17.407744,"d":"-17.41"},{"v":-18.50066,"d":"-18.50"},{"v":-18.839034,"d":"-18.84"},{"$f":"MAX(M16:P16)-MIN(M16:P16)","v":{"v":1.4312900000000006,"d":"1.43"}}]
[null,4,{"v":-8.8483016,"d":"-8.85"},{"v":-9.989284,"d":"-9.99"},{"v":-10.516713,"d":"-10.52"},null,{"v":1.6684114,"d":"1.67"},null,{"v":-10.873758,"d":"-10.87"},{"v":-11.062057,"d":"-11.06"},{"v":-11.605835,"d":"-11.61"},{"v":0.7320770000000003,"d":"0.73"},null,{"v":-11.255299,"d":"-11.26"},{"v":-10.865265,"d":"-10.87"},{"v":-11.954665,"d":"-11.95"},{"v":1.0893999999999995,"d":"1.09"}]
[null,5,{"v":-12.625491,"d":"-12.63"},{"v":-14.556147,"d":"-14.56"},{"v":-14.305547,"d":"-14.31"},null,{"v":1.930655999999999,"d":"1.93"},null,{"v":-13.154816,"d":"-13.15"},{"v":-14.320801,"d":"-14.32"},{"v":-14.080181,"d":"-14.08"},{"v":1.1659849999999992,"d":"1.17"},null,{"v":-12.902021,"d":"-12.90"},{"v":-14.138638,"d":"-14.14"},{"v":-14.127006,"d":"-14.13"},{"v":1.2366170000000007,"d":"1.24"}]
[null,6,{"v":-5.9431376,"d":"-5.94"},{"v":-8.6428327,"d":"-8.64"},{"v":-9.0924486,"d":"-9.09"},null,{"v":3.149311000000001,"d":"3.15"},null,{"v":-7.0164592,"d":"-7.02"},{"v":-9.6383182,"d":"-9.64"},{"v":-9.7868958,"d":"-9.79"},{"v":2.7704366,"d":"2.77"},null,{"v":-8.1758743,"d":"-8.18"},{"v":-9.2131017,"d":"-9.21"},{"v":-10.147596,"d":"-10.15"},{"v":1.9717216999999998,"d":"1.97"}]
[null,7,{"v":-10.40681,"d":"-10.41"},{"v":-11.777096,"d":"-11.78"},{"v":-12.505395,"d":"-12.51"},null,{"v":2.098585,"d":"2.10"},null,{"v":-11.303059,"d":"-11.30"},{"v":-12.13064,"d":"-12.13"},{"v":-12.568417,"d":"-12.57"},{"v":1.2653580000000009,"d":"1.27"},null,{"v":-10.856019,"d":"-10.86"},{"v":-11.629092,"d":"-11.63"},{"v":-12.280146,"d":"-12.28"},{"v":1.4241270000000004,"d":"1.42"}]
[null,8,{"v":-8.4371792,"d":"-8.44"},{"v":-9.6502622,"d":"-9.65"},{"v":-10.022719,"d":"-10.02"},null,{"v":1.5855398000000012,"d":"1.59"},null,{"v":-10.462413,"d":"-10.46"},{"v":-11.066844,"d":"-11.07"},{"v":-11.09978,"d":"-11.10"},{"v":0.6373670000000011,"d":"0.64"},null,{"v":-10.667657,"d":"-10.67"},{"v":-10.433139,"d":"-10.43"},{"v":-10.693529,"d":"-10.69"},{"v":0.26038999999999923,"d":"0.26"}]
[null,9,{"v":-9.9438732,"d":"-9.94"},{"v":-11.517475,"d":"-11.52"},{"v":-12.102627,"d":"-12.10"},null,{"v":2.1587537999999995,"d":"2.16"},null,{"v":-11.179938,"d":"-11.18"},{"v":-11.881972,"d":"-11.88"},{"v":-11.510131,"d":"-11.51"},{"v":0.7020339999999994,"d":"0.70"},null,{"v":-11.45685,"d":"-11.46"},{"v":-10.955397,"d":"-10.96"},{"v":-11.943937,"d":"-11.94"},{"v":0.9885400000000004,"d":"0.99"}]
[null,10,{"v":-13.104389,"d":"-13.10"},{"v":-14.492214,"d":"-14.49"},{"v":-15.429425,"d":"-15.43"},null,{"v":2.3250360000000008,"d":"2.33"},null,{"v":-13.589447,"d":"-13.59"},{"v":-14.400379,"d":"-14.40"},{"v":-14.371245,"d":"-14.37"},{"v":0.8109319999999993,"d":"0.81"},null,{"v":-14.523133,"d":"-14.52"},{"v":-13.951492,"d":"-13.95"},{"v":-14.800747,"d":"-14.80"},{"v":0.8492549999999994,"d":"0.85"}]
[null,"Totals: ",{"$f":"SUM(C14:C23)","v":{"v":-99.6261065,"d":"-99.63"}},{"$f":"SUM(D14:D23)","v":{"v":-117.5337609,"d":"-117.53"}},{"$f":"SUM(E14:F23)","v":{"v":-123.2813276,"d":"-123.28"}},null,{"$f":"SUM(G14:G23)","v":{"v":23.9058211,"d":"23.91"}},{"$f":"SUM(H14:I23)","v":{"v":-109.6899593,"d":"-109.69"}},null,{"$f":"SUM(J14:J23)","v":{"v":-122.95552520000001,"d":"-122.96"}},{"$f":"SUM(K14:K23)","v":{"v":-126.36245179999999,"d":"-126.36"}},{"$f":"SUM(L14:L23)","v":{"v":17.3140875,"d":"17.31"}},{"$f":"SUM(M14:N23)","v":{"v":-117.77311530000001,"d":"-117.77"}},null,{"$f":"SUM(O14:O23)","v":{"v":-121.40079970000001,"d":"-121.40"}},{"$f":"SUM(P14:P23)","v":{"v":-126.597414,"d":"-126.60"}},{"$f":"SUM(Q14:Q23)","v":{"v":10.8804137,"d":"10.88"}}]
[]
[null,null,"Sum",{"$f":"SUM(C24:F24)","v":{"v":-340.441195,"d":"-340.44"}},"Ave Ra",null,{"$f":"AVERAGE(G14:G23)","v":{"v":2.39058211,"d":"2.39"}},"Sum",null,{"$f":"SUM(H24:K24)","v":{"v":-359.0079363,"d":"-359.01"}},"Ave Rb",{"$f":"AVERAGE(L14:L23)","v":{"v":1.73140875,"d":"1.73"}},"Sum",null,{"$f":"SUM(M24:P24)","v":{"v":-365.77132900000004,"d":"-365.77"}},"Ave Rc",{"$f":"AVERAGE(Q14:Q23)","v":{"v":1.08804137,"d":"1.09"}}]
[null,null,"X Average",{"$f":"D26/(3*MAX(B14:B23))","v":{"v":-11.348039833333333,"d":"-11.35"}},{"$nulls":3},"X Average",null,{"$f":"J26/(3*MAX(B14:B23))","v":{"v":-11.96693121,"d":"-11.97"}},null,null,"X Average",null,{"$f":"O26/(3*(MAX(B14:B23)))","v":{"v":-12.192377633333335,"d":"-12.19"}}]
[]
[null,null,"Average R: ",{"$f":"AVERAGE(G26,L26,Q26)","v":{"v":1.7366774100000002,"d":"1.74"}},null,"D4=",2.58]
[null,null,"UCL:",{"$f":"D29*G29","v":{"v":4.480627717800001,"d":"4.48"}},null,"K1=",3.05,"for 3 trials.",null,null,"K2=",2.7,"for 3 appraisers."]
[null,null,"Repeatability:",{"$f":"3.05*D29","v":{"v":5.2968661005,"d":"5.30"}},{"$f":"D31/($P$9+ABS($Q$9))","v":{"v":0.264843305025,"d":"26.5%"}},null,"Variation caused by Equipment"]
[null,null,"Reproducibility:",{"$f":"L30*(MAX(D27,J27,O27)-MIN(D27,J27,O27))","v":{"v":2.279712060000005,"d":"2.28"}},{"$f":"D32/($P$9+ABS($Q$9))","v":{"v":0.11398560300000024,"d":"11.4%"}},null,"Variation caused by Operator"]
[null,null,"Gauge Capability:",{"$f":"SQRT(D31^2+D32^2)","v":{"v":5.766617514898621,"d":"5.77"}},{"v":0.28833087574493105,"d":"28.8%"},null,"Overall Gauge RnR Capability"]
[]
[]
[null,"Repeatability:",null,"Repeatability is the variation in measurements obtained with one measurement instrument when used several times by an appraiser while measuring the identical characteristic on the same part."]
[]
[]
[null,"Reproducibility:",null,"Reproducibility is the variation in the average of the measurements made by different appraisers using the same measuring instrument when measuring the identical characteristic on the same part."]
[]
[]
[null,"Stability:",null,"Stability is the total variation in the measurements obtained with a measurement system on the same master or parts when measuring a single characteristic over an extended time period."]
[]
[]
[{"$nulls":17},"."]