{"text_format":"3","workbook":"xlsx","n_sheets":2,"sheets":["DUT","Data"],"not_rendered":{"charts":2},"read":"whole","date_system":"1900"}

{"sheet":"DUT","index":0,"n_rows":140,"n_cols":20,"rows_kept":140,"merged":[[23,4,23,5],[23,18,23,19],[24,2,24,3],[26,2,26,3],[28,2,28,3],[30,2,30,3],[30,10,30,11]]}
{"$rows_empty":23}
[{"$nulls":6},"Spec",{"$nulls":11},"Spec"]
[null,null,"Dip delta (-)",null,{"$f":"MIN(I38:I132)","v":{"v":0,"d":"0.00"}},{"$f":"IF(E25<-3,\"Fail\",\"Pass\")","v":"Pass"},"> -3.0dB",{"$nulls":7},"Mic 1",{"$f":"(AVERAGE(Data!E58:E70)-AVERAGE(Data!F58:F70))-(AVERAGE(Data!AU58:AU70)-AVERAGE(Data!AV58:AV70))","v":{"$error":"#DIV/0!"}},null,{"$f":"IF(AND(P25<T25,P25>(0-T25)), \"Pass\", \"Fail\")","v":{"$error":"#DIV/0!"}},"±",1.5]
[{"$nulls":14},"Mic 2",{"$f":"(AVERAGE(Data!H$58:H$70)-AVERAGE(Data!I$58:I$70))-(AVERAGE(Data!AX$58:AX$70)-AVERAGE(Data!AY$58:AY$70))","v":{"$error":"#DIV/0!"}},null,{"$f":"IF(AND(P26<T26,P26>(0-T26)), \"Pass\", \"Fail\")","v":{"$error":"#DIV/0!"}},"±",1.5]
[null,null,"Peak delta (+)",null,{"$f":"MAX(I38:I132)","v":{"v":0,"d":"0.00"}},{"$f":"IF(E27>3,\"Fail\",\"Pass\")","v":"Pass"},"< 3.0dB",{"$nulls":7},"Mic 3",{"$f":"(AVERAGE(Data!K$58:K$70)-AVERAGE(Data!L$58:L$70))-(AVERAGE(Data!BA$58:BA$70)-AVERAGE(Data!BB$58:BB$70))","v":{"$error":"#DIV/0!"}},null,{"$error":"#DIV/0!"},"±",1.5]
[{"$nulls":14},"Mic 4",{"$f":"(AVERAGE(Data!N$58:N$70)-AVERAGE(Data!O$58:O$70))-(AVERAGE(Data!BD$58:BD$70)-AVERAGE(Data!BE$58:BE$70))","v":{"$error":"#DIV/0!"}},null,{"$error":"#DIV/0!"},"±",1.5]
[null,null,"Delta Avg (-)",null,{"$f":"AVERAGE(I38:I132)","v":{"v":0,"d":"0.00"}},{"$f":"IF(E29<-1.5,\"Fail\",\"Pass\")","v":"Pass"},"> -1.5dB",{"$nulls":7},"Mic 5",{"$f":"(AVERAGE(Data!Q$58:Q$70)-AVERAGE(Data!R$58:R$70))-(AVERAGE(Data!BG$58:BG$70)-AVERAGE(Data!BH$58:BH$70))","v":{"$error":"#DIV/0!"}},null,{"$error":"#DIV/0!"},"±",1.5]
[{"$nulls":14},"Mic 6",{"$f":"(AVERAGE(Data!T$58:T$70)-AVERAGE(Data!U$58:U$70))-(AVERAGE(Data!BK$58:BK$70)-AVERAGE(Data!BJ$58:BJ$70))","v":{"$error":"#DIV/0!"}},null,{"$error":"#DIV/0!"},"±",1.5]
[null,null,"SS",null,{"$f":"SQRT(SUMSQ(I38:I132)/COUNT(I38:I132))","v":{"v":0,"d":"0.00"}},{"$f":"IF(E31>1,\"Fail\",\"Pass\")","v":"Pass"},"< 1.0",null,null,"Final Result : ",{"$f":"IF(AND(F25=\"Pass\",F27=\"Pass\",F29=\"Pass\",F31=\"Pass\",R25=\"Pass\",R26=\"Pass\",R27=\"Pass\",R28=\"Pass\",R29=\"Pass\",R30=\"Pass\"),\"Pass\",\"Fail\")","v":{"$error":"#DIV/0!"}}]
[]
[]
[]
["Freq","REF before","REF after","DUT before","DUT after","Delta Before","Delta After",null,"Final Delta"]
[{"$f":"Data!A2","v":0},{"$f":"Data!B2","v":0},{"$f":"Data!AR2","v":0},{"$f":"Data!C2","v":0},{"$f":"Data!AS2","v":0},{"$f":"D36-B36","v":0},0,null,{"$f":"G36-F36","v":0}]
[{"$f":"Data!A3","v":0},{"$f":"Data!B3","v":0},{"$f":"Data!AR3","v":0},{"$f":"Data!C3","v":0},{"$f":"Data!AS3","v":0},0,0,null,0]
[{"$f":"Data!A4","v":0},{"$f":"Data!B4","v":0},{"$f":"Data!AR4","v":0},{"$f":"Data!C4","v":0},{"$f":"Data!AS4","v":0},0,0,null,0]
[{"$f":"Data!A5","v":0},{"$f":"Data!B5","v":0},{"$f":"Data!AR5","v":0},{"$f":"Data!C5","v":0},{"$f":"Data!AS5","v":0},0,0,null,0]
[{"$f":"Data!A6","v":0},{"$f":"Data!B6","v":0},{"$f":"Data!AR6","v":0},{"$f":"Data!C6","v":0},{"$f":"Data!AS6","v":0},0,0,null,0]
[{"$f":"Data!A7","v":0},{"$f":"Data!B7","v":0},{"$f":"Data!AR7","v":0},{"$f":"Data!C7","v":0},{"$f":"Data!AS7","v":0},0,0,null,0]
[{"$f":"Data!A8","v":0},{"$f":"Data!B8","v":0},{"$f":"Data!AR8","v":0},{"$f":"Data!C8","v":0},{"$f":"Data!AS8","v":0},0,0,null,0]
[{"$f":"Data!A9","v":0},{"$f":"Data!B9","v":0},{"$f":"Data!AR9","v":0},{"$f":"Data!C9","v":0},{"$f":"Data!AS9","v":0},0,0,null,0]
[{"$f":"Data!A10","v":0},{"$f":"Data!B10","v":0},{"$f":"Data!AR10","v":0},{"$f":"Data!C10","v":0},{"$f":"Data!AS10","v":0},0,0,null,0]
[{"$f":"Data!A11","v":0},{"$f":"Data!B11","v":0},{"$f":"Data!AR11","v":0},{"$f":"Data!C11","v":0},{"$f":"Data!AS11","v":0},0,0,null,0]
[{"$f":"Data!A12","v":0},{"$f":"Data!B12","v":0},{"$f":"Data!AR12","v":0},{"$f":"Data!C12","v":0},{"$f":"Data!AS12","v":0},0,0,null,0]
[{"$f":"Data!A13","v":0},{"$f":"Data!B13","v":0},{"$f":"Data!AR13","v":0},{"$f":"Data!C13","v":0},{"$f":"Data!AS13","v":0},0,0,null,0]
[{"$f":"Data!A14","v":0},{"$f":"Data!B14","v":0},{"$f":"Data!AR14","v":0},{"$f":"Data!C14","v":0},{"$f":"Data!AS14","v":0},0,0,null,0]
[{"$f":"Data!A15","v":0},{"$f":"Data!B15","v":0},{"$f":"Data!AR15","v":0},{"$f":"Data!C15","v":0},{"$f":"Data!AS15","v":0},0,0,null,0]
[{"$f":"Data!A16","v":0},{"$f":"Data!B16","v":0},{"$f":"Data!AR16","v":0},{"$f":"Data!C16","v":0},{"$f":"Data!AS16","v":0},0,0,null,0]
[{"$f":"Data!A17","v":0},{"$f":"Data!B17","v":0},{"$f":"Data!AR17","v":0},{"$f":"Data!C17","v":0},{"$f":"Data!AS17","v":0},0,0,null,0]
[{"$f":"Data!A18","v":0},{"$f":"Data!B18","v":0},{"$f":"Data!AR18","v":0},{"$f":"Data!C18","v":0},{"$f":"Data!AS18","v":0},0,0,null,0]
[{"$f":"Data!A19","v":0},{"$f":"Data!B19","v":0},{"$f":"Data!AR19","v":0},{"$f":"Data!C19","v":0},{"$f":"Data!AS19","v":0},0,0,null,0]
[{"$f":"Data!A20","v":0},{"$f":"Data!B20","v":0},{"$f":"Data!AR20","v":0},{"$f":"Data!C20","v":0},{"$f":"Data!AS20","v":0},0,0,null,0]
[{"$f":"Data!A21","v":0},{"$f":"Data!B21","v":0},{"$f":"Data!AR21","v":0},{"$f":"Data!C21","v":0},{"$f":"Data!AS21","v":0},0,0,null,0]
[{"$f":"Data!A22","v":0},{"$f":"Data!B22","v":0},{"$f":"Data!AR22","v":0},{"$f":"Data!C22","v":0},{"$f":"Data!AS22","v":0},0,0,null,0]
[{"$f":"Data!A23","v":0},{"$f":"Data!B23","v":0},{"$f":"Data!AR23","v":0},{"$f":"Data!C23","v":0},{"$f":"Data!AS23","v":0},0,0,null,0]
[{"$f":"Data!A24","v":0},{"$f":"Data!B24","v":0},{"$f":"Data!AR24","v":0},{"$f":"Data!C24","v":0},{"$f":"Data!AS24","v":0},0,0,null,0]
[{"$f":"Data!A25","v":0},{"$f":"Data!B25","v":0},{"$f":"Data!AR25","v":0},{"$f":"Data!C25","v":0},{"$f":"Data!AS25","v":0},0,0,null,0]
[{"$f":"Data!A26","v":0},{"$f":"Data!B26","v":0},{"$f":"Data!AR26","v":0},{"$f":"Data!C26","v":0},{"$f":"Data!AS26","v":0},0,0,null,0]
[{"$f":"Data!A27","v":0},{"$f":"Data!B27","v":0},{"$f":"Data!AR27","v":0},{"$f":"Data!C27","v":0},{"$f":"Data!AS27","v":0},0,0,null,0]
[{"$f":"Data!A28","v":0},{"$f":"Data!B28","v":0},{"$f":"Data!AR28","v":0},{"$f":"Data!C28","v":0},{"$f":"Data!AS28","v":0},0,0,null,0]
[{"$f":"Data!A29","v":0},{"$f":"Data!B29","v":0},{"$f":"Data!AR29","v":0},{"$f":"Data!C29","v":0},{"$f":"Data!AS29","v":0},0,0,null,0]
[{"$f":"Data!A30","v":0},{"$f":"Data!B30","v":0},{"$f":"Data!AR30","v":0},{"$f":"Data!C30","v":0},{"$f":"Data!AS30","v":0},0,0,null,0]
[{"$f":"Data!A31","v":0},{"$f":"Data!B31","v":0},{"$f":"Data!AR31","v":0},{"$f":"Data!C31","v":0},{"$f":"Data!AS31","v":0},0,0,null,0]
[{"$f":"Data!A32","v":0},{"$f":"Data!B32","v":0},{"$f":"Data!AR32","v":0},{"$f":"Data!C32","v":0},{"$f":"Data!AS32","v":0},0,0,null,0]
[{"$f":"Data!A33","v":0},{"$f":"Data!B33","v":0},{"$f":"Data!AR33","v":0},{"$f":"Data!C33","v":0},{"$f":"Data!AS33","v":0},0,0,null,0]
[{"$f":"Data!A34","v":0},{"$f":"Data!B34","v":0},{"$f":"Data!AR34","v":0},{"$f":"Data!C34","v":0},{"$f":"Data!AS34","v":0},{"$f":"D68-B68","v":0},0,null,0]
[{"$f":"Data!A35","v":0},{"$f":"Data!B35","v":0},{"$f":"Data!AR35","v":0},{"$f":"Data!C35","v":0},{"$f":"Data!AS35","v":0},0,0,null,0]
[{"$f":"Data!A36","v":0},{"$f":"Data!B36","v":0},{"$f":"Data!AR36","v":0},{"$f":"Data!C36","v":0},{"$f":"Data!AS36","v":0},0,0,null,0]
[{"$f":"Data!A37","v":0},{"$f":"Data!B37","v":0},{"$f":"Data!AR37","v":0},{"$f":"Data!C37","v":0},{"$f":"Data!AS37","v":0},0,0,null,0]
[{"$f":"Data!A38","v":0},{"$f":"Data!B38","v":0},{"$f":"Data!AR38","v":0},{"$f":"Data!C38","v":0},{"$f":"Data!AS38","v":0},0,0,null,0]
[{"$f":"Data!A39","v":0},{"$f":"Data!B39","v":0},{"$f":"Data!AR39","v":0},{"$f":"Data!C39","v":0},{"$f":"Data!AS39","v":0},0,0,null,0]
[{"$f":"Data!A40","v":0},{"$f":"Data!B40","v":0},{"$f":"Data!AR40","v":0},{"$f":"Data!C40","v":0},{"$f":"Data!AS40","v":0},0,0,null,0]
[{"$f":"Data!A41","v":0},{"$f":"Data!B41","v":0},{"$f":"Data!AR41","v":0},{"$f":"Data!C41","v":0},{"$f":"Data!AS41","v":0},0,0,null,0]
[{"$f":"Data!A42","v":0},{"$f":"Data!B42","v":0},{"$f":"Data!AR42","v":0},{"$f":"Data!C42","v":0},{"$f":"Data!AS42","v":0},0,0,null,0]
[{"$f":"Data!A43","v":0},{"$f":"Data!B43","v":0},{"$f":"Data!AR43","v":0},{"$f":"Data!C43","v":0},{"$f":"Data!AS43","v":0},0,0,null,0]
[{"$f":"Data!A44","v":0},{"$f":"Data!B44","v":0},{"$f":"Data!AR44","v":0},{"$f":"Data!C44","v":0},{"$f":"Data!AS44","v":0},0,0,null,0]
[{"$f":"Data!A45","v":0},{"$f":"Data!B45","v":0},{"$f":"Data!AR45","v":0},{"$f":"Data!C45","v":0},{"$f":"Data!AS45","v":0},0,0,null,0]
[{"$f":"Data!A46","v":0},{"$f":"Data!B46","v":0},{"$f":"Data!AR46","v":0},{"$f":"Data!C46","v":0},{"$f":"Data!AS46","v":0},0,0,null,0]
[{"$f":"Data!A47","v":0},{"$f":"Data!B47","v":0},{"$f":"Data!AR47","v":0},{"$f":"Data!C47","v":0},{"$f":"Data!AS47","v":0},0,0,null,0]
[{"$f":"Data!A48","v":0},{"$f":"Data!B48","v":0},{"$f":"Data!AR48","v":0},{"$f":"Data!C48","v":0},{"$f":"Data!AS48","v":0},0,0,null,0]
[{"$f":"Data!A49","v":0},{"$f":"Data!B49","v":0},{"$f":"Data!AR49","v":0},{"$f":"Data!C49","v":0},{"$f":"Data!AS49","v":0},0,0,null,0]
[{"$f":"Data!A50","v":0},{"$f":"Data!B50","v":0},{"$f":"Data!AR50","v":0},{"$f":"Data!C50","v":0},{"$f":"Data!AS50","v":0},0,0,null,0]
[{"$f":"Data!A51","v":0},{"$f":"Data!B51","v":0},{"$f":"Data!AR51","v":0},{"$f":"Data!C51","v":0},{"$f":"Data!AS51","v":0},0,0,null,0]
[{"$f":"Data!A52","v":0},{"$f":"Data!B52","v":0},{"$f":"Data!AR52","v":0},{"$f":"Data!C52","v":0},{"$f":"Data!AS52","v":0},0,0,null,0]
[{"$f":"Data!A53","v":0},{"$f":"Data!B53","v":0},{"$f":"Data!AR53","v":0},{"$f":"Data!C53","v":0},{"$f":"Data!AS53","v":0},0,0,null,0]
[{"$f":"Data!A54","v":0},{"$f":"Data!B54","v":0},{"$f":"Data!AR54","v":0},{"$f":"Data!C54","v":0},{"$f":"Data!AS54","v":0},0,0,null,0]
[{"$f":"Data!A55","v":0},{"$f":"Data!B55","v":0},{"$f":"Data!AR55","v":0},{"$f":"Data!C55","v":0},{"$f":"Data!AS55","v":0},0,0,null,0]
[{"$f":"Data!A56","v":0},{"$f":"Data!B56","v":0},{"$f":"Data!AR56","v":0},{"$f":"Data!C56","v":0},{"$f":"Data!AS56","v":0},0,0,null,0]
[{"$f":"Data!A57","v":0},{"$f":"Data!B57","v":0},{"$f":"Data!AR57","v":0},{"$f":"Data!C57","v":0},{"$f":"Data!AS57","v":0},0,0,null,0]
[{"$f":"Data!A58","v":0},{"$f":"Data!B58","v":0},{"$f":"Data!AR58","v":0},{"$f":"Data!C58","v":0},{"$f":"Data!AS58","v":0},0,0,null,0]
[{"$f":"Data!A59","v":0},{"$f":"Data!B59","v":0},{"$f":"Data!AR59","v":0},{"$f":"Data!C59","v":0},{"$f":"Data!AS59","v":0},0,0,null,0]
[{"$f":"Data!A60","v":0},{"$f":"Data!B60","v":0},{"$f":"Data!AR60","v":0},{"$f":"Data!C60","v":0},{"$f":"Data!AS60","v":0},0,0,null,0]
[{"$f":"Data!A61","v":0},{"$f":"Data!B61","v":0},{"$f":"Data!AR61","v":0},{"$f":"Data!C61","v":0},{"$f":"Data!AS61","v":0},0,0,null,0]
[{"$f":"Data!A62","v":0},{"$f":"Data!B62","v":0},{"$f":"Data!AR62","v":0},{"$f":"Data!C62","v":0},{"$f":"Data!AS62","v":0},0,0,null,0]
[{"$f":"Data!A63","v":0},{"$f":"Data!B63","v":0},{"$f":"Data!AR63","v":0},{"$f":"Data!C63","v":0},{"$f":"Data!AS63","v":0},0,0,null,0]
[{"$f":"Data!A64","v":0},{"$f":"Data!B64","v":0},{"$f":"Data!AR64","v":0},{"$f":"Data!C64","v":0},{"$f":"Data!AS64","v":0},0,0,null,0]
[{"$f":"Data!A65","v":0},{"$f":"Data!B65","v":0},{"$f":"Data!AR65","v":0},{"$f":"Data!C65","v":0},{"$f":"Data!AS65","v":0},0,0,null,0]
[{"$f":"Data!A66","v":0},{"$f":"Data!B66","v":0},{"$f":"Data!AR66","v":0},{"$f":"Data!C66","v":0},{"$f":"Data!AS66","v":0},{"$f":"D100-B100","v":0},0,null,{"$f":"G100-F100","v":0}]
[{"$f":"Data!A67","v":0},{"$f":"Data!B67","v":0},{"$f":"Data!AR67","v":0},{"$f":"Data!C67","v":0},{"$f":"Data!AS67","v":0},0,0,null,0]
[{"$f":"Data!A68","v":0},{"$f":"Data!B68","v":0},{"$f":"Data!AR68","v":0},{"$f":"Data!C68","v":0},{"$f":"Data!AS68","v":0},0,0,null,0]
[{"$f":"Data!A69","v":0},{"$f":"Data!B69","v":0},{"$f":"Data!AR69","v":0},{"$f":"Data!C69","v":0},{"$f":"Data!AS69","v":0},0,0,null,0]
[{"$f":"Data!A70","v":0},{"$f":"Data!B70","v":0},{"$f":"Data!AR70","v":0},{"$f":"Data!C70","v":0},{"$f":"Data!AS70","v":0},0,0,null,0]
[{"$f":"Data!A71","v":0},{"$f":"Data!B71","v":0},{"$f":"Data!AR71","v":0},{"$f":"Data!C71","v":0},{"$f":"Data!AS71","v":0},0,0,null,0]
[{"$f":"Data!A72","v":0},{"$f":"Data!B72","v":0},{"$f":"Data!AR72","v":0},{"$f":"Data!C72","v":0},{"$f":"Data!AS72","v":0},0,0,null,0]
[{"$f":"Data!A73","v":0},{"$f":"Data!B73","v":0},{"$f":"Data!AR73","v":0},{"$f":"Data!C73","v":0},{"$f":"Data!AS73","v":0},0,0,null,0]
[{"$f":"Data!A74","v":0},{"$f":"Data!B74","v":0},{"$f":"Data!AR74","v":0},{"$f":"Data!C74","v":0},{"$f":"Data!AS74","v":0},0,0,null,0]
[{"$f":"Data!A75","v":0},{"$f":"Data!B75","v":0},{"$f":"Data!AR75","v":0},{"$f":"Data!C75","v":0},{"$f":"Data!AS75","v":0},0,0,null,0]
[{"$f":"Data!A76","v":0},{"$f":"Data!B76","v":0},{"$f":"Data!AR76","v":0},{"$f":"Data!C76","v":0},{"$f":"Data!AS76","v":0},0,0,null,0]
[{"$f":"Data!A77","v":0},{"$f":"Data!B77","v":0},{"$f":"Data!AR77","v":0},{"$f":"Data!C77","v":0},{"$f":"Data!AS77","v":0},0,0,null,0]
[{"$f":"Data!A78","v":0},{"$f":"Data!B78","v":0},{"$f":"Data!AR78","v":0},{"$f":"Data!C78","v":0},{"$f":"Data!AS78","v":0},0,0,null,0]
[{"$f":"Data!A79","v":0},{"$f":"Data!B79","v":0},{"$f":"Data!AR79","v":0},{"$f":"Data!C79","v":0},{"$f":"Data!AS79","v":0},0,0,null,0]
[{"$f":"Data!A80","v":0},{"$f":"Data!B80","v":0},{"$f":"Data!AR80","v":0},{"$f":"Data!C80","v":0},{"$f":"Data!AS80","v":0},0,0,null,0]
[{"$f":"Data!A81","v":0},{"$f":"Data!B81","v":0},{"$f":"Data!AR81","v":0},{"$f":"Data!C81","v":0},{"$f":"Data!AS81","v":0},0,0,null,0]
[{"$f":"Data!A82","v":0},{"$f":"Data!B82","v":0},{"$f":"Data!AR82","v":0},{"$f":"Data!C82","v":0},{"$f":"Data!AS82","v":0},0,0,null,0]
[{"$f":"Data!A83","v":0},{"$f":"Data!B83","v":0},{"$f":"Data!AR83","v":0},{"$f":"Data!C83","v":0},{"$f":"Data!AS83","v":0},0,0,null,0]
[{"$f":"Data!A84","v":0},{"$f":"Data!B84","v":0},{"$f":"Data!AR84","v":0},{"$f":"Data!C84","v":0},{"$f":"Data!AS84","v":0},0,0,null,0]
[{"$f":"Data!A85","v":0},{"$f":"Data!B85","v":0},{"$f":"Data!AR85","v":0},{"$f":"Data!C85","v":0},{"$f":"Data!AS85","v":0},0,0,null,0]
[{"$f":"Data!A86","v":0},{"$f":"Data!B86","v":0},{"$f":"Data!AR86","v":0},{"$f":"Data!C86","v":0},{"$f":"Data!AS86","v":0},0,0,null,0]
[{"$f":"Data!A87","v":0},{"$f":"Data!B87","v":0},{"$f":"Data!AR87","v":0},{"$f":"Data!C87","v":0},{"$f":"Data!AS87","v":0},0,0,null,0]
[{"$f":"Data!A88","v":0},{"$f":"Data!B88","v":0},{"$f":"Data!AR88","v":0},{"$f":"Data!C88","v":0},{"$f":"Data!AS88","v":0},0,0,null,0]
[{"$f":"Data!A89","v":0},{"$f":"Data!B89","v":0},{"$f":"Data!AR89","v":0},{"$f":"Data!C89","v":0},{"$f":"Data!AS89","v":0},0,0,null,0]
[{"$f":"Data!A90","v":0},{"$f":"Data!B90","v":0},{"$f":"Data!AR90","v":0},{"$f":"Data!C90","v":0},{"$f":"Data!AS90","v":0},0,0,null,0]
[{"$f":"Data!A91","v":0},{"$f":"Data!B91","v":0},{"$f":"Data!AR91","v":0},{"$f":"Data!C91","v":0},{"$f":"Data!AS91","v":0},0,0,null,0]
[{"$f":"Data!A92","v":0},{"$f":"Data!B92","v":0},{"$f":"Data!AR92","v":0},{"$f":"Data!C92","v":0},{"$f":"Data!AS92","v":0},0,0,null,0]
[{"$f":"Data!A93","v":0},{"$f":"Data!B93","v":0},{"$f":"Data!AR93","v":0},{"$f":"Data!C93","v":0},{"$f":"Data!AS93","v":0},0,0,null,0]
[{"$f":"Data!A94","v":0},{"$f":"Data!B94","v":0},{"$f":"Data!AR94","v":0},{"$f":"Data!C94","v":0},{"$f":"Data!AS94","v":0},0,0,null,0]
[{"$f":"Data!A95","v":0},{"$f":"Data!B95","v":0},{"$f":"Data!AR95","v":0},{"$f":"Data!C95","v":0},{"$f":"Data!AS95","v":0},0,0,null,0]
[{"$f":"Data!A96","v":0},{"$f":"Data!B96","v":0},{"$f":"Data!AR96","v":0},{"$f":"Data!C96","v":0},{"$f":"Data!AS96","v":0},0,0,null,0]
[{"$f":"Data!A97","v":0},{"$f":"Data!B97","v":0},{"$f":"Data!AR97","v":0},{"$f":"Data!C97","v":0},{"$f":"Data!AS97","v":0},0,0,null,0]
[{"$f":"Data!A98","v":0},{"$f":"Data!B98","v":0},{"$f":"Data!AR98","v":0},{"$f":"Data!C98","v":0},{"$f":"Data!AS98","v":0},{"$f":"D132-B132","v":0},0,null,0]
[{"$f":"Data!A99","v":0},{"$f":"Data!B99","v":0},{"$f":"Data!AR99","v":0},{"$f":"Data!C99","v":0},{"$f":"Data!AS99","v":0},0,0,null,0]
[{"$f":"Data!A100","v":0},{"$f":"Data!B100","v":0},{"$f":"Data!AR100","v":0},{"$f":"Data!C100","v":0},{"$f":"Data!AS100","v":0},0,0,null,0]
[{"$f":"Data!A101","v":0},{"$f":"Data!B101","v":0},{"$f":"Data!AR101","v":0},{"$f":"Data!C101","v":0},{"$f":"Data!AS101","v":0},0,0,null,0]
[{"$f":"Data!A102","v":0},{"$f":"Data!B102","v":0},{"$f":"Data!AR102","v":0},{"$f":"Data!C102","v":0},{"$f":"Data!AS102","v":0},0,0,null,0]
[{"$f":"Data!A103","v":0},{"$f":"Data!B103","v":0},{"$f":"Data!AR103","v":0},{"$f":"Data!C103","v":0},{"$f":"Data!AS103","v":0},0,0,null,0]
[{"$f":"Data!A104","v":0},{"$f":"Data!B104","v":0},{"$f":"Data!AR104","v":0},{"$f":"Data!C104","v":0},{"$f":"Data!AS104","v":0},0,0,null,0]
[{"$f":"Data!A105","v":0},{"$f":"Data!B105","v":0},{"$f":"Data!AR105","v":0},{"$f":"Data!C105","v":0},{"$f":"Data!AS105","v":0},0,0,null,0]
[{"$f":"Data!A106","v":0},{"$f":"Data!B106","v":0},{"$f":"Data!AR106","v":0},{"$f":"Data!C106","v":0},{"$f":"Data!AS106","v":0},0,0,null,0]

{"sheet":"Data","index":1,"n_rows":0,"n_cols":0,"rows_kept":0}